{"text_format":"3","workbook":"xlsx","n_sheets":6,"sheets":["Diagramme ","TC_1 bis Druckminderer ","TC_2 bis Druckminderer","TC_3 bis Druckminderer ","TC_4 bis Druckminderer","Datenbank Werte "],"not_rendered":{"charts":5,"macros":1},"read":"whole","date_system":"1900"}

{"sheet":"Diagramme ","index":0,"n_rows":3,"n_cols":4,"rows_kept":3,"merged":[[6,40,7,40],[6,41,6,42],[6,43,6,44],[6,45,6,46],[6,47,6,48],[19,40,20,40]]}
[]
[]
[null,"Rohrdurchmesser",0.02,"m"]

{"sheet":"TC_1 bis Druckminderer ","index":1,"n_rows":36,"n_cols":29,"rows_kept":36,"merged":[[6,2,7,2],[6,3,7,3],[6,4,7,4],[6,5,7,5],[6,6,7,6],[6,7,7,7],[6,8,7,8],[6,9,7,9],[6,10,7,10],[6,11,7,11],[6,12,7,12],[6,13,7,13],[6,14,7,14],[6,15,7,15],[6,16,7,16],[6,17,7,17],[6,18,7,18],[6,19,7,19],[6,20,7,20],[6,21,7,21],[6,22,7,22],[6,23,7,23],[6,24,7,24],[6,25,7,25],[6,26,7,26],[6,27,7,27],[6,28,7,28]]}
[]
[null,null,"Temperatur",null,338,null,"Normdichte",0.08988]
[null,null,"Massenstrom",null,{"$f":"17.64*8","v":141.12},null,"Startdruck",{"v":20,"d":"20.00"}]
[null,null,"Rauigleit (mm)",null,{"v":0.04,"d":"4.00E-02"}]
[null,null,"Innendurchmesser (m)",null,{"$f":"'Diagramme '!C3","v":0.02}]
[]
[null,null,"Rohr oder Ventil","Länge Rohrleitung ","Innendruchmesser Rohr","Rauigkeit","Massenstrom H2 ","Massenstrom H2 ","Volumenstrom H2 ","Druck","Temperatur","Dichte","dynamische Viskosität","kinematische Viskosität","Norm Dichte","Norm Volumenstrom","Geschwindigkeit","Mach-Zahl","RE-Zahl","k/d ","Rohrreibungszahl","Kv-Wert","Widerstandsbeiwert Zeta","Durckverlust durch Komponente ","Durckverlust durch Komponente ","p_1","p_2","Delta p","Delta P aufsummiert "]
[]
["System ","Komponente ","[-]","[m]","[m]2","[m]3","[kg/h]","[kg/s]","[m^3/s]","[Pa]","[K]","[kg/m^3]","[Pa*s]","[m^2/s]","[kg/m^3]","[Nm^3/h]","[m/s]","[-]","[-]","[-]","[-]","[m^3/h]","[-]","[Pa]","[bar]","[bar]","[bar]","[Pa]","[Pa]"]
[null,"H2 Kupplung ","Ventil",null,{"$f":"IF(ISTEXT(E9),$E$5,E9)","v":0.02},{"$f":"IF(ISTEXT(F9),E4*0.001,F9)","v":{"v":4e-05,"d":"4.00E-05"}},{"$f":"17.64*8","v":141.12},{"$f":"G10/3600","v":0.0392},{"$f":"H10/L10","v":{"v":0.027620418371815808,"d":"0.028"}},{"$f":"IF(ISTEXT(AA9),$H$3*100000,AA9*100000)","v":2000000},{"$f":"IF(ISTEXT(K9),E2,K9)","v":338},{"$f":"Dichte(K10,J10)","v":{"v":1.4192399069523194,"d":"1.41924"}},{"$f":"VLOOKUP(J10*0.00001,'Datenbank Werte '!$A$1:$B$500,2,TRUE)*0.000001","v":{"v":9.7159999999999981E-6,"d":"9.72E-06"}},{"$f":"M10/L10","v":{"v":6.8459179821572027E-6,"d":"6.85E-06"}},{"$f":"IF(ISTEXT(O9),H2,O9)","v":{"v":0.08988,"d":"8.99E-02"}},{"$f":"Tabelle74[[#This Row],['[kg/h']]]/Tabelle74[[#This Row],['[kg/m^3']4]]","v":{"v":1570.0934579439252,"d":"1570.09"}},{"$f":"H10*4/(L10*PI()*E10^2)","v":{"v":87.91852228281371,"d":"87.92"}},{"$f":"Tabelle74[[#This Row],['[m/s']]]/VLOOKUP(J10*0.00001,'Datenbank Werte '!$A$1:$C$500,3,TRUE)","v":{"v":0.062190367321789425,"d":"0.06"}},{"$f":"(L10*Q10*E10)/M10","v":{"v":256849.4758831741,"d":"2.5685E+05"}},{"$f":"F10/E10","v":{"v":2E-3,"d":"2.0E-03"}},{"$f":"Rohrreibungszahl(Tabelle74[[#This Row],['[-']]],Tabelle74[[#This Row],['[-']4]],Tabelle74[[#This Row],['[-']3]],Tabelle74[[#This Row],['[m']2]],Tabelle74[[#This Row],['[m']3]])","v":"Nur bei 'Rohr' benötigt"},3.53,null,{"$f":"IF(Tabelle74[[#This Row],['[-']2]]>0,Tabelle74[[#This Row],['[-']2]]*(Tabelle74[[#This Row],['[kg/m^3']]]/2)*Tabelle74[[#This Row],['[m/s']]]^2,Druckverlust(Tabelle74[[#This Row],[Spalte1]],C10,U10,V10,P10,L10,O10,J10,K10,Q10,D10,E10))","v":{"v":121072.3779401647,"d":"121072.38"}},{"$f":"X10/10^5","v":1.210723779401647},{"$f":"J10/10^5","v":{"v":20,"d":"20.00"}},{"$f":"Z10-Y10","v":{"v":18.789276220598353,"d":"18.79"}},{"$f":"X10","v":{"v":121072.3779401647,"d":"121072.38"}},{"$f":"SUM($AB$10:AB10)","v":{"v":121072.3779401647,"d":"121072.38"}}]
[null,"Schlauch","Rohr",1,{"$f":"IF(ISTEXT(E10),$E$5,E10)","v":0.02},{"v":4e-05,"d":"4.00E-05"},141.12,0.0392,{"v":0.02938107177885136,"d":"0.029"},{"$f":"IF(ISTEXT(AA10),$H$3*100000,AA10*100000)","v":1878927.6220598354},{"$f":"IF(ISTEXT(K10),E3,K10)","v":338},{"$f":"Dichte(K11,J11)","v":{"v":1.3341923090843932,"d":"1.33419"}},{"$f":"VLOOKUP(J11*0.00001,'Datenbank Werte '!$A$1:$B$500,2,TRUE)*0.000001","v":{"v":9.7148999999999991E-6,"d":"9.71E-06"}},{"v":7.2814840363357924E-6,"d":"7.28E-06"},{"$f":"IF(ISTEXT(O10),H3,O10)","v":{"v":0.08988,"d":"8.99E-02"}},{"$f":"Tabelle74[[#This Row],['[kg/h']]]/Tabelle74[[#This Row],['[kg/m^3']4]]","v":{"v":1570.0934579439252,"d":"1570.09"}},{"$f":"H11*4/(L11*PI()*E11^2)","v":{"v":93.5228561388396,"d":"93.52"}},{"$f":"Tabelle74[[#This Row],['[m/s']]]/VLOOKUP(J11*0.00001,'Datenbank Werte '!$A$1:$C$500,3,TRUE)","v":{"v":0.06622962689529042,"d":"0.07"}},{"$f":"(L11*Q11*E11)/M11","v":{"v":256878.55847007368,"d":"2.5688E+05"}},{"v":2E-3,"d":"2.0E-03"},{"$f":"Rohrreibungszahl(Tabelle74[[#This Row],['[-']]],Tabelle74[[#This Row],['[-']4]],Tabelle74[[#This Row],['[-']3]],Tabelle74[[#This Row],['[m']2]],Tabelle74[[#This Row],['[m']3]])","v":{"v":0.024094324844793406,"d":"2.41E-02"}},null,null,{"$f":"IF(Tabelle74[[#This Row],['[-']2]]>0,Tabelle74[[#This Row],['[-']2]]*(Tabelle74[[#This Row],['[kg/m^3']]]/2)*Tabelle74[[#This Row],['[m/s']]]^2,Druckverlust(Tabelle74[[#This Row],[Spalte1]],C11,U11,V11,P11,L11,O11,J11,K11,Q11,D11,E11))","v":{"v":7029.245730423665,"d":"7029.25"}},0.07029245730423665,{"v":18.789276220598353,"d":"18.79"},{"v":18.718983763294116,"d":"18.72"},{"v":7029.245730423665,"d":"7029.25"},{"$f":"SUM($AB$10:AB11)","v":{"v":128101.62367058836,"d":"128101.62"}}]
[null,"90°Winkel","Rohr",null,0.02,{"v":4e-05,"d":"4.00E-05"},{"$f":"17.64*8","v":141.12},{"$f":"G12/3600","v":0.0392},{"v":0.029490287672061993,"d":"0.029"},1871898.3763294115,338,{"$f":"Dichte(K12,J12)","v":{"v":1.329251190626283,"d":"1.32925"}},{"$f":"VLOOKUP(J12*0.00001,'Datenbank Werte '!$A$1:$B$500,2,TRUE)*0.000001","v":{"v":9.7148999999999991E-6,"d":"9.71E-06"}},{"v":7.3085509108498737E-6,"d":"7.31E-06"},{"v":0.08988,"d":"8.99E-02"},{"$f":"Tabelle74[[#This Row],['[kg/h']]]/Tabelle74[[#This Row],['[kg/m^3']4]]","v":{"v":1570.0934579439252,"d":"1570.09"}},{"v":93.87050112421298,"d":"93.87"},{"$f":"Tabelle74[[#This Row],['[m/s']]]/VLOOKUP(J12*0.00001,'Datenbank Werte '!$A$1:$C$500,3,TRUE)","v":{"v":0.06647581695645705,"d":"0.07"}},{"v":256878.55847007368,"d":"2.5688E+05"},{"v":2E-3,"d":"2.0E-03"},{"$f":"Rohrreibungszahl(Tabelle74[[#This Row],['[-']]],Tabelle74[[#This Row],['[-']4]],Tabelle74[[#This Row],['[-']3]],Tabelle74[[#This Row],['[m']2]],Tabelle74[[#This Row],['[m']3]])","v":{"v":0.024094324844793406,"d":"2.41E-02"}},null,0.15,{"$f":"IF(Tabelle74[[#This Row],['[-']2]]>0,Tabelle74[[#This Row],['[-']2]]*(Tabelle74[[#This Row],['[kg/m^3']]]/2)*Tabelle74[[#This Row],['[m/s']]]^2,Druckverlust(Tabelle74[[#This Row],[Spalte1]],C12,U12,V12,P12,L12,O12,J12,K12,Q12,D12,E12))","v":{"v":878.4693107485906,"d":"878.47"}},{"$f":"X12/10^5","v":0.008784693107485905},{"$f":"J12/10^5","v":{"v":18.718983763294116,"d":"18.72"}},{"$f":"Z12-Y12","v":{"v":18.71019907018663,"d":"18.71"}},{"$f":"X12","v":{"v":878.4693107485906,"d":"878.47"}},{"$f":"SUM($AB$10:AB12)","v":{"v":128980.09298133696,"d":"128980.09"}}]
[null,"Rohr ","Rohr",4.8,0.02,{"v":4e-05,"d":"4.00E-05"},{"$f":"17.64*8","v":141.12},{"$f":"G13/3600","v":0.0392},{"v":0.029503994450363,"d":"0.030"},1871019.907018663,338,{"$f":"Dichte(K13,J13)","v":{"v":1.3286336555529588,"d":"1.32863"}},{"$f":"VLOOKUP(J13*0.00001,'Datenbank Werte '!$A$1:$B$500,2,TRUE)*0.000001","v":{"v":9.7148999999999991E-6,"d":"9.71E-06"}},{"v":7.3119478491283539E-6,"d":"7.31E-06"},{"v":0.08988,"d":"8.99E-02"},{"$f":"Tabelle74[[#This Row],['[kg/h']]]/Tabelle74[[#This Row],['[kg/m^3']4]]","v":{"v":1570.0934579439252,"d":"1570.09"}},{"v":93.91413115462237,"d":"93.91"},{"$f":"Tabelle74[[#This Row],['[m/s']]]/VLOOKUP(J13*0.00001,'Datenbank Werte '!$A$1:$C$500,3,TRUE)","v":{"v":0.0665067142232295,"d":"0.07"}},{"v":256878.55847007368,"d":"2.5688E+05"},{"v":2E-3,"d":"2.0E-03"},{"$f":"Rohrreibungszahl(Tabelle74[[#This Row],['[-']]],Tabelle74[[#This Row],['[-']4]],Tabelle74[[#This Row],['[-']3]],Tabelle74[[#This Row],['[m']2]],Tabelle74[[#This Row],['[m']3]])","v":{"v":0.024094324844793406,"d":"2.41E-02"}},null,null,{"$f":"IF(Tabelle74[[#This Row],['[-']2]]>0,Tabelle74[[#This Row],['[-']2]]*(Tabelle74[[#This Row],['[kg/m^3']]]/2)*Tabelle74[[#This Row],['[m/s']]]^2,Druckverlust(Tabelle74[[#This Row],[Spalte1]],C13,U13,V13,P13,L13,O13,J13,K13,Q13,D13,E13))","v":{"v":33881.54037374855,"d":"33881.54"}},0.3388154037374855,{"v":18.71019907018663,"d":"18.71"},{"v":18.371383666449145,"d":"18.37"},{"v":33881.54037374855,"d":"33881.54"},{"$f":"SUM($AB$10:AB13)","v":{"v":162861.6333550855,"d":"162861.63"}}]
[null,"90°Winkel","Rohr",null,0.02,{"v":4e-05,"d":"4.00E-05"},{"$f":"17.64*8","v":141.12},{"$f":"G14/3600","v":0.0392},{"v":0.03004265168334402,"d":"0.030"},1837138.3666449145,338,{"$f":"Dichte(K14,J14)","v":{"v":1.304811586313232,"d":"1.30481"}},{"$f":"VLOOKUP(J14*0.00001,'Datenbank Werte '!$A$1:$B$500,2,TRUE)*0.000001","v":{"v":9.7148999999999991E-6,"d":"9.71E-06"}},{"v":7.4454427764928267E-6,"d":"7.45E-06"},{"v":0.08988,"d":"8.99E-02"},{"$f":"Tabelle74[[#This Row],['[kg/h']]]/Tabelle74[[#This Row],['[kg/m^3']4]]","v":{"v":1570.0934579439252,"d":"1570.09"}},{"v":95.62873037984502,"d":"95.63"},{"$f":"Tabelle74[[#This Row],['[m/s']]]/VLOOKUP(J14*0.00001,'Datenbank Werte '!$A$1:$C$500,3,TRUE)","v":{"v":0.06772093363065294,"d":"0.07"}},{"v":256878.55847007374,"d":"2.5688E+05"},{"v":2E-3,"d":"2.0E-03"},{"$f":"Rohrreibungszahl(Tabelle74[[#This Row],['[-']]],Tabelle74[[#This Row],['[-']4]],Tabelle74[[#This Row],['[-']3]],Tabelle74[[#This Row],['[m']2]],Tabelle74[[#This Row],['[m']3]])","v":{"v":0.024094324844793406,"d":"2.41E-02"}},null,0.15,{"$f":"IF(Tabelle74[[#This Row],['[-']2]]>0,Tabelle74[[#This Row],['[-']2]]*(Tabelle74[[#This Row],['[kg/m^3']]]/2)*Tabelle74[[#This Row],['[m/s']]]^2,Druckverlust(Tabelle74[[#This Row],[Spalte1]],C14,U14,V14,P14,L14,O14,J14,K14,Q14,D14,E14))","v":{"v":894.9233663234008,"d":"894.92"}},0.008949233663234009,{"v":18.371383666449145,"d":"18.37"},{"v":18.36243443278591,"d":"18.36"},{"v":894.9233663234008,"d":"894.92"},{"$f":"SUM($AB$10:AB14)","v":{"v":163756.5567214089,"d":"163756.56"}}]
[null,"Rohr (Durchführung FRP)","Rohr",1.6,0.02,{"v":4e-05,"d":"4.00E-05"},{"$f":"17.64*8","v":141.12},{"$f":"G15/3600","v":0.0392},{"$f":"H15/L15","v":{"v":0.03005714886221975,"d":"0.030"}},{"$f":"IF(ISTEXT(AA14),$H$3*100000,AA14*100000)","v":1836243.4432785911},{"$f":"IF(ISTEXT(K14),E7,K14)","v":338},{"$f":"Dichte(K15,J15)","v":{"v":1.3041822489448536,"d":"1.30418"}},{"$f":"VLOOKUP(J15*0.00001,'Datenbank Werte '!$A$1:$B$500,2,TRUE)*0.000001","v":{"v":9.7148999999999991E-6,"d":"9.71E-06"}},{"$f":"M15/L15","v":{"v":7.4490355990198632E-6,"d":"7.45E-06"}},{"$f":"IF(ISTEXT(O14),H7,O14)","v":{"v":0.08988,"d":"8.99E-02"}},{"$f":"Tabelle74[[#This Row],['[kg/h']]]/Tabelle74[[#This Row],['[kg/m^3']4]]","v":{"v":1570.0934579439252,"d":"1570.09"}},{"$f":"H15*4/(L15*PI()*E15^2)","v":{"v":95.67487633342422,"d":"95.67"}},{"$f":"Tabelle74[[#This Row],['[m/s']]]/VLOOKUP(J15*0.00001,'Datenbank Werte '!$A$1:$C$500,3,TRUE)","v":{"v":0.06775361258651953,"d":"0.07"}},{"$f":"(L15*Q15*E15)/M15","v":{"v":256878.55847007374,"d":"2.5688E+05"}},{"$f":"F15/E15","v":{"v":2E-3,"d":"2.0E-03"}},{"$f":"Rohrreibungszahl(Tabelle74[[#This Row],['[-']]],Tabelle74[[#This Row],['[-']4]],Tabelle74[[#This Row],['[-']3]],Tabelle74[[#This Row],['[m']2]],Tabelle74[[#This Row],['[m']3]])","v":{"v":0.024094324844793406,"d":"2.41E-02"}},null,null,{"$f":"IF(Tabelle74[[#This Row],['[-']2]]>0,Tabelle74[[#This Row],['[-']2]]*(Tabelle74[[#This Row],['[kg/m^3']]]/2)*Tabelle74[[#This Row],['[m/s']]]^2,Druckverlust(Tabelle74[[#This Row],[Spalte1]],C15,U15,V15,P15,L15,O15,J15,K15,Q15,D15,E15))","v":{"v":11505.58900771191,"d":"11505.59"}},0.1150558900771191,{"v":18.36243443278591,"d":"18.36"},{"v":18.24737854270879,"d":"18.25"},{"v":11505.58900771191,"d":"11505.59"},{"$f":"SUM($AB$10:AB15)","v":{"v":175262.14572912082,"d":"175262.15"}}]
[null,"Filter","Ventil",null,0.02,{"v":4e-05,"d":"4.00E-05"},141.12,0.0392,{"v":0.030244798592734195,"d":"0.030"},1824737.8542708792,338,{"$f":"Dichte(K16,J16)","v":{"v":1.2960906279408038,"d":"1.29609"}},{"$f":"VLOOKUP(J16*0.00001,'Datenbank Werte '!$A$1:$B$500,2,TRUE)*0.000001","v":{"v":9.7148999999999991E-6,"d":"9.71E-06"}},{"v":7.4955406594018721E-6,"d":"7.50E-06"},{"v":0.08988,"d":"8.99E-02"},{"$f":"Tabelle74[[#This Row],['[kg/h']]]/Tabelle74[[#This Row],['[kg/m^3']4]]","v":{"v":1570.0934579439252,"d":"1570.09"}},{"v":96.27218397704894,"d":"96.27"},{"$f":"Tabelle74[[#This Row],['[m/s']]]/VLOOKUP(J16*0.00001,'Datenbank Werte '!$A$1:$C$500,3,TRUE)","v":{"v":0.068176605040046,"d":"0.07"}},{"v":256878.55847007374,"d":"2.5688E+05"},{"v":2E-3,"d":"2.0E-03"},{"$f":"Rohrreibungszahl(Tabelle74[[#This Row],['[-']]],Tabelle74[[#This Row],['[-']4]],Tabelle74[[#This Row],['[-']3]],Tabelle74[[#This Row],['[m']2]],Tabelle74[[#This Row],['[m']3]])","v":"Nur bei 'Rohr' benötigt"},4,null,{"$f":"IF(Tabelle74[[#This Row],['[-']2]]>0,Tabelle74[[#This Row],['[-']2]]*(Tabelle74[[#This Row],['[kg/m^3']]]/2)*Tabelle74[[#This Row],['[m/s']]]^2,Druckverlust(Tabelle74[[#This Row],[Spalte1]],C16,U16,V16,P16,L16,O16,J16,K16,Q16,D16,E16))","v":{"v":102894.18543256856,"d":"102894.19"}},1.0289418543256856,{"v":18.24737854270879,"d":"18.25"},{"v":17.218436688383104,"d":"17.22"},{"v":102894.18543256856,"d":"102894.19"},{"$f":"SUM($AB$10:AB16)","v":{"v":278156.33116168936,"d":"278156.33"}}]
[null,"Rückschlag-/Absperrventil","Ventil",null,0.02,{"v":4e-05,"d":"4.00E-05"},141.12,0.0392,{"v":0.03203444378556316,"d":"0.032"},1721843.6688383103,338,{"$f":"Dichte(K17,J17)","v":{"v":1.2236828665545962,"d":"1.22368"}},{"$f":"VLOOKUP(J17*0.00001,'Datenbank Werte '!$A$1:$B$500,2,TRUE)*0.000001","v":{"v":9.7143e-06,"d":"9.71E-06"}},{"v":7.9385764608698015E-6,"d":"7.94E-06"},{"v":0.08988,"d":"8.99E-02"},{"$f":"Tabelle74[[#This Row],['[kg/h']]]/Tabelle74[[#This Row],['[kg/m^3']4]]","v":{"v":1570.0934579439252,"d":"1570.09"}},{"v":101.9688015534365,"d":"101.97"},{"$f":"Tabelle74[[#This Row],['[m/s']]]/VLOOKUP(J17*0.00001,'Datenbank Werte '!$A$1:$C$500,3,TRUE)","v":{"v":0.07225168394631652,"d":"0.07"}},{"v":256894.42447535275,"d":"2.5689E+05"},{"v":2E-3,"d":"2.0E-03"},{"$f":"Rohrreibungszahl(Tabelle74[[#This Row],['[-']]],Tabelle74[[#This Row],['[-']4]],Tabelle74[[#This Row],['[-']3]],Tabelle74[[#This Row],['[m']2]],Tabelle74[[#This Row],['[m']3]])","v":"Nur bei 'Rohr' benötigt"},4,null,{"$f":"IF(Tabelle74[[#This Row],['[-']2]]>0,Tabelle74[[#This Row],['[-']2]]*(Tabelle74[[#This Row],['[kg/m^3']]]/2)*Tabelle74[[#This Row],['[m/s']]]^2,Druckverlust(Tabelle74[[#This Row],[Spalte1]],C17,U17,V17,P17,L17,O17,J17,K17,Q17,D17,E17))","v":{"v":109910.04807203004,"d":"109910.05"}},1.0991004807203004,{"v":17.218436688383104,"d":"17.22"},{"v":16.119336207662805,"d":"16.12"},{"v":109910.04807203004,"d":"109910.05"},{"$f":"SUM($AB$10:AB17)","v":{"v":388066.37923371943,"d":"388066.38"}}]
[null,"T-Stück (Eingang Sammelrohr) ","Rohr",null,0.02,{"v":4e-05,"d":"4.00E-05"},141.12,0.0392,{"v":0.034198495455815874,"d":"0.034"},1611933.6207662805,338,{"$f":"Dichte(K18,J18)","v":{"v":1.1462492568027158,"d":"1.14625"}},{"$f":"VLOOKUP(J18*0.00001,'Datenbank Werte '!$A$1:$B$500,2,TRUE)*0.000001","v":{"v":9.7138e-06,"d":"9.71E-06"}},{"v":8.4744220703751089E-6,"d":"8.47E-06"},{"v":0.08988,"d":"8.99E-02"},{"$f":"Tabelle74[[#This Row],['[kg/h']]]/Tabelle74[[#This Row],['[kg/m^3']4]]","v":{"v":1570.0934579439252,"d":"1570.09"}},{"v":108.85719196197634,"d":"108.86"},{"$f":"Tabelle74[[#This Row],['[m/s']]]/VLOOKUP(J18*0.00001,'Datenbank Werte '!$A$1:$C$500,3,TRUE)","v":{"v":0.07717631475503463,"d":"0.08"}},{"v":256907.64764365327,"d":"2.5691E+05"},{"v":2E-3,"d":"2.0E-03"},{"$f":"Rohrreibungszahl(Tabelle74[[#This Row],['[-']]],Tabelle74[[#This Row],['[-']4]],Tabelle74[[#This Row],['[-']3]],Tabelle74[[#This Row],['[m']2]],Tabelle74[[#This Row],['[m']3]])","v":{"v":0.02409424885884462,"d":"2.41E-02"}},null,0.9,{"$f":"IF(Tabelle74[[#This Row],['[-']2]]>0,Tabelle74[[#This Row],['[-']2]]*(Tabelle74[[#This Row],['[kg/m^3']]]/2)*Tabelle74[[#This Row],['[m/s']]]^2,Druckverlust(Tabelle74[[#This Row],[Spalte1]],C18,U18,V18,P18,L18,O18,J18,K18,Q18,D18,E18))","v":{"v":6112.316515685341,"d":"6112.32"}},0.06112316515685341,{"v":16.119336207662805,"d":"16.12"},{"v":16.05821304250595,"d":"16.06"},{"v":6112.316515685341,"d":"6112.32"},{"$f":"SUM($AB$10:AB18)","v":{"v":394178.6957494048,"d":"394178.70"}}]
[null,null,"Rohr",0.1,{"$f":"IF(ISTEXT(E18),$E$5,E18)","v":0.02},{"v":4e-05,"d":"4.00E-05"},141.12,0.0392,{"v":0.03432753801014577,"d":"0.034"},1605821.3042505952,{"$f":"IF(ISTEXT(K18),E11,K18)","v":338},{"$f":"Dichte(K19,J19)","v":{"v":1.1419403275706559,"d":"1.14194"}},{"$f":"VLOOKUP(J19*0.00001,'Datenbank Werte '!$A$1:$B$500,2,TRUE)*0.000001","v":{"v":9.7138e-06,"d":"9.71E-06"}},{"v":8.5063989470141311E-6,"d":"8.51E-06"},{"$f":"IF(ISTEXT(O18),H11,O18)","v":{"v":0.08988,"d":"8.99E-02"}},{"$f":"Tabelle74[[#This Row],['[kg/h']]]/Tabelle74[[#This Row],['[kg/m^3']4]]","v":{"v":1570.0934579439252,"d":"1570.09"}},{"v":109.26794716979246,"d":"109.27"},{"$f":"Tabelle74[[#This Row],['[m/s']]]/VLOOKUP(J19*0.00001,'Datenbank Werte '!$A$1:$C$500,3,TRUE)","v":{"v":0.07746752723842075,"d":"0.08"}},{"v":256907.6476436532,"d":"2.5691E+05"},{"$f":"F19/E19","v":{"v":2E-3,"d":"2.0E-03"}},{"$f":"Rohrreibungszahl(Tabelle74[[#This Row],['[-']]],Tabelle74[[#This Row],['[-']4]],Tabelle74[[#This Row],['[-']3]],Tabelle74[[#This Row],['[m']2]],Tabelle74[[#This Row],['[m']3]])","v":{"v":0.02409424885884462,"d":"2.41E-02"}},null,null,{"$f":"IF(Tabelle74[[#This Row],['[-']2]]>0,Tabelle74[[#This Row],['[-']2]]*(Tabelle74[[#This Row],['[kg/m^3']]]/2)*Tabelle74[[#This Row],['[m/s']]]^2,Druckverlust(Tabelle74[[#This Row],[Spalte1]],C19,U19,V19,P19,L19,O19,J19,K19,Q19,D19,E19))","v":{"v":821.2632297277048,"d":"821.26"}},0.008212632297277048,{"v":16.05821304250595,"d":"16.06"},{"v":16.050000410208675,"d":"16.05"},{"v":821.2632297277048,"d":"821.26"},{"$f":"SUM($AB$10:AB19)","v":{"v":394999.95897913247,"d":"394999.96"}}]
[null,"T-Stück (Ausgang Sammelrohr)","Rohr",null,0.02,{"v":4e-05,"d":"4.00E-05"},141.12,0.0392,{"v":0.03434495133180711,"d":"0.034"},1605000.0410208674,338,{"$f":"Dichte(K20,J20)","v":{"v":1.1413613494830197,"d":"1.14136"}},{"$f":"VLOOKUP(J20*0.00001,'Datenbank Werte '!$A$1:$B$500,2,TRUE)*0.000001","v":{"v":9.7138e-06,"d":"9.71E-06"}},{"v":8.5107139858905077E-6,"d":"8.51E-06"},{"v":0.08988,"d":"8.99E-02"},{"$f":"Tabelle74[[#This Row],['[kg/h']]]/Tabelle74[[#This Row],['[kg/m^3']4]]","v":{"v":1570.0934579439252,"d":"1570.09"}},{"v":109.32337549415352,"d":"109.32"},{"$f":"Tabelle74[[#This Row],['[m/s']]]/VLOOKUP(J20*0.00001,'Datenbank Werte '!$A$1:$C$500,3,TRUE)","v":{"v":0.07750682417167921,"d":"0.08"}},{"v":256907.64764365327,"d":"2.5691E+05"},{"v":2E-3,"d":"2.0E-03"},{"$f":"Rohrreibungszahl(Tabelle74[[#This Row],['[-']]],Tabelle74[[#This Row],['[-']4]],Tabelle74[[#This Row],['[-']3]],Tabelle74[[#This Row],['[m']2]],Tabelle74[[#This Row],['[m']3]])","v":{"v":0.02409424885884462,"d":"2.41E-02"}},null,1.3,{"$f":"IF(Tabelle74[[#This Row],['[-']2]]>0,Tabelle74[[#This Row],['[-']2]]*(Tabelle74[[#This Row],['[kg/m^3']]]/2)*Tabelle74[[#This Row],['[m/s']]]^2,Druckverlust(Tabelle74[[#This Row],[Spalte1]],C20,U20,V20,P20,L20,O20,J20,K20,Q20,D20,E20))","v":{"v":8866.711616504661,"d":"8866.71"}},0.0886671161650466,{"v":16.050000410208675,"d":"16.05"},{"v":15.961333294043628,"d":"15.96"},{"v":8866.711616504661,"d":"8866.71"},{"$f":"SUM($AB$10:AB20)","v":{"v":403866.6705956371,"d":"403866.67"}}]
[null,null,"Rohr",0.2,0.02,{"v":4e-05,"d":"4.00E-05"},141.12,0.0392,{"v":0.034534094172461796,"d":"0.035"},1596133.329404363,338,{"$f":"Dichte(K21,J21)","v":{"v":1.1351101263648864,"d":"1.13511"}},{"$f":"VLOOKUP(J21*0.00001,'Datenbank Werte '!$A$1:$B$500,2,TRUE)*0.000001","v":{"v":9.7133e-06,"d":"9.71E-06"}},{"v":8.5571432889125815E-6,"d":"8.56E-06"},{"v":0.08988,"d":"8.99E-02"},{"$f":"Tabelle74[[#This Row],['[kg/h']]]/Tabelle74[[#This Row],['[kg/m^3']4]]","v":{"v":1570.0934579439252,"d":"1570.09"}},{"v":109.92543585496624,"d":"109.93"},{"$f":"Tabelle74[[#This Row],['[m/s']]]/VLOOKUP(J21*0.00001,'Datenbank Werte '!$A$1:$C$500,3,TRUE)","v":{"v":0.07797789306587659,"d":"0.08"}},{"v":256920.87217330042,"d":"2.5692E+05"},{"v":2E-3,"d":"2.0E-03"},{"$f":"Rohrreibungszahl(Tabelle74[[#This Row],['[-']]],Tabelle74[[#This Row],['[-']4]],Tabelle74[[#This Row],['[-']3]],Tabelle74[[#This Row],['[m']2]],Tabelle74[[#This Row],['[m']3]])","v":{"v":0.02409421431952691,"d":"2.41E-02"}},null,null,{"$f":"IF(Tabelle74[[#This Row],['[-']2]]>0,Tabelle74[[#This Row],['[-']2]]*(Tabelle74[[#This Row],['[kg/m^3']]]/2)*Tabelle74[[#This Row],['[m/s']]]^2,Druckverlust(Tabelle74[[#This Row],[Spalte1]],C21,U21,V21,P21,L21,O21,J21,K21,Q21,D21,E21))","v":{"v":1652.4075248762279,"d":"1652.41"}},0.016524075248762277,{"v":15.96133329404363,"d":"15.96"},{"v":15.944809218794868,"d":"15.94"},{"v":1652.4075248762279,"d":"1652.41"},{"$f":"SUM($AB$10:AB21)","v":{"v":405519.07812051335,"d":"405519.08"}}]
[null,"T-Stück (Überdruckventil)","Rohr",null,0.02,{"v":4e-05,"d":"4.00E-05"},141.12,0.0392,{"v":0.034569575531117794,"d":"0.035"},1594480.9218794869,338,{"$f":"Dichte(K22,J22)","v":{"v":1.1339450773618591,"d":"1.13395"}},{"$f":"VLOOKUP(J22*0.00001,'Datenbank Werte '!$A$1:$B$500,2,TRUE)*0.000001","v":{"v":9.7133e-06,"d":"9.71E-06"}},{"v":8.5659351532246564E-6,"d":"8.57E-06"},{"v":0.08988,"d":"8.99E-02"},{"$f":"Tabelle74[[#This Row],['[kg/h']]]/Tabelle74[[#This Row],['[kg/m^3']4]]","v":{"v":1570.0934579439252,"d":"1570.09"}},{"v":110.0383765273206,"d":"110.04"},{"$f":"Tabelle74[[#This Row],['[m/s']]]/VLOOKUP(J22*0.00001,'Datenbank Werte '!$A$1:$C$500,3,TRUE)","v":{"v":0.07805800987963438,"d":"0.08"}},{"v":256920.87217330036,"d":"2.5692E+05"},{"v":2E-3,"d":"2.0E-03"},{"$f":"Rohrreibungszahl(Tabelle74[[#This Row],['[-']]],Tabelle74[[#This Row],['[-']4]],Tabelle74[[#This Row],['[-']3]],Tabelle74[[#This Row],['[m']2]],Tabelle74[[#This Row],['[m']3]])","v":{"v":0.02409421431952691,"d":"2.41E-02"}},null,0.05,{"$f":"IF(Tabelle74[[#This Row],['[-']2]]>0,Tabelle74[[#This Row],['[-']2]]*(Tabelle74[[#This Row],['[kg/m^3']]]/2)*Tabelle74[[#This Row],['[m/s']]]^2,Druckverlust(Tabelle74[[#This Row],[Spalte1]],C22,U22,V22,P22,L22,O22,J22,K22,Q22,D22,E22))","v":{"v":343.2577704609531,"d":"343.26"}},0.003432577704609531,{"v":15.94480921879487,"d":"15.94"},{"v":15.94137664109026,"d":"15.94"},{"v":343.2577704609531,"d":"343.26"},{"$f":"SUM($AB$10:AB22)","v":{"v":405862.3358909743,"d":"405862.34"}}]
[null,null,"Rohr",0.2,0.02,{"v":4e-05,"d":"4.00E-05"},141.12,0.0392,{"v":0.03457695536871308,"d":"0.035"},1594137.664109026,338,{"$f":"Dichte(K23,J23)","v":{"v":1.1337030569056428,"d":"1.13370"}},{"$f":"VLOOKUP(J23*0.00001,'Datenbank Werte '!$A$1:$B$500,2,TRUE)*0.000001","v":{"v":9.7133e-06,"d":"9.71E-06"}},{"v":8.5677637903806326E-6,"d":"8.57E-06"},{"v":0.08988,"d":"8.99E-02"},{"$f":"Tabelle74[[#This Row],['[kg/h']]]/Tabelle74[[#This Row],['[kg/m^3']4]]","v":{"v":1570.0934579439252,"d":"1570.09"}},{"v":110.0618672799707,"d":"110.06"},{"$f":"Tabelle74[[#This Row],['[m/s']]]/VLOOKUP(J23*0.00001,'Datenbank Werte '!$A$1:$C$500,3,TRUE)","v":{"v":0.07807467353335511,"d":"0.08"}},{"v":256920.87217330036,"d":"2.5692E+05"},{"v":2E-3,"d":"2.0E-03"},{"$f":"Rohrreibungszahl(Tabelle74[[#This Row],['[-']]],Tabelle74[[#This Row],['[-']4]],Tabelle74[[#This Row],['[-']3]],Tabelle74[[#This Row],['[m']2]],Tabelle74[[#This Row],['[m']3]])","v":{"v":0.02409421431952691,"d":"2.41E-02"}},null,null,{"$f":"IF(Tabelle74[[#This Row],['[-']2]]>0,Tabelle74[[#This Row],['[-']2]]*(Tabelle74[[#This Row],['[kg/m^3']]]/2)*Tabelle74[[#This Row],['[m/s']]]^2,Druckverlust(Tabelle74[[#This Row],[Spalte1]],C23,U23,V23,P23,L23,O23,J23,K23,Q23,D23,E23))","v":{"v":1654.4583724489803,"d":"1654.46"}},0.016544583724489803,{"v":15.94137664109026,"d":"15.94"},{"v":15.92483205736577,"d":"15.92"},{"v":1654.4583724489803,"d":"1654.46"},{"$f":"SUM($AB$10:AB23)","v":{"v":407516.7942634233,"d":"407516.79"}}]
[null,"T-Stück (Sensoren)","Rohr",null,0.02,{"v":4e-05,"d":"4.00E-05"},141.12,0.0392,{"v":0.034612569859912366,"d":"0.035"},1592483.205736577,338,{"$f":"Dichte(K24,J24)","v":{"v":1.1325365368319764,"d":"1.13254"}},{"$f":"VLOOKUP(J24*0.00001,'Datenbank Werte '!$A$1:$B$500,2,TRUE)*0.000001","v":{"v":9.7133e-06,"d":"9.71E-06"}},{"v":8.5765886433746636E-6,"d":"8.58E-06"},{"v":0.08988,"d":"8.99E-02"},{"$f":"Tabelle74[[#This Row],['[kg/h']]]/Tabelle74[[#This Row],['[kg/m^3']4]]","v":{"v":1570.0934579439252,"d":"1570.09"}},{"v":110.17523172637209,"d":"110.18"},{"$f":"Tabelle74[[#This Row],['[m/s']]]/VLOOKUP(J24*0.00001,'Datenbank Werte '!$A$1:$C$500,3,TRUE)","v":{"v":0.07815509096004263,"d":"0.08"}},{"v":256920.87217330042,"d":"2.5692E+05"},{"v":2E-3,"d":"2.0E-03"},{"$f":"Rohrreibungszahl(Tabelle74[[#This Row],['[-']]],Tabelle74[[#This Row],['[-']4]],Tabelle74[[#This Row],['[-']3]],Tabelle74[[#This Row],['[m']2]],Tabelle74[[#This Row],['[m']3]])","v":{"v":0.02409421431952691,"d":"2.41E-02"}},null,0.05,{"$f":"IF(Tabelle74[[#This Row],['[-']2]]>0,Tabelle74[[#This Row],['[-']2]]*(Tabelle74[[#This Row],['[kg/m^3']]]/2)*Tabelle74[[#This Row],['[m/s']]]^2,Druckverlust(Tabelle74[[#This Row],[Spalte1]],C24,U24,V24,P24,L24,O24,J24,K24,Q24,D24,E24))","v":{"v":343.68468161672376,"d":"343.68"}},3.4368468161672374E-3,{"v":15.924832057365771,"d":"15.92"},{"v":15.921395210549603,"d":"15.92"},{"v":343.68468161672376,"d":"343.68"},{"$f":"SUM($AB$10:AB24)","v":{"v":407860.47894504,"d":"407860.48"}}]
[null,null,"Rohr",0.2,0.02,{"v":4e-05,"d":"4.00E-05"},141.12,0.0392,{"v":0.0346199774302118,"d":"0.035"},1592139.5210549603,338,{"$f":"Dichte(K25,J25)","v":{"v":1.1322942101571492,"d":"1.13229"}},{"$f":"VLOOKUP(J25*0.00001,'Datenbank Werte '!$A$1:$B$500,2,TRUE)*0.000001","v":{"v":9.7133e-06,"d":"9.71E-06"}},{"v":8.5784241523692939E-6,"d":"8.58E-06"},{"v":0.08988,"d":"8.99E-02"},{"$f":"Tabelle74[[#This Row],['[kg/h']]]/Tabelle74[[#This Row],['[kg/m^3']4]]","v":{"v":1570.0934579439252,"d":"1570.09"}},{"v":110.19881075496119,"d":"110.20"},{"$f":"Tabelle74[[#This Row],['[m/s']]]/VLOOKUP(J25*0.00001,'Datenbank Werte '!$A$1:$C$500,3,TRUE)","v":{"v":0.07817181723413576,"d":"0.08"}},{"v":256920.87217330036,"d":"2.5692E+05"},{"v":2E-3,"d":"2.0E-03"},{"$f":"Rohrreibungszahl(Tabelle74[[#This Row],['[-']]],Tabelle74[[#This Row],['[-']4]],Tabelle74[[#This Row],['[-']3]],Tabelle74[[#This Row],['[m']2]],Tabelle74[[#This Row],['[m']3]])","v":{"v":0.02409421431952691,"d":"2.41E-02"}},null,null,{"$f":"IF(Tabelle74[[#This Row],['[-']2]]>0,Tabelle74[[#This Row],['[-']2]]*(Tabelle74[[#This Row],['[kg/m^3']]]/2)*Tabelle74[[#This Row],['[m/s']]]^2,Druckverlust(Tabelle74[[#This Row],[Spalte1]],C25,U25,V25,P25,L25,O25,J25,K25,Q25,D25,E25))","v":{"v":1656.5169171961265,"d":"1656.52"}},0.016565169171961266,{"v":15.921395210549603,"d":"15.92"},{"v":15.904830041377641,"d":"15.90"},{"v":1656.5169171961265,"d":"1656.52"},{"$f":"SUM($AB$10:AB25)","v":{"v":409516.99586223613,"d":"409517.00"}}]
[null,"T-Stück (Entlüftungsventil)","Rohr",null,0.02,{"v":4e-05,"d":"4.00E-05"},141.12,0.0392,{"v":0.03465572588844688,"d":"0.035"},1590483.0041377642,338,{"$f":"Dichte(K26,J26)","v":{"v":1.13112621349155,"d":"1.13113"}},{"$f":"VLOOKUP(J26*0.00001,'Datenbank Werte '!$A$1:$B$500,2,TRUE)*0.000001","v":{"v":9.7133e-06,"d":"9.71E-06"}},{"v":8.58728220082273e-06,"d":"8.59E-06"},{"v":0.08988,"d":"8.99E-02"},{"$f":"Tabelle74[[#This Row],['[kg/h']]]/Tabelle74[[#This Row],['[kg/m^3']4]]","v":{"v":1570.0934579439252,"d":"1570.09"}},{"v":110.31260163168173,"d":"110.31"},{"$f":"Tabelle74[[#This Row],['[m/s']]]/VLOOKUP(J26*0.00001,'Datenbank Werte '!$A$1:$C$500,3,TRUE)","v":{"v":0.07825253715803485,"d":"0.08"}},{"v":256920.87217330042,"d":"2.5692E+05"},{"v":2E-3,"d":"2.0E-03"},{"$f":"Rohrreibungszahl(Tabelle74[[#This Row],['[-']]],Tabelle74[[#This Row],['[-']4]],Tabelle74[[#This Row],['[-']3]],Tabelle74[[#This Row],['[m']2]],Tabelle74[[#This Row],['[m']3]])","v":{"v":0.02409421431952691,"d":"2.41E-02"}},null,0.05,{"$f":"IF(Tabelle74[[#This Row],['[-']2]]>0,Tabelle74[[#This Row],['[-']2]]*(Tabelle74[[#This Row],['[kg/m^3']]]/2)*Tabelle74[[#This Row],['[m/s']]]^2,Druckverlust(Tabelle74[[#This Row],[Spalte1]],C26,U26,V26,P26,L26,O26,J26,K26,Q26,D26,E26))","v":{"v":344.1131983661808,"d":"344.11"}},3.4411319836618083E-3,{"v":15.904830041377641,"d":"15.90"},{"v":15.90138890939398,"d":"15.90"},{"v":344.1131983661808,"d":"344.11"},{"$f":"SUM($AB$10:AB26)","v":{"v":409861.1090606023,"d":"409861.11"}}]
[null,"Hauptventil","Ventil",null,0.02,{"v":4e-05,"d":"4.00E-05"},141.12,0.0392,{"v":0.034663161365548284,"d":"0.035"},1590138.890939398,338,{"$f":"Dichte(K27,J27)","v":{"v":1.1308835794464172,"d":"1.13088"}},{"$f":"VLOOKUP(J27*0.00001,'Datenbank Werte '!$A$1:$B$500,2,TRUE)*0.000001","v":{"v":9.7133e-06,"d":"9.71E-06"}},{"v":8.5891246247954131E-6,"d":"8.59E-06"},{"v":0.08988,"d":"8.99E-02"},{"$f":"Tabelle74[[#This Row],['[kg/h']]]/Tabelle74[[#This Row],['[kg/m^3']4]]","v":{"v":1570.0934579439252,"d":"1570.09"}},{"v":110.33626949038043,"d":"110.34"},{"$f":"Tabelle74[[#This Row],['[m/s']]]/VLOOKUP(J27*0.00001,'Datenbank Werte '!$A$1:$C$500,3,TRUE)","v":{"v":0.07826932644561284,"d":"0.08"}},{"v":256920.87217330036,"d":"2.5692E+05"},{"v":2E-3,"d":"2.0E-03"},{"$f":"Rohrreibungszahl(Tabelle74[[#This Row],['[-']]],Tabelle74[[#This Row],['[-']4]],Tabelle74[[#This Row],['[-']3]],Tabelle74[[#This Row],['[m']2]],Tabelle74[[#This Row],['[m']3]])","v":{"$error":"#VALUE!"}},4,null,{"$f":"IF(Tabelle74[[#This Row],['[-']2]]>0,Tabelle74[[#This Row],['[-']2]]*(Tabelle74[[#This Row],['[kg/m^3']]]/2)*Tabelle74[[#This Row],['[m/s']]]^2,Druckverlust(Tabelle74[[#This Row],[Spalte1]],C27,U27,V27,P27,L27,O27,J27,K27,Q27,D27,E27))","v":{"v":120556.49424329642,"d":"120556.49"}},1.2055649424329642,{"v":15.90138890939398,"d":"15.90"},{"v":14.695823966961015,"d":"14.70"},{"v":120556.49424329642,"d":"120556.49"},{"$f":"SUM($AB$10:AB27)","v":{"v":530417.6033038987,"d":"530417.60"}}]
[null,null,"Rohr",0.2,0.02,{"v":4e-05,"d":"4.00E-05"},141.12,0.0392,{"v":0.0374824112831412,"d":"0.037"},1469582.3966961014,338,{"$f":"Dichte(K28,J28)","v":{"v":1.0458238586595772,"d":"1.04582"}},{"$f":"VLOOKUP(J28*0.00001,'Datenbank Werte '!$A$1:$B$500,2,TRUE)*0.000001","v":{"v":9.7128e-06,"d":"9.71E-06"}},{"v":9.2872235793595357E-6,"d":"9.29E-06"},{"v":0.08988,"d":"8.99E-02"},{"$f":"Tabelle74[[#This Row],['[kg/h']]]/Tabelle74[[#This Row],['[kg/m^3']4]]","v":{"v":1570.0934579439252,"d":"1570.09"}},{"v":119.31022069430705,"d":"119.31"},{"$f":"Tabelle74[[#This Row],['[m/s']]]/VLOOKUP(J28*0.00001,'Datenbank Werte '!$A$1:$C$500,3,TRUE)","v":{"v":0.08468324273852441,"d":"0.08"}},{"v":256934.09806450445,"d":"2.5693E+05"},{"v":2E-3,"d":"2.0E-03"},{"$f":"Rohrreibungszahl(Tabelle74[[#This Row],['[-']]],Tabelle74[[#This Row],['[-']4]],Tabelle74[[#This Row],['[-']3]],Tabelle74[[#This Row],['[m']2]],Tabelle74[[#This Row],['[m']3]])","v":{"v":0.024094179780052894,"d":"2.41E-02"}},null,null,{"$f":"IF(Tabelle74[[#This Row],['[-']2]]>0,Tabelle74[[#This Row],['[-']2]]*(Tabelle74[[#This Row],['[kg/m^3']]]/2)*Tabelle74[[#This Row],['[m/s']]]^2,Druckverlust(Tabelle74[[#This Row],[Spalte1]],C28,U28,V28,P28,L28,O28,J28,K28,Q28,D28,E28))","v":{"v":1793.4777544422798,"d":"1793.48"}},0.017934777544422797,{"v":14.695823966961013,"d":"14.70"},{"v":14.677889189416591,"d":"14.68"},{"v":1793.4777544422798,"d":"1793.48"},{"$f":"SUM($AB$10:AB28)","v":{"v":532211.081058341,"d":"532211.08"}}]
[null,"T-Stück (Druckminderer) ","Rohr",null,0.02,{"v":4e-05,"d":"4.00E-05"},{"$f":"17.64*4","v":70.56},0.0196,{"v":0.018763924198779605,"d":"0.019"},1467788.9189416592,338,{"$f":"Dichte(K29,J29)","v":{"v":1.0445576198434425,"d":"1.04456"}},{"$f":"VLOOKUP(J29*0.00001,'Datenbank Werte '!$A$1:$B$500,2,TRUE)*0.000001","v":{"v":9.7128e-06,"d":"9.71E-06"}},{"v":9.2984817835666613E-6,"d":"9.30E-06"},{"v":0.08988,"d":"8.99E-02"},{"$f":"Tabelle74[[#This Row],['[kg/h']]]/Tabelle74[[#This Row],['[kg/m^3']4]]","v":{"v":785.0467289719626,"d":"785.05"}},{"v":59.72742576074812,"d":"59.73"},{"$f":"Tabelle74[[#This Row],['[m/s']]]/VLOOKUP(J29*0.00001,'Datenbank Werte '!$A$1:$C$500,3,TRUE)","v":{"v":0.042392948939419486,"d":"0.04"}},{"v":128467.04903225224,"d":"1.2847E+05"},{"v":2E-3,"d":"2.0E-03"},{"$f":"Rohrreibungszahl(Tabelle74[[#This Row],['[-']]],Tabelle74[[#This Row],['[-']4]],Tabelle74[[#This Row],['[-']3]],Tabelle74[[#This Row],['[m']2]],Tabelle74[[#This Row],['[m']3]])","v":{"v":0.024737745201078593,"d":"2.47E-02"}},null,1.3,{"$f":"IF(Tabelle74[[#This Row],['[-']2]]>0,Tabelle74[[#This Row],['[-']2]]*(Tabelle74[[#This Row],['[kg/m^3']]]/2)*Tabelle74[[#This Row],['[m/s']]]^2,Druckverlust(Tabelle74[[#This Row],[Spalte1]],C29,U29,V29,P29,L29,O29,J29,K29,Q29,D29,E29))","v":{"v":2422.1071542246086,"d":"2422.11"}},0.024221071542246085,{"v":14.677889189416591,"d":"14.68"},{"v":14.653668117874345,"d":"14.65"},{"v":2422.1071542246086,"d":"2422.11"},{"$f":"SUM($AB$10:AB29)","v":{"v":534633.1882125656,"d":"534633.19"}}]
[null,null,"Rohr",0.3,0.02,{"v":4e-05,"d":"4.00E-05"},{"$f":"17.64*4","v":70.56},0.0196,{"v":0.018794694071943115,"d":"0.019"},1465366.8117874344,338,{"$f":"Dichte(K30,J30)","v":{"v":1.0428475145684362,"d":"1.04285"}},{"$f":"VLOOKUP(J30*0.00001,'Datenbank Werte '!$A$1:$B$500,2,TRUE)*0.000001","v":{"v":9.7128e-06,"d":"9.71E-06"}},{"v":9.3137298256106688E-6,"d":"9.31E-06"},{"v":0.08988,"d":"8.99E-02"},{"$f":"Tabelle74[[#This Row],['[kg/h']]]/Tabelle74[[#This Row],['[kg/m^3']4]]","v":{"v":785.0467289719626,"d":"785.05"}},{"v":59.825369308993785,"d":"59.83"},{"$f":"Tabelle74[[#This Row],['[m/s']]]/VLOOKUP(J30*0.00001,'Datenbank Werte '!$A$1:$C$500,3,TRUE)","v":{"v":0.04246246668251386,"d":"0.04"}},{"v":128467.04903225224,"d":"1.2847E+05"},{"v":2E-3,"d":"2.0E-03"},{"$f":"Rohrreibungszahl(Tabelle74[[#This Row],['[-']]],Tabelle74[[#This Row],['[-']4]],Tabelle74[[#This Row],['[-']3]],Tabelle74[[#This Row],['[m']2]],Tabelle74[[#This Row],['[m']3]])","v":{"v":0.024737745201078593,"d":"2.47E-02"}},null,null,{"$f":"IF(Tabelle74[[#This Row],['[-']2]]>0,Tabelle74[[#This Row],['[-']2]]*(Tabelle74[[#This Row],['[kg/m^3']]]/2)*Tabelle74[[#This Row],['[m/s']]]^2,Druckverlust(Tabelle74[[#This Row],[Spalte1]],C30,U30,V30,P30,L30,O30,J30,K30,Q30,D30,E30))","v":{"v":692.4891325512208,"d":"692.49"}},0.006924891325512208,{"v":14.653668117874345,"d":"14.65"},{"v":14.646743226548832,"d":"14.65"},{"v":692.4891325512208,"d":"692.49"},{"$f":"SUM($AB$10:AB30)","v":{"v":535325.6773451169,"d":"535325.68"}}]
[null,"90°Winkel","Rohr",null,0.02,{"v":4e-05,"d":"4.00E-05"},70.56,0.0196,{"v":0.018803509996408868,"d":"0.019"},1464674.3226548831,338,{"$f":"Dichte(K31,J31)","v":{"v":1.0423585811235905,"d":"1.04236"}},{"$f":"VLOOKUP(J31*0.00001,'Datenbank Werte '!$A$1:$B$500,2,TRUE)*0.000001","v":{"v":9.7128e-06,"d":"9.71E-06"}},{"v":9.3180985659755138E-6,"d":"9.32E-06"},{"v":0.08988,"d":"8.99E-02"},{"$f":"Tabelle74[[#This Row],['[kg/h']]]/Tabelle74[[#This Row],['[kg/m^3']4]]","v":{"v":785.0467289719626,"d":"785.05"}},{"v":59.85343126812677,"d":"59.85"},{"$f":"Tabelle74[[#This Row],['[m/s']]]/VLOOKUP(J31*0.00001,'Datenbank Werte '!$A$1:$C$500,3,TRUE)","v":{"v":0.042482384319772,"d":"0.04"}},{"v":128467.04903225222,"d":"1.2847E+05"},{"v":2E-3,"d":"2.0E-03"},{"$f":"Rohrreibungszahl(Tabelle74[[#This Row],['[-']]],Tabelle74[[#This Row],['[-']4]],Tabelle74[[#This Row],['[-']3]],Tabelle74[[#This Row],['[m']2]],Tabelle74[[#This Row],['[m']3]])","v":{"v":0.024737745201078593,"d":"2.47E-02"}},null,0.15,{"$f":"IF(Tabelle74[[#This Row],['[-']2]]>0,Tabelle74[[#This Row],['[-']2]]*(Tabelle74[[#This Row],['[kg/m^3']]]/2)*Tabelle74[[#This Row],['[m/s']]]^2,Druckverlust(Tabelle74[[#This Row],[Spalte1]],C31,U31,V31,P31,L31,O31,J31,K31,Q31,D31,E31))","v":{"v":280.06350175160145,"d":"280.06"}},2.8006350175160144E-3,{"v":14.646743226548832,"d":"14.65"},{"v":14.643942591531316,"d":"14.64"},{"v":280.06350175160145,"d":"280.06"},{"$f":"SUM($AB$10:AB31)","v":{"v":535605.7408468685,"d":"535605.74"}}]
[null,null,"Rohr",0.2,0.02,{"v":4e-05,"d":"4.00E-05"},70.56,0.0196,{"v":0.01880707779022964,"d":"0.019"},1464394.2591531316,338,{"$f":"Dichte(K32,J32)","v":{"v":1.0421608406481035,"d":"1.04216"}},{"$f":"VLOOKUP(J32*0.00001,'Datenbank Werte '!$A$1:$B$500,2,TRUE)*0.000001","v":{"v":9.7128e-06,"d":"9.71E-06"}},{"v":9.3198665898440024E-6,"d":"9.32E-06"},{"v":0.08988,"d":"8.99E-02"},{"$f":"Tabelle74[[#This Row],['[kg/h']]]/Tabelle74[[#This Row],['[kg/m^3']4]]","v":{"v":785.0467289719626,"d":"785.05"}},{"v":59.86478790857694,"d":"59.86"},{"$f":"Tabelle74[[#This Row],['[m/s']]]/VLOOKUP(J32*0.00001,'Datenbank Werte '!$A$1:$C$500,3,TRUE)","v":{"v":0.042490444963146384,"d":"0.04"}},{"v":128467.04903225224,"d":"1.2847E+05"},{"v":2E-3,"d":"2.0E-03"},{"$f":"Rohrreibungszahl(Tabelle74[[#This Row],['[-']]],Tabelle74[[#This Row],['[-']4]],Tabelle74[[#This Row],['[-']3]],Tabelle74[[#This Row],['[m']2]],Tabelle74[[#This Row],['[m']3]])","v":{"v":0.024737745201078593,"d":"2.47E-02"}},null,null,{"$f":"IF(Tabelle74[[#This Row],['[-']2]]>0,Tabelle74[[#This Row],['[-']2]]*(Tabelle74[[#This Row],['[kg/m^3']]]/2)*Tabelle74[[#This Row],['[m/s']]]^2,Druckverlust(Tabelle74[[#This Row],[Spalte1]],C32,U32,V32,P32,L32,O32,J32,K32,Q32,D32,E32))","v":{"v":461.96360649896906,"d":"461.96"}},0.004619636064989691,{"v":14.643942591531316,"d":"14.64"},{"v":14.639322955466326,"d":"14.64"},{"v":461.96360649896906,"d":"461.96"},{"$f":"SUM($AB$10:AB32)","v":{"v":536067.7044533675,"d":"536067.70"}}]
[null,"Ergebnis",{"$nulls":25},"Druckverlust gesamt in bar",{"$f":"SUBTOTAL(104,Tabelle74['[Pa']4])*0.00001","v":5.360677044533675}]
[]
[]
[{"$nulls":20},{"$f":"S11*T11","v":513.7571169401474}]

{"sheet":"TC_2 bis Druckminderer","index":2,"n_rows":50,"n_cols":29,"rows_kept":50,"merged":[[6,2,7,2],[6,3,7,3],[6,4,7,4],[6,5,7,5],[6,6,7,6],[6,7,7,7],[6,8,7,8],[6,9,7,9],[6,10,7,10],[6,11,7,11],[6,12,7,12],[6,13,7,13],[6,14,7,14],[6,15,7,15],[6,16,7,16],[6,17,7,17],[6,18,7,18],[6,19,7,19],[6,20,7,20],[6,21,7,21],[6,22,7,22],[6,23,7,23],[6,24,7,24],[6,25,7,25],[6,26,7,26],[6,27,7,27],[6,28,7,28]]}
[]
[null,null,"Temperatur",null,338,null,"Normdichte",0.08988]
[null,null,"Massenstrom",null,{"$f":"17.64*8","v":141.12},null,"Startdruck",{"v":20,"d":"20.00"}]
[null,null,"Rauigleit (mm)",null,{"v":0.04,"d":"4.00E-02"}]
[null,null,"Innendurchmesser",null,{"$f":"'Diagramme '!C3","v":0.02}]
[]
[null,null,"Rohr oder Ventil","Länge Rohrleitung ","Innendruchmesser Rohr","Rauigkeit","Massenstrom H2 ","Massenstrom H2 ","Volumenstrom H2 ","Druck","Temperatur","Dichte","dynamische Viskosität","kinematische Viskosität","Norm Dichte","Norm Volumenstrom","Geschwindigkeit","Mach-Zahl","RE-Zahl","k/d ","Rohrreibungszahl","Kv-Wert","Widerstandsbeiwert Zeta","Durckverlust durch Komponente ","Durckverlust durch Komponente ","p_1","p_2","Delta p","Delta P aufsummiert "]
[]
["System ","Komponente ","[-]","[m]","[m]2","[m]3","[kg/h]","[kg/s]","[m^3/s]","[Pa]","[K]","[kg/m^3]","[Pa*s]","[m^2/s]","[kg/m^3]","[Nm^3/h]","[m/s]","[-]","[-]","[-]","[-]","[m^3/h]","[-]","[Pa]","[bar]","[bar]","[bar]","[Pa]","[Pa]"]
[null,"H2 Kupplung ","Ventil",null,{"$f":"IF(ISTEXT(E9),$E$5,E9)","v":0.02},{"$f":"IF(ISTEXT(F9),E4*0.001,F9)","v":{"v":4e-05,"d":"4.00E-05"}},{"$f":"17.64*8","v":141.12},{"$f":"G10/3600","v":0.0392},{"$f":"H10/L10","v":0.027620418371815808},{"$f":"IF(ISTEXT(AA9),$H$3*100000,AA9*100000)","v":2000000},{"$f":"IF(ISTEXT(K9),E2,K9)","v":338},{"$f":"Dichte(K10,J10)","v":{"v":1.4192399069523194,"d":"1.41924"}},{"$f":"VLOOKUP(J10*0.00001,'Datenbank Werte '!$A$1:$B$500,2,TRUE)*0.000001","v":{"v":9.7159999999999981E-6,"d":"9.72E-06"}},{"$f":"M10/L10","v":{"v":6.8459179821572027E-6,"d":"6.85E-06"}},{"$f":"IF(ISTEXT(O9),H2,O9)","v":0.08988},{"$f":"Tabelle7[[#This Row],['[kg/h']]]/Tabelle7[[#This Row],['[kg/m^3']4]]","v":{"v":1570.0934579439252,"d":"1570.09"}},{"$f":"H10*4/(L10*PI()*E10^2)","v":{"v":87.91852228281371,"d":"87.92"}},{"$f":"Tabelle7[[#This Row],['[m/s']]]/VLOOKUP(J10*0.00001,'Datenbank Werte '!$A$1:$C$500,3,TRUE)","v":{"v":0.062190367321789425,"d":"0.06"}},{"$f":"(L10*Q10*E10)/M10","v":{"v":256849.4758831741,"d":"2.5685E+05"}},{"$f":"F10/E10","v":{"v":2E-3,"d":"2.0E-03"}},{"$f":"Rohrreibungszahl(Tabelle7[[#This Row],['[-']]],Tabelle7[[#This Row],['[-']4]],Tabelle7[[#This Row],['[-']3]],Tabelle7[[#This Row],['[m']2]],Tabelle7[[#This Row],['[m']3]])","v":"Nur bei 'Rohr' benötigt"},3.53,null,{"$f":"IF(Tabelle7[[#This Row],['[-']2]]>0,Tabelle7[[#This Row],['[-']2]]*(Tabelle7[[#This Row],['[kg/m^3']]]/2)*Tabelle7[[#This Row],['[m/s']]]^2,Druckverlust(Tabelle7[[#This Row],[Spalte1]],C10,U10,V10,P10,L10,O10,J10,K10,Q10,D10,E10))","v":{"v":121072.3779401647,"d":"121072.38"}},{"$f":"X10/10^5","v":1.210723779401647},{"$f":"J10/10^5","v":{"v":20,"d":"20.00"}},{"$f":"Z10-Y10","v":{"v":18.789276220598353,"d":"18.79"}},{"$f":"X10","v":{"v":121072.3779401647,"d":"121072.38"}},{"$f":"SUM($AB$10:AB10)","v":{"v":121072.3779401647,"d":"121072.38"}}]
[null,"Schlauch","Rohr",1,{"$f":"IF(ISTEXT(E10),$E$5,E10)","v":0.02},{"$f":"IF(ISTEXT(F10),E5,F10)","v":{"v":4e-05,"d":"4.00E-05"}},141.12,{"$f":"G11/3600","v":0.0392},{"v":0.02938107177885136,"d":"2.94E-02"},{"$f":"IF(ISTEXT(AA10),$H$3*100000,AA10*100000)","v":1878927.6220598354},{"$f":"IF(ISTEXT(K10),E3,K10)","v":338},{"$f":"Dichte(K11,J11)","v":{"v":1.3341923090843932,"d":"1.33419"}},{"$f":"VLOOKUP(J11*0.00001,'Datenbank Werte '!$A$1:$B$500,2,TRUE)*0.000001","v":{"v":9.7148999999999991E-6,"d":"9.71E-06"}},{"v":7.2814840363357924E-6,"d":"7.28E-06"},{"$f":"IF(ISTEXT(O10),H3,O10)","v":{"v":0.08988,"d":"8.99E-02"}},{"$f":"Tabelle7[[#This Row],['[kg/h']]]/Tabelle7[[#This Row],['[kg/m^3']4]]","v":{"v":1570.0934579439252,"d":"1570.09"}},{"v":93.5228561388396,"d":"93.52"},{"$f":"Tabelle7[[#This Row],['[m/s']]]/VLOOKUP(J11*0.00001,'Datenbank Werte '!$A$1:$C$500,3,TRUE)","v":{"v":0.06622962689529042,"d":"0.07"}},{"v":256878.55847007368,"d":"2.5688E+05"},{"v":2E-3,"d":"2.0E-03"},{"$f":"Rohrreibungszahl(Tabelle7[[#This Row],['[-']]],Tabelle7[[#This Row],['[-']4]],Tabelle7[[#This Row],['[-']3]],Tabelle7[[#This Row],['[m']2]],Tabelle7[[#This Row],['[m']3]])","v":{"v":0.024094324844793406,"d":"2.41E-02"}},null,null,{"$f":"IF(Tabelle7[[#This Row],['[-']2]]>0,Tabelle7[[#This Row],['[-']2]]*(Tabelle7[[#This Row],['[kg/m^3']]]/2)*Tabelle7[[#This Row],['[m/s']]]^2,Druckverlust(Tabelle7[[#This Row],[Spalte1]],C11,U11,V11,P11,L11,O11,J11,K11,Q11,D11,E11))","v":{"v":7029.245730423665,"d":"7029.25"}},{"$f":"X11/10^5","v":0.07029245730423665},{"$f":"J11/10^5","v":{"v":18.789276220598353,"d":"18.79"}},{"$f":"Z11-Y11","v":{"v":18.718983763294116,"d":"18.72"}},{"$f":"X11","v":{"v":7029.245730423665,"d":"7029.25"}},{"$f":"SUM($AB$10:AB11)","v":{"v":128101.62367058836,"d":"128101.62"}}]
[null,"90°Winkel","Rohr",null,0.02,{"v":4e-05,"d":"4.00E-05"},{"$f":"17.64*8","v":141.12},{"$f":"G12/3600","v":0.0392},{"v":0.029490287672061993,"d":"2.95E-02"},1871898.3763294115,338,{"$f":"Dichte(K12,J12)","v":{"v":1.329251190626283,"d":"1.32925"}},{"$f":"VLOOKUP(J12*0.00001,'Datenbank Werte '!$A$1:$B$500,2,TRUE)*0.000001","v":{"v":9.7148999999999991E-6,"d":"9.71E-06"}},{"v":7.3085509108498737E-6,"d":"7.31E-06"},{"v":0.08988,"d":"8.99E-02"},{"$f":"Tabelle7[[#This Row],['[kg/h']]]/Tabelle7[[#This Row],['[kg/m^3']4]]","v":{"v":1570.0934579439252,"d":"1570.09"}},{"v":93.87050112421298,"d":"93.87"},{"$f":"Tabelle7[[#This Row],['[m/s']]]/VLOOKUP(J12*0.00001,'Datenbank Werte '!$A$1:$C$500,3,TRUE)","v":{"v":0.06647581695645705,"d":"0.07"}},{"v":256878.55847007368,"d":"2.5688E+05"},{"v":2E-3,"d":"2.0E-03"},{"$f":"Rohrreibungszahl(Tabelle7[[#This Row],['[-']]],Tabelle7[[#This Row],['[-']4]],Tabelle7[[#This Row],['[-']3]],Tabelle7[[#This Row],['[m']2]],Tabelle7[[#This Row],['[m']3]])","v":{"v":0.024094324844793406,"d":"2.41E-02"}},null,0.15,{"$f":"IF(Tabelle7[[#This Row],['[-']2]]>0,Tabelle7[[#This Row],['[-']2]]*(Tabelle7[[#This Row],['[kg/m^3']]]/2)*Tabelle7[[#This Row],['[m/s']]]^2,Druckverlust(Tabelle7[[#This Row],[Spalte1]],C12,U12,V12,P12,L12,O12,J12,K12,Q12,D12,E12))","v":{"v":878.4693107485906,"d":"878.47"}},{"$f":"X12/10^5","v":0.008784693107485905},{"$f":"J12/10^5","v":{"v":18.718983763294116,"d":"18.72"}},{"$f":"Z12-Y12","v":{"v":18.71019907018663,"d":"18.71"}},{"$f":"X12","v":{"v":878.4693107485906,"d":"878.47"}},{"$f":"SUM($AB$10:AB12)","v":{"v":128980.09298133696,"d":"128980.09"}}]
[null,"Rohr ","Rohr",4.8,0.02,{"v":4e-05,"d":"4.00E-05"},141.12,0.0392,{"v":0.029503994450363,"d":"2.95E-02"},1871019.907018663,338,{"$f":"Dichte(K13,J13)","v":{"v":1.3286336555529588,"d":"1.32863"}},{"$f":"VLOOKUP(J13*0.00001,'Datenbank Werte '!$A$1:$B$500,2,TRUE)*0.000001","v":{"v":9.7148999999999991E-6,"d":"9.71E-06"}},{"v":7.3119478491283539E-6,"d":"7.31E-06"},{"v":0.08988,"d":"8.99E-02"},{"$f":"Tabelle7[[#This Row],['[kg/h']]]/Tabelle7[[#This Row],['[kg/m^3']4]]","v":{"v":1570.0934579439252,"d":"1570.09"}},{"v":93.91413115462237,"d":"93.91"},{"$f":"Tabelle7[[#This Row],['[m/s']]]/VLOOKUP(J13*0.00001,'Datenbank Werte '!$A$1:$C$500,3,TRUE)","v":{"v":0.0665067142232295,"d":"0.07"}},{"v":256878.55847007368,"d":"2.5688E+05"},{"v":2E-3,"d":"2.0E-03"},{"$f":"Rohrreibungszahl(Tabelle7[[#This Row],['[-']]],Tabelle7[[#This Row],['[-']4]],Tabelle7[[#This Row],['[-']3]],Tabelle7[[#This Row],['[m']2]],Tabelle7[[#This Row],['[m']3]])","v":{"v":0.024094324844793406,"d":"2.41E-02"}},null,null,{"$f":"IF(Tabelle7[[#This Row],['[-']2]]>0,Tabelle7[[#This Row],['[-']2]]*(Tabelle7[[#This Row],['[kg/m^3']]]/2)*Tabelle7[[#This Row],['[m/s']]]^2,Druckverlust(Tabelle7[[#This Row],[Spalte1]],C13,U13,V13,P13,L13,O13,J13,K13,Q13,D13,E13))","v":{"v":33881.54037374855,"d":"33881.54"}},0.3388154037374855,{"v":18.71019907018663,"d":"18.71"},{"v":18.371383666449145,"d":"18.37"},{"v":33881.54037374855,"d":"33881.54"},{"$f":"SUM($AB$10:AB13)","v":{"v":162861.6333550855,"d":"162861.63"}}]
[null,"90°Winkel","Rohr",null,0.02,{"v":4e-05,"d":"4.00E-05"},141.12,0.0392,{"v":0.03004265168334402,"d":"3.00E-02"},1837138.3666449145,338,{"$f":"Dichte(K14,J14)","v":{"v":1.304811586313232,"d":"1.30481"}},{"$f":"VLOOKUP(J14*0.00001,'Datenbank Werte '!$A$1:$B$500,2,TRUE)*0.000001","v":{"v":9.7148999999999991E-6,"d":"9.71E-06"}},{"v":7.4454427764928267E-6,"d":"7.45E-06"},{"v":0.08988,"d":"8.99E-02"},{"$f":"Tabelle7[[#This Row],['[kg/h']]]/Tabelle7[[#This Row],['[kg/m^3']4]]","v":{"v":1570.0934579439252,"d":"1570.09"}},{"v":95.62873037984502,"d":"95.63"},{"$f":"Tabelle7[[#This Row],['[m/s']]]/VLOOKUP(J14*0.00001,'Datenbank Werte '!$A$1:$C$500,3,TRUE)","v":{"v":0.06772093363065294,"d":"0.07"}},{"v":256878.55847007374,"d":"2.5688E+05"},{"v":2E-3,"d":"2.0E-03"},{"$f":"Rohrreibungszahl(Tabelle7[[#This Row],['[-']]],Tabelle7[[#This Row],['[-']4]],Tabelle7[[#This Row],['[-']3]],Tabelle7[[#This Row],['[m']2]],Tabelle7[[#This Row],['[m']3]])","v":{"v":0.024094324844793406,"d":"2.41E-02"}},null,0.15,{"$f":"IF(Tabelle7[[#This Row],['[-']2]]>0,Tabelle7[[#This Row],['[-']2]]*(Tabelle7[[#This Row],['[kg/m^3']]]/2)*Tabelle7[[#This Row],['[m/s']]]^2,Druckverlust(Tabelle7[[#This Row],[Spalte1]],C14,U14,V14,P14,L14,O14,J14,K14,Q14,D14,E14))","v":{"v":894.9233663234008,"d":"894.92"}},0.008949233663234009,{"v":18.371383666449145,"d":"18.37"},{"v":18.36243443278591,"d":"18.36"},{"v":894.9233663234008,"d":"894.92"},{"$f":"SUM($AB$10:AB14)","v":{"v":163756.5567214089,"d":"163756.56"}}]
[null,"Rohr ","Rohr",3,0.02,{"v":4e-05,"d":"4.00E-05"},141.12,0.0392,{"v":0.03005714886221975,"d":"3.01E-02"},1836243.4432785911,338,{"$f":"Dichte(K15,J15)","v":{"v":1.3041822489448536,"d":"1.30418"}},{"$f":"VLOOKUP(J15*0.00001,'Datenbank Werte '!$A$1:$B$500,2,TRUE)*0.000001","v":{"v":9.7148999999999991E-6,"d":"9.71E-06"}},{"v":7.4490355990198632E-6,"d":"7.45E-06"},{"v":0.08988,"d":"8.99E-02"},{"$f":"Tabelle7[[#This Row],['[kg/h']]]/Tabelle7[[#This Row],['[kg/m^3']4]]","v":{"v":1570.0934579439252,"d":"1570.09"}},{"v":95.67487633342422,"d":"95.67"},{"$f":"Tabelle7[[#This Row],['[m/s']]]/VLOOKUP(J15*0.00001,'Datenbank Werte '!$A$1:$C$500,3,TRUE)","v":{"v":0.06775361258651953,"d":"0.07"}},{"v":256878.55847007374,"d":"2.5688E+05"},{"v":2E-3,"d":"2.0E-03"},{"$f":"Rohrreibungszahl(Tabelle7[[#This Row],['[-']]],Tabelle7[[#This Row],['[-']4]],Tabelle7[[#This Row],['[-']3]],Tabelle7[[#This Row],['[m']2]],Tabelle7[[#This Row],['[m']3]])","v":{"v":0.024094324844793406,"d":"2.41E-02"}},null,null,{"$f":"IF(Tabelle7[[#This Row],['[-']2]]>0,Tabelle7[[#This Row],['[-']2]]*(Tabelle7[[#This Row],['[kg/m^3']]]/2)*Tabelle7[[#This Row],['[m/s']]]^2,Druckverlust(Tabelle7[[#This Row],[Spalte1]],C15,U15,V15,P15,L15,O15,J15,K15,Q15,D15,E15))","v":{"v":21572.97938945983,"d":"21572.98"}},0.2157297938945983,{"v":18.36243443278591,"d":"18.36"},{"v":18.14670463889131,"d":"18.15"},{"v":21572.97938945983,"d":"21572.98"},{"$f":"SUM($AB$10:AB15)","v":{"v":185329.53611086874,"d":"185329.54"}}]
[null,"90°Winkel","Rohr",null,{"$f":"IF(ISTEXT(E15),$E$5,E15)","v":0.02},{"$f":"IF(ISTEXT(F15),E10,F15)","v":{"v":4e-05,"d":"4.00E-05"}},141.12,0.0392,{"v":0.03041094409045444,"d":"3.04E-02"},{"$f":"IF(ISTEXT(AA15),$H$3*100000,AA15*100000)","v":1814670.463889131},{"$f":"IF(ISTEXT(K15),E8,K15)","v":338},{"$f":"Dichte(K16,J16)","v":{"v":1.2890096369058242,"d":"1.28901"}},{"$f":"VLOOKUP(J16*0.00001,'Datenbank Werte '!$A$1:$B$500,2,TRUE)*0.000001","v":{"v":9.7148999999999991E-6,"d":"9.71E-06"}},{"v":7.5367163455192817E-6,"d":"7.54E-06"},{"$f":"IF(ISTEXT(O15),H8,O15)","v":{"v":0.08988,"d":"8.99E-02"}},{"$f":"Tabelle7[[#This Row],['[kg/h']]]/Tabelle7[[#This Row],['[kg/m^3']4]]","v":{"v":1570.0934579439252,"d":"1570.09"}},{"v":96.80104152174174,"d":"96.80"},{"$f":"Tabelle7[[#This Row],['[m/s']]]/VLOOKUP(J16*0.00001,'Datenbank Werte '!$A$1:$C$500,3,TRUE)","v":{"v":0.06855112351939788,"d":"0.07"}},{"v":256878.55847007368,"d":"2.5688E+05"},{"v":2E-3,"d":"2.0E-03"},{"$f":"Rohrreibungszahl(Tabelle7[[#This Row],['[-']]],Tabelle7[[#This Row],['[-']4]],Tabelle7[[#This Row],['[-']3]],Tabelle7[[#This Row],['[m']2]],Tabelle7[[#This Row],['[m']3]])","v":{"v":0.024094324844793406,"d":"2.41E-02"}},null,0.15,{"$f":"IF(Tabelle7[[#This Row],['[-']2]]>0,Tabelle7[[#This Row],['[-']2]]*(Tabelle7[[#This Row],['[kg/m^3']]]/2)*Tabelle7[[#This Row],['[m/s']]]^2,Druckverlust(Tabelle7[[#This Row],[Spalte1]],C16,U16,V16,P16,L16,O16,J16,K16,Q16,D16,E16))","v":{"v":905.8942181721853,"d":"905.89"}},0.009058942181721853,{"v":18.14670463889131,"d":"18.15"},{"v":18.13764569670959,"d":"18.14"},{"v":905.8942181721853,"d":"905.89"},{"$f":"SUM($AB$10:AB16)","v":{"v":186235.43032904092,"d":"186235.43"}}]
[null,"Rohr (Durchführung FRP)","Rohr",1.6,{"$f":"IF(ISTEXT(E16),$E$5,E16)","v":0.02},{"$f":"IF(ISTEXT(F16),E11,F16)","v":{"v":4e-05,"d":"4.00E-05"}},141.12,0.0392,{"$f":"H17/L17","v":{"v":0.030425984815391004,"d":"3.04E-02"}},{"$f":"IF(ISTEXT(AA16),$H$3*100000,AA16*100000)","v":1813764.5696709591},{"$f":"IF(ISTEXT(K16),E9,K16)","v":338},{"$f":"Dichte(K17,J17)","v":{"v":1.288372430271202,"d":"1.28837"}},{"$f":"VLOOKUP(J17*0.00001,'Datenbank Werte '!$A$1:$B$500,2,TRUE)*0.000001","v":{"v":9.7148999999999991E-6,"d":"9.71E-06"}},{"$f":"M17/L17","v":{"v":7.540443874567399E-6,"d":"7.54E-06"}},{"$f":"IF(ISTEXT(O16),H9,O16)","v":{"v":0.08988,"d":"8.99E-02"}},{"$f":"Tabelle7[[#This Row],['[kg/h']]]/Tabelle7[[#This Row],['[kg/m^3']4]]","v":{"v":1570.0934579439252,"d":"1570.09"}},{"$f":"H17*4/(L17*PI()*E17^2)","v":{"v":96.84891763616854,"d":"96.85"}},{"$f":"Tabelle7[[#This Row],['[m/s']]]/VLOOKUP(J17*0.00001,'Datenbank Werte '!$A$1:$C$500,3,TRUE)","v":{"v":0.06858502771487043,"d":"0.07"}},{"$f":"(L17*Q17*E17)/M17","v":{"v":256878.55847007374,"d":"2.5688E+05"}},{"$f":"F17/E17","v":{"v":2E-3,"d":"2.0E-03"}},{"$f":"Rohrreibungszahl(Tabelle7[[#This Row],['[-']]],Tabelle7[[#This Row],['[-']4]],Tabelle7[[#This Row],['[-']3]],Tabelle7[[#This Row],['[m']2]],Tabelle7[[#This Row],['[m']3]])","v":{"v":0.024094324844793406,"d":"2.41E-02"}},null,null,{"$f":"IF(Tabelle7[[#This Row],['[-']2]]>0,Tabelle7[[#This Row],['[-']2]]*(Tabelle7[[#This Row],['[kg/m^3']]]/2)*Tabelle7[[#This Row],['[m/s']]]^2,Druckverlust(Tabelle7[[#This Row],[Spalte1]],C17,U17,V17,P17,L17,O17,J17,K17,Q17,D17,E17))","v":{"v":11646.775881686845,"d":"11646.78"}},0.11646775881686844,{"v":18.13764569670959,"d":"18.14"},{"v":18.021177937892723,"d":"18.02"},{"v":11646.775881686845,"d":"11646.78"},{"$f":"SUM($AB$10:AB17)","v":{"v":197882.20621072775,"d":"197882.21"}}]
[null,"Filter","Ventil",null,{"$f":"IF(ISTEXT(E16),$E$5,E16)","v":0.02},{"$f":"IF(ISTEXT(F16),E11,F16)","v":{"v":4e-05,"d":"4.00E-05"}},141.12,0.0392,{"v":0.03062070530273847,"d":"3.06E-02"},{"$f":"IF(ISTEXT(AA17),$H$3*100000,AA17*100000)","v":1802117.7937892724},{"$f":"IF(ISTEXT(K16),E9,K16)","v":338},{"$f":"Dichte(K18,J18)","v":{"v":1.280179525991985,"d":"1.28018"}},{"$f":"VLOOKUP(J18*0.00001,'Datenbank Werte '!$A$1:$B$500,2,TRUE)*0.000001","v":{"v":9.7148999999999991E-6,"d":"9.71E-06"}},{"v":7.5887012741217847E-6,"d":"7.59E-06"},{"$f":"IF(ISTEXT(O16),H9,O16)","v":{"v":0.08988,"d":"8.99E-02"}},{"$f":"Tabelle7[[#This Row],['[kg/h']]]/Tabelle7[[#This Row],['[kg/m^3']4]]","v":{"v":1570.0934579439252,"d":"1570.09"}},{"v":97.46873219782078,"d":"97.47"},{"$f":"Tabelle7[[#This Row],['[m/s']]]/VLOOKUP(J18*0.00001,'Datenbank Werte '!$A$1:$C$500,3,TRUE)","v":{"v":0.06902395878324537,"d":"0.07"}},{"v":256878.55847007374,"d":"2.5688E+05"},{"v":2E-3,"d":"2.0E-03"},{"$f":"Rohrreibungszahl(Tabelle7[[#This Row],['[-']]],Tabelle7[[#This Row],['[-']4]],Tabelle7[[#This Row],['[-']3]],Tabelle7[[#This Row],['[m']2]],Tabelle7[[#This Row],['[m']3]])","v":"Nur bei 'Rohr' benötigt"},4,null,{"$f":"IF(Tabelle7[[#This Row],['[-']2]]>0,Tabelle7[[#This Row],['[-']2]]*(Tabelle7[[#This Row],['[kg/m^3']]]/2)*Tabelle7[[#This Row],['[m/s']]]^2,Druckverlust(Tabelle7[[#This Row],[Spalte1]],C18,U18,V18,P18,L18,O18,J18,K18,Q18,D18,E18))","v":{"v":104353.53484061103,"d":"104353.53"}},1.0435353484061103,{"v":18.021177937892723,"d":"18.02"},{"v":16.977642589486614,"d":"16.98"},{"v":104353.53484061103,"d":"104353.53"},{"$f":"SUM($AB$10:AB18)","v":{"v":302235.7410513388,"d":"302235.74"}}]
[null,"Rückschlag-/Absperrventil","Ventil",null,0.02,{"$f":"IF(ISTEXT(F18),E12,F18)","v":{"v":4e-05,"d":"4.00E-05"}},141.12,0.0392,{"v":0.0324845816263914,"d":"3.25E-02"},1697764.2589486614,{"$f":"IF(ISTEXT(K18),E10,K18)","v":338},{"$f":"Dichte(K19,J19)","v":{"v":1.2067263309973737,"d":"1.20673"}},{"$f":"VLOOKUP(J19*0.00001,'Datenbank Werte '!$A$1:$B$500,2,TRUE)*0.000001","v":{"v":9.7138e-06,"d":"9.71E-06"}},{"v":8.0497124745520617E-6,"d":"8.05E-06"},{"$f":"IF(ISTEXT(O18),H10,O18)","v":{"v":0.08988,"d":"8.99E-02"}},{"$f":"Tabelle7[[#This Row],['[kg/h']]]/Tabelle7[[#This Row],['[kg/m^3']4]]","v":{"v":1570.0934579439252,"d":"1570.09"}},{"v":103.40163480224706,"d":"103.40"},{"$f":"Tabelle7[[#This Row],['[m/s']]]/VLOOKUP(J19*0.00001,'Datenbank Werte '!$A$1:$C$500,3,TRUE)","v":{"v":0.07330849684668349,"d":"0.07"}},{"v":256907.64764365327,"d":"2.5691E+05"},{"v":2E-3,"d":"2.0E-03"},{"$f":"Rohrreibungszahl(Tabelle7[[#This Row],['[-']]],Tabelle7[[#This Row],['[-']4]],Tabelle7[[#This Row],['[-']3]],Tabelle7[[#This Row],['[m']2]],Tabelle7[[#This Row],['[m']3]])","v":"Nur bei 'Rohr' benötigt"},4,null,{"$f":"IF(Tabelle7[[#This Row],['[-']2]]>0,Tabelle7[[#This Row],['[-']2]]*(Tabelle7[[#This Row],['[kg/m^3']]]/2)*Tabelle7[[#This Row],['[m/s']]]^2,Druckverlust(Tabelle7[[#This Row],[Spalte1]],C19,U19,V19,P19,L19,O19,J19,K19,Q19,D19,E19))","v":{"v":111702.93281077115,"d":"111702.93"}},1.1170293281077115,{"v":16.977642589486614,"d":"16.98"},{"v":15.860613261378901,"d":"15.86"},{"v":111702.93281077115,"d":"111702.93"},{"$f":"SUM($AB$10:AB19)","v":{"v":413938.67386210995,"d":"413938.67"}}]
[null,"T-Stück (Eingang Sammelrohr) ","Rohr",null,{"$f":"IF(ISTEXT(E19),$E$5,E19)","v":0.02},{"$f":"IF(ISTEXT(F19),E13,F19)","v":{"v":4e-05,"d":"4.00E-05"}},141.12,0.0392,{"$f":"H20/L20","v":{"v":0.03475151358278483,"d":"3.48E-02"}},1586061.32613789,338,{"$f":"Dichte(K20,J20)","v":{"v":1.1280084220394606,"d":"1.12801"}},{"$f":"VLOOKUP(J20*0.00001,'Datenbank Werte '!$A$1:$B$500,2,TRUE)*0.000001","v":{"v":9.7133e-06,"d":"9.71E-06"}},{"$f":"M20/L20","v":{"v":8.6110172674404066E-6,"d":"8.61E-06"}},{"v":0.08988,"d":"8.99E-02"},{"$f":"Tabelle7[[#This Row],['[kg/h']]]/Tabelle7[[#This Row],['[kg/m^3']4]]","v":{"v":1570.0934579439252,"d":"1570.09"}},{"$f":"H20*4/(L20*PI()*E20^2)","v":{"v":110.61750333250696,"d":"110.62"}},{"$f":"Tabelle7[[#This Row],['[m/s']]]/VLOOKUP(J20*0.00001,'Datenbank Werte '!$A$1:$C$500,3,TRUE)","v":{"v":0.0784688255178456,"d":"0.08"}},{"$f":"(L20*Q20*E20)/M20","v":{"v":256920.87217330042,"d":"2.5692E+05"}},{"$f":"F20/E20","v":{"v":2E-3,"d":"2.0E-03"}},{"$f":"Rohrreibungszahl(Tabelle7[[#This Row],['[-']]],Tabelle7[[#This Row],['[-']4]],Tabelle7[[#This Row],['[-']3]],Tabelle7[[#This Row],['[m']2]],Tabelle7[[#This Row],['[m']3]])","v":{"v":0.02409421431952691,"d":"2.41E-02"}},null,0.9,{"$f":"IF(Tabelle7[[#This Row],['[-']2]]>0,Tabelle7[[#This Row],['[-']2]]*(Tabelle7[[#This Row],['[kg/m^3']]]/2)*Tabelle7[[#This Row],['[m/s']]]^2,Druckverlust(Tabelle7[[#This Row],[Spalte1]],C20,U20,V20,P20,L20,O20,J20,K20,Q20,D20,E20))","v":{"v":6211.157759602429,"d":"6211.16"}},0.06211157759602429,{"v":15.860613261378901,"d":"15.86"},{"v":15.798501683782877,"d":"15.80"},{"v":6211.157759602429,"d":"6211.16"},{"$f":"SUM($AB$10:AB20)","v":{"v":420149.83162171236,"d":"420149.83"}}]
[null,"Sammelrohr","Rohr",0.2,{"$f":"IF(ISTEXT(E20),$E$5,E20)","v":0.02},{"$f":"IF(ISTEXT(F20),E14,F20)","v":{"v":4e-05,"d":"4.00E-05"}},141.12,0.0392,{"v":0.03488697272837304,"d":"3.49E-02"},1579850.1683782877,338,{"$f":"Dichte(K21,J21)","v":{"v":1.1236285906836292,"d":"1.12363"}},{"$f":"VLOOKUP(J21*0.00001,'Datenbank Werte '!$A$1:$B$500,2,TRUE)*0.000001","v":{"v":9.7133e-06,"d":"9.71E-06"}},{"v":8.644582454145557E-6,"d":"8.64E-06"},{"v":0.08988,"d":"8.99E-02"},{"$f":"Tabelle7[[#This Row],['[kg/h']]]/Tabelle7[[#This Row],['[kg/m^3']4]]","v":{"v":1570.0934579439252,"d":"1570.09"}},{"v":111.0486831846543,"d":"111.05"},{"$f":"Tabelle7[[#This Row],['[m/s']]]/VLOOKUP(J21*0.00001,'Datenbank Werte '!$A$1:$C$500,3,TRUE)","v":{"v":0.07877469190938093,"d":"0.08"}},{"v":256920.87217330042,"d":"2.5692E+05"},{"v":2E-3,"d":"2.0E-03"},{"$f":"Rohrreibungszahl(Tabelle7[[#This Row],['[-']]],Tabelle7[[#This Row],['[-']4]],Tabelle7[[#This Row],['[-']3]],Tabelle7[[#This Row],['[m']2]],Tabelle7[[#This Row],['[m']3]])","v":{"v":0.02409421431952691,"d":"2.41E-02"}},null,null,{"$f":"IF(Tabelle7[[#This Row],['[-']2]]>0,Tabelle7[[#This Row],['[-']2]]*(Tabelle7[[#This Row],['[kg/m^3']]]/2)*Tabelle7[[#This Row],['[m/s']]]^2,Druckverlust(Tabelle7[[#This Row],[Spalte1]],C21,U21,V21,P21,L21,O21,J21,K21,Q21,D21,E21))","v":{"v":1669.2922642947049,"d":"1669.29"}},0.01669292264294705,{"v":15.798501683782877,"d":"15.80"},{"v":15.78180876113993,"d":"15.78"},{"v":1669.2922642947049,"d":"1669.29"},{"$f":"SUM($AB$10:AB21)","v":{"v":421819.12388600706,"d":"421819.12"}}]
[null,"T-Stück (zum TC)","Rohr",null,0.02,{"$f":"IF(ISTEXT(F21),E15,F21)","v":{"v":4e-05,"d":"4.00E-05"}},141.12,0.0392,{"v":0.03492356011384648,"d":"3.49E-02"},1578180.8761139929,338,{"$f":"Dichte(K22,J22)","v":{"v":1.1224514302726543,"d":"1.12245"}},{"$f":"VLOOKUP(J22*0.00001,'Datenbank Werte '!$A$1:$B$500,2,TRUE)*0.000001","v":{"v":9.7133e-06,"d":"9.71E-06"}},{"v":8.6536483789241083E-6,"d":"8.65E-06"},{"v":0.08988,"d":"8.99E-02"},{"$f":"Tabelle7[[#This Row],['[kg/h']]]/Tabelle7[[#This Row],['[kg/m^3']4]]","v":{"v":1570.0934579439252,"d":"1570.09"}},{"v":111.16514444971243,"d":"111.17"},{"$f":"Tabelle7[[#This Row],['[m/s']]]/VLOOKUP(J22*0.00001,'Datenbank Werte '!$A$1:$C$500,3,TRUE)","v":{"v":0.07885730612875962,"d":"0.08"}},{"v":256920.87217330036,"d":"2.5692E+05"},{"v":2E-3,"d":"2.0E-03"},{"$f":"Rohrreibungszahl(Tabelle7[[#This Row],['[-']]],Tabelle7[[#This Row],['[-']4]],Tabelle7[[#This Row],['[-']3]],Tabelle7[[#This Row],['[m']2]],Tabelle7[[#This Row],['[m']3]])","v":{"v":0.02409421431952691,"d":"2.41E-02"}},null,0.05,{"$f":"IF(Tabelle7[[#This Row],['[-']2]]>0,Tabelle7[[#This Row],['[-']2]]*(Tabelle7[[#This Row],['[kg/m^3']]]/2)*Tabelle7[[#This Row],['[m/s']]]^2,Druckverlust(Tabelle7[[#This Row],[Spalte1]],C22,U22,V22,P22,L22,O22,J22,K22,Q22,D22,E22))","v":{"v":346.7726518784476,"d":"346.77"}},3.4677265187844763E-3,{"v":15.78180876113993,"d":"15.78"},{"v":15.778341034621144,"d":"15.78"},{"v":346.7726518784476,"d":"346.77"},{"$f":"SUM($AB$10:AB22)","v":{"v":422165.89653788554,"d":"422165.90"}}]
[null,null,"Rohr",0.1,0.02,{"$f":"IF(ISTEXT(F22),E16,F22)","v":{"v":4e-05,"d":"4.00E-05"}},141.12,0.0392,{"v":0.03493117035472307,"d":"3.49E-02"},1577834.1034621145,338,{"$f":"Dichte(K23,J23)","v":{"v":1.122206888630622,"d":"1.12221"}},{"$f":"VLOOKUP(J23*0.00001,'Datenbank Werte '!$A$1:$B$500,2,TRUE)*0.000001","v":{"v":9.7133e-06,"d":"9.71E-06"}},{"v":8.655534107309481E-6,"d":"8.66E-06"},{"v":0.08988,"d":"8.99E-02"},{"$f":"Tabelle7[[#This Row],['[kg/h']]]/Tabelle7[[#This Row],['[kg/m^3']4]]","v":{"v":1570.0934579439252,"d":"1570.09"}},{"v":111.18936859878504,"d":"111.19"},{"$f":"Tabelle7[[#This Row],['[m/s']]]/VLOOKUP(J23*0.00001,'Datenbank Werte '!$A$1:$C$500,3,TRUE)","v":{"v":0.07887449003247857,"d":"0.08"}},{"v":256920.87217330042,"d":"2.5692E+05"},{"v":2E-3,"d":"2.0E-03"},{"$f":"Rohrreibungszahl(Tabelle7[[#This Row],['[-']]],Tabelle7[[#This Row],['[-']4]],Tabelle7[[#This Row],['[-']3]],Tabelle7[[#This Row],['[m']2]],Tabelle7[[#This Row],['[m']3]])","v":{"v":0.02409421431952691,"d":"2.41E-02"}},null,null,{"$f":"IF(Tabelle7[[#This Row],['[-']2]]>0,Tabelle7[[#This Row],['[-']2]]*(Tabelle7[[#This Row],['[kg/m^3']]]/2)*Tabelle7[[#This Row],['[m/s']]]^2,Druckverlust(Tabelle7[[#This Row],[Spalte1]],C23,U23,V23,P23,L23,O23,J23,K23,Q23,D23,E23))","v":{"v":835.7035290780171,"d":"835.70"}},0.008357035290780171,{"v":15.778341034621144,"d":"15.78"},{"v":15.769983999330364,"d":"15.77"},{"v":835.7035290780171,"d":"835.70"},{"$f":"SUM($AB$10:AB23)","v":{"v":423001.6000669635,"d":"423001.60"}}]
[null,"T-Stück (Ausgang Sammelrohr)","Rohr",null,0.02,{"$f":"IF(ISTEXT(F23),E18,F23)","v":{"v":4e-05,"d":"4.00E-05"}},141.12,0.0392,{"v":0.0349495243800644,"d":"3.49E-02"},1576998.3999330364,338,{"$f":"Dichte(K24,J24)","v":{"v":1.1216175526085304,"d":"1.12162"}},{"$f":"VLOOKUP(J24*0.00001,'Datenbank Werte '!$A$1:$B$500,2,TRUE)*0.000001","v":{"v":9.7133e-06,"d":"9.71E-06"}},{"v":8.6600820194101931E-6,"d":"8.66E-06"},{"v":0.08988,"d":"8.99E-02"},{"$f":"Tabelle7[[#This Row],['[kg/h']]]/Tabelle7[[#This Row],['[kg/m^3']4]]","v":{"v":1570.0934579439252,"d":"1570.09"}},{"v":111.24779127595917,"d":"111.25"},{"$f":"Tabelle7[[#This Row],['[m/s']]]/VLOOKUP(J24*0.00001,'Datenbank Werte '!$A$1:$C$500,3,TRUE)","v":{"v":0.07891593337302913,"d":"0.08"}},{"v":256920.87217330042,"d":"2.5692E+05"},{"v":2E-3,"d":"2.0E-03"},{"$f":"Rohrreibungszahl(Tabelle7[[#This Row],['[-']]],Tabelle7[[#This Row],['[-']4]],Tabelle7[[#This Row],['[-']3]],Tabelle7[[#This Row],['[m']2]],Tabelle7[[#This Row],['[m']3]])","v":{"v":0.02409421431952691,"d":"2.41E-02"}},null,1.3,{"$f":"IF(Tabelle7[[#This Row],['[-']2]]>0,Tabelle7[[#This Row],['[-']2]]*(Tabelle7[[#This Row],['[kg/m^3']]]/2)*Tabelle7[[#This Row],['[m/s']]]^2,Druckverlust(Tabelle7[[#This Row],[Spalte1]],C24,U24,V24,P24,L24,O24,J24,K24,Q24,D24,E24))","v":{"v":9022.79204935256,"d":"9022.79"}},0.0902279204935256,{"v":15.769983999330364,"d":"15.77"},{"v":15.679756078836839,"d":"15.68"},{"v":9022.79204935256,"d":"9022.79"},{"$f":"SUM($AB$10:AB24)","v":{"v":432024.39211631607,"d":"432024.39"}}]
[null,null,"Rohr",0.2,0.02,{"$f":"IF(ISTEXT(F24),E19,F24)","v":{"v":4e-05,"d":"4.00E-05"}},141.12,0.0392,{"v":0.03514893216328492,"d":"3.51E-02"},1567975.6078836839,338,{"$f":"Dichte(K25,J25)","v":{"v":1.1152543644255188,"d":"1.11525"}},{"$f":"VLOOKUP(J25*0.00001,'Datenbank Werte '!$A$1:$B$500,2,TRUE)*0.000001","v":{"v":9.7133e-06,"d":"9.71E-06"}},{"v":8.709492928102945E-6,"d":"8.71E-06"},{"v":0.08988,"d":"8.99E-02"},{"$f":"Tabelle7[[#This Row],['[kg/h']]]/Tabelle7[[#This Row],['[kg/m^3']4]]","v":{"v":1570.0934579439252,"d":"1570.09"}},{"v":111.88252596377002,"d":"111.88"},{"$f":"Tabelle7[[#This Row],['[m/s']]]/VLOOKUP(J25*0.00001,'Datenbank Werte '!$A$1:$C$500,3,TRUE)","v":{"v":0.07936619561876287,"d":"0.08"}},{"v":256920.87217330042,"d":"2.5692E+05"},{"v":2E-3,"d":"2.0E-03"},{"$f":"Rohrreibungszahl(Tabelle7[[#This Row],['[-']]],Tabelle7[[#This Row],['[-']4]],Tabelle7[[#This Row],['[-']3]],Tabelle7[[#This Row],['[m']2]],Tabelle7[[#This Row],['[m']3]])","v":{"v":0.02409421431952691,"d":"2.41E-02"}},null,null,{"$f":"IF(Tabelle7[[#This Row],['[-']2]]>0,Tabelle7[[#This Row],['[-']2]]*(Tabelle7[[#This Row],['[kg/m^3']]]/2)*Tabelle7[[#This Row],['[m/s']]]^2,Druckverlust(Tabelle7[[#This Row],[Spalte1]],C25,U25,V25,P25,L25,O25,J25,K25,Q25,D25,E25))","v":{"v":1681.8266524648138,"d":"1681.83"}},0.01681826652464814,{"v":15.679756078836839,"d":"15.68"},{"v":15.66293781231219,"d":"15.66"},{"v":1681.8266524648138,"d":"1681.83"},{"$f":"SUM($AB$10:AB25)","v":{"v":433706.2187687809,"d":"433706.22"}}]
[null,"T-Stück (Überdruckventil)","Rohr",null,0.02,{"$f":"IF(ISTEXT(F25),E20,F25)","v":{"v":4e-05,"d":"4.00E-05"}},141.12,0.0392,{"v":0.0351863553226854,"d":"3.52E-02"},1566293.781231219,{"$f":"IF(ISTEXT(K25),E18,K25)","v":338},{"$f":"Dichte(K26,J26)","v":{"v":1.1140682131043824,"d":"1.11407"}},{"$f":"VLOOKUP(J26*0.00001,'Datenbank Werte '!$A$1:$B$500,2,TRUE)*0.000001","v":{"v":9.7133e-06,"d":"9.71E-06"}},{"v":8.7187659478530643E-6,"d":"8.72E-06"},{"$f":"IF(ISTEXT(O25),H18,O25)","v":{"v":0.08988,"d":"8.99E-02"}},{"$f":"Tabelle7[[#This Row],['[kg/h']]]/Tabelle7[[#This Row],['[kg/m^3']4]]","v":{"v":1570.0934579439252,"d":"1570.09"}},{"v":112.00164757986407,"d":"112.00"},{"$f":"Tabelle7[[#This Row],['[m/s']]]/VLOOKUP(J26*0.00001,'Datenbank Werte '!$A$1:$C$500,3,TRUE)","v":{"v":0.07945069701345256,"d":"0.08"}},{"v":256920.87217330042,"d":"2.5692E+05"},{"v":2E-3,"d":"2.0E-03"},{"$f":"Rohrreibungszahl(Tabelle7[[#This Row],['[-']]],Tabelle7[[#This Row],['[-']4]],Tabelle7[[#This Row],['[-']3]],Tabelle7[[#This Row],['[m']2]],Tabelle7[[#This Row],['[m']3]])","v":{"v":0.02409421431952691,"d":"2.41E-02"}},null,0.05,{"$f":"IF(Tabelle7[[#This Row],['[-']2]]>0,Tabelle7[[#This Row],['[-']2]]*(Tabelle7[[#This Row],['[kg/m^3']]]/2)*Tabelle7[[#This Row],['[m/s']]]^2,Druckverlust(Tabelle7[[#This Row],[Spalte1]],C26,U26,V26,P26,L26,O26,J26,K26,Q26,D26,E26))","v":{"v":349.382070596727,"d":"349.38"}},0.00349382070596727,{"v":15.66293781231219,"d":"15.66"},{"v":15.659443991606222,"d":"15.66"},{"v":349.382070596727,"d":"349.38"},{"$f":"SUM($AB$10:AB26)","v":{"v":434055.6008393776,"d":"434055.60"}}]
[null,null,"Rohr",0.2,0.02,{"v":4e-05,"d":"4.00E-05"},141.12,0.0392,{"v":0.035194139680739506,"d":"3.52E-02"},1565944.3991606222,{"$f":"IF(ISTEXT(K26),E19,K26)","v":338},{"$f":"Dichte(K27,J27)","v":{"v":1.1138217997541437,"d":"1.11382"}},{"$f":"VLOOKUP(J27*0.00001,'Datenbank Werte '!$A$1:$B$500,2,TRUE)*0.000001","v":{"v":9.7133e-06,"d":"9.71E-06"}},{"v":8.7206948204318128E-6,"d":"8.72E-06"},{"$f":"IF(ISTEXT(O26),H19,O26)","v":{"v":0.08988,"d":"8.99E-02"}},{"$f":"Tabelle7[[#This Row],['[kg/h']]]/Tabelle7[[#This Row],['[kg/m^3']4]]","v":{"v":1570.0934579439252,"d":"1570.09"}},{"v":112.02642596112622,"d":"112.03"},{"$f":"Tabelle7[[#This Row],['[m/s']]]/VLOOKUP(J27*0.00001,'Datenbank Werte '!$A$1:$C$500,3,TRUE)","v":{"v":0.0794682740732966,"d":"0.08"}},{"v":256920.87217330042,"d":"2.5692E+05"},{"v":2E-3,"d":"2.0E-03"},{"$f":"Rohrreibungszahl(Tabelle7[[#This Row],['[-']]],Tabelle7[[#This Row],['[-']4]],Tabelle7[[#This Row],['[-']3]],Tabelle7[[#This Row],['[m']2]],Tabelle7[[#This Row],['[m']3]])","v":{"v":0.02409421431952691,"d":"2.41E-02"}},null,null,{"$f":"IF(Tabelle7[[#This Row],['[-']2]]>0,Tabelle7[[#This Row],['[-']2]]*(Tabelle7[[#This Row],['[kg/m^3']]]/2)*Tabelle7[[#This Row],['[m/s']]]^2,Druckverlust(Tabelle7[[#This Row],[Spalte1]],C27,U27,V27,P27,L27,O27,J27,K27,Q27,D27,E27))","v":{"v":1683.989768186045,"d":"1683.99"}},0.01683989768186045,{"v":15.65944399160622,"d":"15.66"},{"v":15.64260409392436,"d":"15.64"},{"v":1683.989768186045,"d":"1683.99"},{"$f":"SUM($AB$10:AB27)","v":{"v":435739.5906075637,"d":"435739.59"}}]
[null,"T-Stück (Sensoren)","Rohr",null,0.02,{"v":4e-05,"d":"4.00E-05"},141.12,0.0392,{"v":0.03523170835017294,"d":"3.52E-02"},1564260.409392436,{"$f":"IF(ISTEXT(K27),E20,K27)","v":338},{"$f":"Dichte(K28,J28)","v":{"v":1.1126340968307766,"d":"1.11263"}},{"$f":"VLOOKUP(J28*0.00001,'Datenbank Werte '!$A$1:$B$500,2,TRUE)*0.000001","v":{"v":9.7133e-06,"d":"9.71E-06"}},{"v":8.7300038958605826E-6,"d":"8.73E-06"},{"$f":"IF(ISTEXT(O27),H20,O27)","v":{"v":0.08988,"d":"8.99E-02"}},{"$f":"Tabelle7[[#This Row],['[kg/h']]]/Tabelle7[[#This Row],['[kg/m^3']4]]","v":{"v":1570.0934579439252,"d":"1570.09"}},{"v":112.14601075004056,"d":"112.15"},{"$f":"Tabelle7[[#This Row],['[m/s']]]/VLOOKUP(J28*0.00001,'Datenbank Werte '!$A$1:$C$500,3,TRUE)","v":{"v":0.07955310402925485,"d":"0.08"}},{"v":256920.87217330042,"d":"2.5692E+05"},{"v":2E-3,"d":"2.0E-03"},{"$f":"Rohrreibungszahl(Tabelle7[[#This Row],['[-']]],Tabelle7[[#This Row],['[-']4]],Tabelle7[[#This Row],['[-']3]],Tabelle7[[#This Row],['[m']2]],Tabelle7[[#This Row],['[m']3]])","v":{"v":0.02409421431952691,"d":"2.41E-02"}},null,0.05,{"$f":"IF(Tabelle7[[#This Row],['[-']2]]>0,Tabelle7[[#This Row],['[-']2]]*(Tabelle7[[#This Row],['[kg/m^3']]]/2)*Tabelle7[[#This Row],['[m/s']]]^2,Druckverlust(Tabelle7[[#This Row],[Spalte1]],C28,U28,V28,P28,L28,O28,J28,K28,Q28,D28,E28))","v":{"v":349.83240239455347,"d":"349.83"}},3.4983240239455345E-3,{"v":15.64260409392436,"d":"15.64"},{"v":15.639105769900414,"d":"15.64"},{"v":349.83240239455347,"d":"349.83"},{"$f":"SUM($AB$10:AB28)","v":{"v":436089.42300995823,"d":"436089.42"}}]
[null,null,"Rohr",0.2,0.02,{"v":4e-05,"d":"4.00E-05"},141.12,0.0392,{"v":0.035239523023445476,"d":"3.52E-02"},1563910.5769900414,338,{"$f":"Dichte(K29,J29)","v":{"v":1.1123873604622727,"d":"1.11239"}},{"$f":"VLOOKUP(J29*0.00001,'Datenbank Werte '!$A$1:$B$500,2,TRUE)*0.000001","v":{"v":9.7133e-06,"d":"9.71E-06"}},{"v":8.7319402801947191E-6,"d":"8.73E-06"},{"v":0.08988,"d":"8.99E-02"},{"$f":"Tabelle7[[#This Row],['[kg/h']]]/Tabelle7[[#This Row],['[kg/m^3']4]]","v":{"v":1570.0934579439252,"d":"1570.09"}},{"v":112.17088562764,"d":"112.17"},{"$f":"Tabelle7[[#This Row],['[m/s']]]/VLOOKUP(J29*0.00001,'Datenbank Werte '!$A$1:$C$500,3,TRUE)","v":{"v":0.07957074954078172,"d":"0.08"}},{"v":256920.87217330042,"d":"2.5692E+05"},{"v":2E-3,"d":"2.0E-03"},{"$f":"Rohrreibungszahl(Tabelle7[[#This Row],['[-']]],Tabelle7[[#This Row],['[-']4]],Tabelle7[[#This Row],['[-']3]],Tabelle7[[#This Row],['[m']2]],Tabelle7[[#This Row],['[m']3]])","v":{"v":0.02409421431952691,"d":"2.41E-02"}},null,null,{"$f":"IF(Tabelle7[[#This Row],['[-']2]]>0,Tabelle7[[#This Row],['[-']2]]*(Tabelle7[[#This Row],['[kg/m^3']]]/2)*Tabelle7[[#This Row],['[m/s']]]^2,Druckverlust(Tabelle7[[#This Row],[Spalte1]],C29,U29,V29,P29,L29,O29,J29,K29,Q29,D29,E29))","v":{"v":1686.1612968966836,"d":"1686.16"}},0.016861612968966835,{"v":15.639105769900414,"d":"15.64"},{"v":15.622244156931448,"d":"15.62"},{"v":1686.1612968966836,"d":"1686.16"},{"$f":"SUM($AB$10:AB29)","v":{"v":437775.58430685493,"d":"437775.58"}}]
[null,"T-Stück (Entlüftungsventil)","Rohr",null,0.02,{"v":4e-05,"d":"4.00E-05"},141.12,0.0392,{"v":0.035277238148139656,"d":"3.53E-02"},1562224.4156931448,338,{"$f":"Dichte(K30,J30)","v":{"v":1.111198099901911,"d":"1.11120"}},{"$f":"VLOOKUP(J30*0.00001,'Datenbank Werte '!$A$1:$B$500,2,TRUE)*0.000001","v":{"v":9.7133e-06,"d":"9.71E-06"}},{"v":8.7412856455184943E-6,"d":"8.74E-06"},{"v":0.08988,"d":"8.99E-02"},{"$f":"Tabelle7[[#This Row],['[kg/h']]]/Tabelle7[[#This Row],['[kg/m^3']4]]","v":{"v":1570.0934579439252,"d":"1570.09"}},{"v":112.29093659812813,"d":"112.29"},{"$f":"Tabelle7[[#This Row],['[m/s']]]/VLOOKUP(J30*0.00001,'Datenbank Werte '!$A$1:$C$500,3,TRUE)","v":{"v":0.07965591019233037,"d":"0.08"}},{"v":256920.87217330042,"d":"2.5692E+05"},{"v":2E-3,"d":"2.0E-03"},{"$f":"Rohrreibungszahl(Tabelle7[[#This Row],['[-']]],Tabelle7[[#This Row],['[-']4]],Tabelle7[[#This Row],['[-']3]],Tabelle7[[#This Row],['[m']2]],Tabelle7[[#This Row],['[m']3]])","v":{"v":0.02409421431952691,"d":"2.41E-02"}},null,0.05,{"$f":"IF(Tabelle7[[#This Row],['[-']2]]>0,Tabelle7[[#This Row],['[-']2]]*(Tabelle7[[#This Row],['[kg/m^3']]]/2)*Tabelle7[[#This Row],['[m/s']]]^2,Druckverlust(Tabelle7[[#This Row],[Spalte1]],C30,U30,V30,P30,L30,O30,J30,K30,Q30,D30,E30))","v":{"v":350.28448943060994,"d":"350.28"}},3.5028448943060994E-3,{"v":15.622244156931448,"d":"15.62"},{"v":15.618741312037141,"d":"15.62"},{"v":350.28448943060994,"d":"350.28"},{"$f":"SUM($AB$10:AB30)","v":{"v":438125.86879628553,"d":"438125.87"}}]
[null,"Hauptventil","Ventil",null,0.02,{"v":4e-05,"d":"4.00E-05"},141.12,0.0392,{"v":0.03528508333386891,"d":"3.53E-02"},1561874.131203714,338,{"$f":"Dichte(K31,J31)","v":{"v":1.1109510392561068,"d":"1.11095"}},{"$f":"VLOOKUP(J31*0.00001,'Datenbank Werte '!$A$1:$B$500,2,TRUE)*0.000001","v":{"v":9.7133e-06,"d":"9.71E-06"}},{"v":8.7432295904813489E-6,"d":"8.74E-06"},{"v":0.08988,"d":"8.99E-02"},{"$f":"Tabelle7[[#This Row],['[kg/h']]]/Tabelle7[[#This Row],['[kg/m^3']4]]","v":{"v":1570.0934579439252,"d":"1570.09"}},{"v":112.31590859989382,"d":"112.32"},{"$f":"Tabelle7[[#This Row],['[m/s']]]/VLOOKUP(J31*0.00001,'Datenbank Werte '!$A$1:$C$500,3,TRUE)","v":{"v":0.0796736246009036,"d":"0.08"}},{"v":256920.87217330042,"d":"2.5692E+05"},{"v":2E-3,"d":"2.0E-03"},{"$f":"Rohrreibungszahl(Tabelle7[[#This Row],['[-']]],Tabelle7[[#This Row],['[-']4]],Tabelle7[[#This Row],['[-']3]],Tabelle7[[#This Row],['[m']2]],Tabelle7[[#This Row],['[m']3]])","v":"Nur bei 'Rohr' benötigt"},4,null,{"$f":"IF(Tabelle7[[#This Row],['[-']2]]>0,Tabelle7[[#This Row],['[-']2]]*(Tabelle7[[#This Row],['[kg/m^3']]]/2)*Tabelle7[[#This Row],['[m/s']]]^2,Druckverlust(Tabelle7[[#This Row],[Spalte1]],C31,U31,V31,P31,L31,O31,J31,K31,Q31,D31,E31))","v":{"v":123141.50565675081,"d":"123141.51"}},1.2314150565675082,{"v":15.618741312037141,"d":"15.62"},{"v":14.387326255469633,"d":"14.39"},{"v":123141.50565675081,"d":"123141.51"},{"$f":"SUM($AB$10:AB31)","v":{"v":561267.3744530363,"d":"561267.37"}}]
[null,null,"Rohr",0.2,0.02,{"v":4e-05,"d":"4.00E-05"},141.12,0.0392,{"v":0.03827976363886966,"d":"3.83E-02"},1438732.6255469632,338,{"$f":"Dichte(K32,J32)","v":{"v":1.0240397607940275,"d":"1.02404"}},{"$f":"VLOOKUP(J32*0.00001,'Datenbank Werte '!$A$1:$B$500,2,TRUE)*0.000001","v":{"v":9.7128e-06,"d":"9.71E-06"}},{"v":9.4847879661125834E-6,"d":"9.48E-06"},{"v":0.08988,"d":"8.99E-02"},{"$f":"Tabelle7[[#This Row],['[kg/h']]]/Tabelle7[[#This Row],['[kg/m^3']4]]","v":{"v":1570.0934579439252,"d":"1570.09"}},{"v":121.8482720703101,"d":"121.85"},{"$f":"Tabelle7[[#This Row],['[m/s']]]/VLOOKUP(J32*0.00001,'Datenbank Werte '!$A$1:$C$500,3,TRUE)","v":{"v":0.08648468455554695,"d":"0.09"}},{"v":256934.09806450448,"d":"2.5693E+05"},{"v":2E-3,"d":"2.0E-03"},{"$f":"Rohrreibungszahl(Tabelle7[[#This Row],['[-']]],Tabelle7[[#This Row],['[-']4]],Tabelle7[[#This Row],['[-']3]],Tabelle7[[#This Row],['[m']2]],Tabelle7[[#This Row],['[m']3]])","v":{"v":0.024094179780052894,"d":"2.41E-02"}},null,null,{"$f":"IF(Tabelle7[[#This Row],['[-']2]]>0,Tabelle7[[#This Row],['[-']2]]*(Tabelle7[[#This Row],['[kg/m^3']]]/2)*Tabelle7[[#This Row],['[m/s']]]^2,Druckverlust(Tabelle7[[#This Row],[Spalte1]],C32,U32,V32,P32,L32,O32,J32,K32,Q32,D32,E32))","v":{"v":1831.629881359855,"d":"1831.63"}},0.01831629881359855,{"v":14.387326255469631,"d":"14.39"},{"v":14.369009956656033,"d":"14.37"},{"v":1831.629881359855,"d":"1831.63"},{"$f":"SUM($AB$10:AB32)","v":{"v":563099.0043343962,"d":"563099.00"}}]
[null,"T-Stück (Druckminderer) ","Rohr",null,0.02,{"v":4e-05,"d":"4.00E-05"},{"$f":"17.64*4","v":70.56},0.0196,{"v":0.019164090617906842,"d":"1.92E-02"},1436900.9956656033,338,{"$f":"Dichte(K33,J33)","v":{"v":1.022746155337308,"d":"1.02275"}},{"$f":"VLOOKUP(J33*0.00001,'Datenbank Werte '!$A$1:$B$500,2,TRUE)*0.000001","v":{"v":9.7128e-06,"d":"9.71E-06"}},{"v":9.496784660898243E-6,"d":"9.50E-06"},{"v":0.08988,"d":"8.99E-02"},{"$f":"Tabelle7[[#This Row],['[kg/h']]]/Tabelle7[[#This Row],['[kg/m^3']4]]","v":{"v":785.0467289719626,"d":"785.05"}},{"v":61.001195034017776,"d":"61.00"},{"$f":"Tabelle7[[#This Row],['[m/s']]]/VLOOKUP(J33*0.00001,'Datenbank Werte '!$A$1:$C$500,3,TRUE)","v":{"v":0.043297036719439116,"d":"0.04"}},{"v":128467.04903225224,"d":"1.2847E+05"},{"v":2E-3,"d":"2.0E-03"},{"$f":"Rohrreibungszahl(Tabelle7[[#This Row],['[-']]],Tabelle7[[#This Row],['[-']4]],Tabelle7[[#This Row],['[-']3]],Tabelle7[[#This Row],['[m']2]],Tabelle7[[#This Row],['[m']3]])","v":{"v":0.024737745201078593,"d":"2.47E-02"}},null,1.3,{"$f":"IF(Tabelle7[[#This Row],['[-']2]]>0,Tabelle7[[#This Row],['[-']2]]*(Tabelle7[[#This Row],['[kg/m^3']]]/2)*Tabelle7[[#This Row],['[m/s']]]^2,Druckverlust(Tabelle7[[#This Row],[Spalte1]],C33,U33,V33,P33,L33,O33,J33,K33,Q33,D33,E33))","v":{"v":2473.761911320225,"d":"2473.76"}},0.02473761911320225,{"v":14.369009956656033,"d":"14.37"},{"v":14.344272337542831,"d":"14.34"},{"v":2473.761911320225,"d":"2473.76"},{"$f":"SUM($AB$10:AB33)","v":{"v":565572.7662457165,"d":"565572.77"}}]
[null,null,"Rohr",0.3,0.02,{"v":4e-05,"d":"4.00E-05"},{"$f":"17.64*4","v":70.56},0.0196,{"v":0.01919688466332998,"d":"1.92E-02"},1434427.233754283,338,{"$f":"Dichte(K34,J34)","v":{"v":1.0209989976884142,"d":"1.02100"}},{"$f":"VLOOKUP(J34*0.00001,'Datenbank Werte '!$A$1:$B$500,2,TRUE)*0.000001","v":{"v":9.7128e-06,"d":"9.71E-06"}},{"v":9.5130357835709918E-6,"d":"9.51E-06"},{"v":0.08988,"d":"8.99E-02"},{"$f":"Tabelle7[[#This Row],['[kg/h']]]/Tabelle7[[#This Row],['[kg/m^3']4]]","v":{"v":785.0467289719626,"d":"785.05"}},{"v":61.10558172267922,"d":"61.11"},{"$f":"Tabelle7[[#This Row],['[m/s']]]/VLOOKUP(J34*0.00001,'Datenbank Werte '!$A$1:$C$500,3,TRUE)","v":{"v":0.04337112763338719,"d":"0.04"}},{"v":128467.04903225222,"d":"1.2847E+05"},{"v":2E-3,"d":"2.0E-03"},{"$f":"Rohrreibungszahl(Tabelle7[[#This Row],['[-']]],Tabelle7[[#This Row],['[-']4]],Tabelle7[[#This Row],['[-']3]],Tabelle7[[#This Row],['[m']2]],Tabelle7[[#This Row],['[m']3]])","v":{"v":0.024737745201078593,"d":"2.47E-02"}},null,null,{"$f":"IF(Tabelle7[[#This Row],['[-']2]]>0,Tabelle7[[#This Row],['[-']2]]*(Tabelle7[[#This Row],['[kg/m^3']]]/2)*Tabelle7[[#This Row],['[m/s']]]^2,Druckverlust(Tabelle7[[#This Row],[Spalte1]],C34,U34,V34,P34,L34,O34,J34,K34,Q34,D34,E34))","v":{"v":707.3078155626944,"d":"707.31"}},0.007073078155626944,{"v":14.344272337542831,"d":"14.34"},{"v":14.337199259387205,"d":"14.34"},{"v":707.3078155626944,"d":"707.31"},{"$f":"SUM($AB$10:AB34)","v":{"v":566280.0740612792,"d":"566280.07"}}]
[null,"90°Winkel","Rohr",null,0.02,{"v":4e-05,"d":"4.00E-05"},70.56,0.0196,{"v":0.01920628207137347,"d":"1.92E-02"},1433719.9259387206,338,{"$f":"Dichte(K35,J35)","v":{"v":1.0204994348809109,"d":"1.02050"}},{"$f":"VLOOKUP(J35*0.00001,'Datenbank Werte '!$A$1:$B$500,2,TRUE)*0.000001","v":{"v":9.7128e-06,"d":"9.71E-06"}},{"v":9.5176926787161353E-6,"d":"9.52E-06"},{"v":0.08988,"d":"8.99E-02"},{"$f":"Tabelle7[[#This Row],['[kg/h']]]/Tabelle7[[#This Row],['[kg/m^3']4]]","v":{"v":785.0467289719626,"d":"785.05"}},{"v":61.135494601526695,"d":"61.14"},{"$f":"Tabelle7[[#This Row],['[m/s']]]/VLOOKUP(J35*0.00001,'Datenbank Werte '!$A$1:$C$500,3,TRUE)","v":{"v":0.043392359004561495,"d":"0.04"}},{"v":128467.04903225224,"d":"1.2847E+05"},{"v":2E-3,"d":"2.0E-03"},{"$f":"Rohrreibungszahl(Tabelle7[[#This Row],['[-']]],Tabelle7[[#This Row],['[-']4]],Tabelle7[[#This Row],['[-']3]],Tabelle7[[#This Row],['[m']2]],Tabelle7[[#This Row],['[m']3]])","v":{"v":0.024737745201078593,"d":"2.47E-02"}},null,0.15,{"$f":"IF(Tabelle7[[#This Row],['[-']2]]>0,Tabelle7[[#This Row],['[-']2]]*(Tabelle7[[#This Row],['[kg/m^3']]]/2)*Tabelle7[[#This Row],['[m/s']]]^2,Druckverlust(Tabelle7[[#This Row],[Spalte1]],C35,U35,V35,P35,L35,O35,J35,K35,Q35,D35,E35))","v":{"v":286.0624752275051,"d":"286.06"}},0.002860624752275051,{"v":14.337199259387205,"d":"14.34"},{"v":14.33433863463493,"d":"14.33"},{"v":286.0624752275051,"d":"286.06"},{"$f":"SUM($AB$10:AB35)","v":{"v":566566.1365365067,"d":"566566.14"}}]
[null,null,"Rohr",0.2,0.02,{"v":4e-05,"d":"4.00E-05"},70.56,0.0196,{"v":0.019210085378387472,"d":"1.92E-02"},1433433.863463493,338,{"$f":"Dichte(K36,J36)","v":{"v":1.0202973913927111,"d":"1.02030"}},{"$f":"VLOOKUP(J36*0.00001,'Datenbank Werte '!$A$1:$B$500,2,TRUE)*0.000001","v":{"v":9.7128e-06,"d":"9.71E-06"}},{"v":9.5195774113878477E-6,"d":"9.52E-06"},{"v":0.08988,"d":"8.99E-02"},{"$f":"Tabelle7[[#This Row],['[kg/h']]]/Tabelle7[[#This Row],['[kg/m^3']4]]","v":{"v":785.0467289719626,"d":"785.05"}},{"v":61.14760090375418,"d":"61.15"},{"$f":"Tabelle7[[#This Row],['[m/s']]]/VLOOKUP(J36*0.00001,'Datenbank Werte '!$A$1:$C$500,3,TRUE)","v":{"v":0.04340095173806102,"d":"0.04"}},{"v":128467.04903225224,"d":"1.2847E+05"},{"v":2E-3,"d":"2.0E-03"},{"$f":"Rohrreibungszahl(Tabelle7[[#This Row],['[-']]],Tabelle7[[#This Row],['[-']4]],Tabelle7[[#This Row],['[-']3]],Tabelle7[[#This Row],['[m']2]],Tabelle7[[#This Row],['[m']3]])","v":{"v":0.024737745201078593,"d":"2.47E-02"}},null,null,{"$f":"IF(Tabelle7[[#This Row],['[-']2]]>0,Tabelle7[[#This Row],['[-']2]]*(Tabelle7[[#This Row],['[kg/m^3']]]/2)*Tabelle7[[#This Row],['[m/s']]]^2,Druckverlust(Tabelle7[[#This Row],[Spalte1]],C36,U36,V36,P36,L36,O36,J36,K36,Q36,D36,E36))","v":{"v":471.86279663091835,"d":"471.86"}},0.004718627966309183,{"v":14.33433863463493,"d":"14.33"},{"v":14.329620006668621,"d":"14.33"},{"v":471.86279663091835,"d":"471.86"},{"$f":"SUM($AB$10:AB36)","v":{"v":567037.9993331376,"d":"567038.00"}}]
[null,"Ergebnis",{"$nulls":25},"Druckverlust gesamt in bar",{"$f":"SUBTOTAL(104,Tabelle7['[Pa']4])*0.00001","v":5.670379993331377}]
[]
[]
[]
[]
[{"$nulls":18},{"$f":"S11*T11","v":513.7571169401474}]
[]
[]
[]
[]
[]
[]
[{"$nulls":6},1]
[{"$nulls":6},2]

{"sheet":"TC_3 bis Druckminderer ","index":3,"n_rows":33,"n_cols":29,"rows_kept":33,"merged":[[6,2,7,2],[6,3,7,3],[6,4,7,4],[6,5,7,5],[6,6,7,6],[6,7,7,7],[6,8,7,8],[6,9,7,9],[6,10,7,10],[6,11,7,11],[6,12,7,12],[6,13,7,13],[6,14,7,14],[6,15,7,15],[6,16,7,16],[6,17,7,17],[6,18,7,18],[6,19,7,19],[6,20,7,20],[6,21,7,21],[6,22,7,22],[6,23,7,23],[6,24,7,24],[6,25,7,25],[6,26,7,26],[6,27,7,27],[6,28,7,28]]}
[]
[null,null,"Temperatur",null,338,null,"Normdichte",0.08988]
[null,null,"Massenstrom",null,{"$f":"17.64*8","v":141.12},null,"Startdruck",{"v":20,"d":"20.00"}]
[null,null,"Rauigleit (mm)",null,{"v":0.04,"d":"4.00E-02"}]
[null,null,"Innendurchmesser",null,{"$f":"'Diagramme '!C3","v":0.02}]
[]
[null,null,"Rohr oder Ventil","Länge Rohrleitung ","Innendruchmesser Rohr","Rauigkeit","Massenstrom H2 ","Massenstrom H2 ","Volumenstrom H2 ","Druck","Temperatur","Dichte","dynamische Viskosität","kinematische Viskosität","Norm Dichte","Norm Volumenstrom","Geschwindigkeit","Mach-Zahl","RE-Zahl","k/d ","Rohrreibungszahl","Kv-Wert","Widerstandsbeiwert Zeta","Durckverlust durch Komponente ","Durckverlust durch Komponente ","p_1","p_2","Delta p","Delta P aufsummiert "]
[]
["System ","Komponente ","[-]","[m]","[m]2","[m]3","[kg/h]","[kg/s]","[m^3/s]","[Pa]","[K]","[kg/m^3]","[Pa*s]","[m^2/s]","[kg/m^3]","[Nm^3/h]","[m/s]","[-]","[-]","[-]","[-]","[m^3/h]","[-]","[Pa]","[bar]","[bar]","[bar]","[Pa]","[Pa]"]
[null,"H2 Kupplung ","Ventil",null,{"$f":"IF(ISTEXT(E9),$E$5,E9)","v":0.02},{"$f":"IF(ISTEXT(F9),E4*0.001,F9)","v":{"v":4e-05,"d":"4.00E-05"}},{"$f":"17.64*8","v":141.12},{"$f":"G10/3600","v":0.0392},{"$f":"H10/L10","v":{"v":0.027620418371815808,"d":"2.76E-02"}},{"$f":"IF(ISTEXT(AA9),$H$3*100000,AA9*100000)","v":2000000},{"$f":"IF(ISTEXT(K9),E2,K9)","v":338},{"$f":"Dichte(K10,J10)","v":{"v":1.4192399069523194,"d":"1.41924"}},{"$f":"VLOOKUP(J10*0.00001,'Datenbank Werte '!$A$1:$B$500,2,TRUE)*0.000001","v":{"v":9.7159999999999981E-6,"d":"9.72E-06"}},{"$f":"M10/L10","v":{"v":6.8459179821572027E-6,"d":"6.85E-06"}},{"$f":"IF(ISTEXT(O9),H2,O9)","v":{"v":0.08988,"d":"8.99E-02"}},{"$f":"Tabelle745[[#This Row],['[kg/h']]]/Tabelle745[[#This Row],['[kg/m^3']4]]","v":{"v":1570.0934579439252,"d":"1570.09"}},{"$f":"H10*4/(L10*PI()*E10^2)","v":{"v":87.91852228281371,"d":"87.92"}},{"$f":"Tabelle745[[#This Row],['[m/s']]]/VLOOKUP(J10*0.00001,'Datenbank Werte '!$A$1:$C$500,3,TRUE)","v":{"v":0.062190367321789425,"d":"0.06"}},{"$f":"(L10*Q10*E10)/M10","v":{"v":256849.4758831741,"d":"2.5685E+05"}},{"$f":"F10/E10","v":{"v":2E-3,"d":"2.0E-03"}},{"$f":"Rohrreibungszahl(Tabelle745[[#This Row],['[-']]],Tabelle745[[#This Row],['[-']4]],Tabelle745[[#This Row],['[-']3]],Tabelle745[[#This Row],['[m']2]],Tabelle745[[#This Row],['[m']3]])","v":"Nur bei 'Rohr' benötigt"},3.53,null,{"$f":"IF(Tabelle745[[#This Row],['[-']2]]>0,Tabelle745[[#This Row],['[-']2]]*(Tabelle745[[#This Row],['[kg/m^3']]]/2)*Tabelle745[[#This Row],['[m/s']]]^2,Druckverlust(Tabelle745[[#This Row],[Spalte1]],C10,U10,V10,P10,L10,O10,J10,K10,Q10,D10,E10))","v":{"v":121072.3779401647,"d":"121072.38"}},{"$f":"X10/10^5","v":1.210723779401647},{"$f":"J10/10^5","v":{"v":20,"d":"20.00"}},{"$f":"Z10-Y10","v":{"v":18.789276220598353,"d":"18.79"}},{"$f":"X10","v":{"v":121072.3779401647,"d":"121072.38"}},{"$f":"SUM($AB$10:AB10)","v":{"v":121072.3779401647,"d":"121072.38"}}]
[null,"Schlauch","Rohr",1,{"$f":"IF(ISTEXT(E10),$E$5,E10)","v":0.02},{"v":4e-05,"d":"4.00E-05"},141.12,0.0392,{"v":0.02938107177885136,"d":"2.94E-02"},{"$f":"IF(ISTEXT(AA10),$H$3*100000,AA10*100000)","v":1878927.6220598354},{"$f":"IF(ISTEXT(K10),E3,K10)","v":338},{"$f":"Dichte(K11,J11)","v":{"v":1.3341923090843932,"d":"1.33419"}},{"$f":"VLOOKUP(J11*0.00001,'Datenbank Werte '!$A$1:$B$500,2,TRUE)*0.000001","v":{"v":9.7148999999999991E-6,"d":"9.71E-06"}},{"v":7.2814840363357924E-6,"d":"7.28E-06"},{"$f":"IF(ISTEXT(O10),H3,O10)","v":{"v":0.08988,"d":"8.99E-02"}},{"$f":"Tabelle745[[#This Row],['[kg/h']]]/Tabelle745[[#This Row],['[kg/m^3']4]]","v":{"v":1570.0934579439252,"d":"1570.09"}},{"v":93.5228561388396,"d":"93.52"},{"$f":"Tabelle745[[#This Row],['[m/s']]]/VLOOKUP(J11*0.00001,'Datenbank Werte '!$A$1:$C$500,3,TRUE)","v":{"v":0.06622962689529042,"d":"0.07"}},{"v":256878.55847007368,"d":"2.5688E+05"},{"v":2E-3,"d":"2.0E-03"},{"$f":"Rohrreibungszahl(Tabelle745[[#This Row],['[-']]],Tabelle745[[#This Row],['[-']4]],Tabelle745[[#This Row],['[-']3]],Tabelle745[[#This Row],['[m']2]],Tabelle745[[#This Row],['[m']3]])","v":{"v":0.024094324844793406,"d":"2.41E-02"}},null,null,{"$f":"IF(Tabelle745[[#This Row],['[-']2]]>0,Tabelle745[[#This Row],['[-']2]]*(Tabelle745[[#This Row],['[kg/m^3']]]/2)*Tabelle745[[#This Row],['[m/s']]]^2,Druckverlust(Tabelle745[[#This Row],[Spalte1]],C11,U11,V11,P11,L11,O11,J11,K11,Q11,D11,E11))","v":{"v":7029.245730423665,"d":"7029.25"}},0.07029245730423665,{"v":18.789276220598353,"d":"18.79"},{"v":18.718983763294116,"d":"18.72"},{"v":7029.245730423665,"d":"7029.25"},{"$f":"SUM($AB$10:AB11)","v":{"v":128101.62367058836,"d":"128101.62"}}]
[null,"90°Winkel","Rohr",null,0.02,{"v":4e-05,"d":"4.00E-05"},{"$f":"17.64*8","v":141.12},{"$f":"G12/3600","v":0.0392},{"v":0.029490287672061993,"d":"2.95E-02"},1871898.3763294115,338,{"$f":"Dichte(K12,J12)","v":{"v":1.329251190626283,"d":"1.32925"}},{"$f":"VLOOKUP(J12*0.00001,'Datenbank Werte '!$A$1:$B$500,2,TRUE)*0.000001","v":{"v":9.7148999999999991E-6,"d":"9.71E-06"}},{"v":7.3085509108498737E-6,"d":"7.31E-06"},{"v":0.08988,"d":"8.99E-02"},{"$f":"Tabelle745[[#This Row],['[kg/h']]]/Tabelle745[[#This Row],['[kg/m^3']4]]","v":{"v":1570.0934579439252,"d":"1570.09"}},{"v":93.87050112421298,"d":"93.87"},{"$f":"Tabelle745[[#This Row],['[m/s']]]/VLOOKUP(J12*0.00001,'Datenbank Werte '!$A$1:$C$500,3,TRUE)","v":{"v":0.06647581695645705,"d":"0.07"}},{"v":256878.55847007368,"d":"2.5688E+05"},{"v":2E-3,"d":"2.0E-03"},{"$f":"Rohrreibungszahl(Tabelle745[[#This Row],['[-']]],Tabelle745[[#This Row],['[-']4]],Tabelle745[[#This Row],['[-']3]],Tabelle745[[#This Row],['[m']2]],Tabelle745[[#This Row],['[m']3]])","v":{"v":0.024094324844793406,"d":"2.41E-02"}},null,0.15,{"$f":"IF(Tabelle745[[#This Row],['[-']2]]>0,Tabelle745[[#This Row],['[-']2]]*(Tabelle745[[#This Row],['[kg/m^3']]]/2)*Tabelle745[[#This Row],['[m/s']]]^2,Druckverlust(Tabelle745[[#This Row],[Spalte1]],C12,U12,V12,P12,L12,O12,J12,K12,Q12,D12,E12))","v":{"v":878.4693107485906,"d":"878.47"}},{"$f":"X12/10^5","v":0.008784693107485905},{"$f":"J12/10^5","v":{"v":18.718983763294116,"d":"18.72"}},{"$f":"Z12-Y12","v":{"v":18.71019907018663,"d":"18.71"}},{"$f":"X12","v":{"v":878.4693107485906,"d":"878.47"}},{"$f":"SUM($AB$10:AB12)","v":{"v":128980.09298133696,"d":"128980.09"}}]
[null,"Rohr ","Rohr",2,0.02,{"v":4e-05,"d":"4.00E-05"},{"$f":"17.64*8","v":141.12},{"$f":"G13/3600","v":0.0392},{"v":0.029503994450363,"d":"2.95E-02"},1871019.907018663,338,{"$f":"Dichte(K13,J13)","v":{"v":1.3286336555529588,"d":"1.32863"}},{"$f":"VLOOKUP(J13*0.00001,'Datenbank Werte '!$A$1:$B$500,2,TRUE)*0.000001","v":{"v":9.7148999999999991E-6,"d":"9.71E-06"}},{"v":7.3119478491283539E-6,"d":"7.31E-06"},{"v":0.08988,"d":"8.99E-02"},{"$f":"Tabelle745[[#This Row],['[kg/h']]]/Tabelle745[[#This Row],['[kg/m^3']4]]","v":{"v":1570.0934579439252,"d":"1570.09"}},{"v":93.91413115462237,"d":"93.91"},{"$f":"Tabelle745[[#This Row],['[m/s']]]/VLOOKUP(J13*0.00001,'Datenbank Werte '!$A$1:$C$500,3,TRUE)","v":{"v":0.0665067142232295,"d":"0.07"}},{"v":256878.55847007368,"d":"2.5688E+05"},{"v":2E-3,"d":"2.0E-03"},{"$f":"Rohrreibungszahl(Tabelle745[[#This Row],['[-']]],Tabelle745[[#This Row],['[-']4]],Tabelle745[[#This Row],['[-']3]],Tabelle745[[#This Row],['[m']2]],Tabelle745[[#This Row],['[m']3]])","v":{"v":0.024094324844793406,"d":"2.41E-02"}},null,null,{"$f":"IF(Tabelle745[[#This Row],['[-']2]]>0,Tabelle745[[#This Row],['[-']2]]*(Tabelle745[[#This Row],['[kg/m^3']]]/2)*Tabelle745[[#This Row],['[m/s']]]^2,Druckverlust(Tabelle745[[#This Row],[Spalte1]],C13,U13,V13,P13,L13,O13,J13,K13,Q13,D13,E13))","v":{"v":14117.308489061896,"d":"14117.31"}},0.14117308489061894,{"v":18.71019907018663,"d":"18.71"},{"v":18.569025985296012,"d":"18.57"},{"v":14117.308489061896,"d":"14117.31"},{"$f":"SUM($AB$10:AB13)","v":{"v":143097.40147039885,"d":"143097.40"}}]
[null,"90°Winkel","Rohr",null,0.02,{"v":4e-05,"d":"4.00E-05"},{"$f":"17.64*8","v":141.12},{"$f":"G14/3600","v":0.0392},{"v":0.029726046051824797,"d":"2.97E-02"},1856902.5985296012,338,{"$f":"Dichte(K14,J14)","v":{"v":1.3187088498637922,"d":"1.31871"}},{"$f":"VLOOKUP(J14*0.00001,'Datenbank Werte '!$A$1:$B$500,2,TRUE)*0.000001","v":{"v":9.7148999999999991E-6,"d":"9.71E-06"}},{"v":7.3669786935936909E-6,"d":"7.37E-06"},{"v":0.08988,"d":"8.99E-02"},{"$f":"Tabelle745[[#This Row],['[kg/h']]]/Tabelle745[[#This Row],['[kg/m^3']4]]","v":{"v":1570.0934579439252,"d":"1570.09"}},{"v":94.6209433545047,"d":"94.62"},{"$f":"Tabelle745[[#This Row],['[m/s']]]/VLOOKUP(J14*0.00001,'Datenbank Werte '!$A$1:$C$500,3,TRUE)","v":{"v":0.06700725398661901,"d":"0.07"}},{"v":256878.55847007368,"d":"2.5688E+05"},{"v":2E-3,"d":"2.0E-03"},{"$f":"Rohrreibungszahl(Tabelle745[[#This Row],['[-']]],Tabelle745[[#This Row],['[-']4]],Tabelle745[[#This Row],['[-']3]],Tabelle745[[#This Row],['[m']2]],Tabelle745[[#This Row],['[m']3]])","v":{"v":0.024094324844793406,"d":"2.41E-02"}},null,0.15,{"$f":"IF(Tabelle745[[#This Row],['[-']2]]>0,Tabelle745[[#This Row],['[-']2]]*(Tabelle745[[#This Row],['[kg/m^3']]]/2)*Tabelle745[[#This Row],['[m/s']]]^2,Druckverlust(Tabelle745[[#This Row],[Spalte1]],C14,U14,V14,P14,L14,O14,J14,K14,Q14,D14,E14))","v":{"v":885.4921822673937,"d":"885.49"}},0.008854921822673936,{"v":18.569025985296012,"d":"18.57"},{"v":18.560171063473337,"d":"18.56"},{"v":885.4921822673937,"d":"885.49"},{"$f":"SUM($AB$10:AB14)","v":{"v":143982.89365266624,"d":"143982.89"}}]
[null,"Rohr (Durchführung FRP)","Rohr",1.6,0.02,{"v":4e-05,"d":"4.00E-05"},{"$f":"17.64*8","v":141.12},{"$f":"G15/3600","v":0.0392},{"v":0.029740086573225567,"d":"2.97E-02"},1856017.1063473336,338,{"$f":"Dichte(K15,J15)","v":{"v":1.3180862773711968,"d":"1.31809"}},{"$f":"VLOOKUP(J15*0.00001,'Datenbank Werte '!$A$1:$B$500,2,TRUE)*0.000001","v":{"v":9.7148999999999991E-6,"d":"9.71E-06"}},{"v":7.3704583431180876E-6,"d":"7.37E-06"},{"v":0.08988,"d":"8.99E-02"},{"$f":"Tabelle745[[#This Row],['[kg/h']]]/Tabelle745[[#This Row],['[kg/m^3']4]]","v":{"v":1570.0934579439252,"d":"1570.09"}},{"v":94.66563572219512,"d":"94.67"},{"$f":"Tabelle745[[#This Row],['[m/s']]]/VLOOKUP(J15*0.00001,'Datenbank Werte '!$A$1:$C$500,3,TRUE)","v":{"v":0.06703890356362519,"d":"0.07"}},{"v":256878.55847007374,"d":"2.5688E+05"},{"v":2E-3,"d":"2.0E-03"},{"$f":"Rohrreibungszahl(Tabelle745[[#This Row],['[-']]],Tabelle745[[#This Row],['[-']4]],Tabelle745[[#This Row],['[-']3]],Tabelle745[[#This Row],['[m']2]],Tabelle745[[#This Row],['[m']3]])","v":{"v":0.024094324844793406,"d":"2.41E-02"}},null,null,{"$f":"IF(Tabelle745[[#This Row],['[-']2]]>0,Tabelle745[[#This Row],['[-']2]]*(Tabelle745[[#This Row],['[kg/m^3']]]/2)*Tabelle745[[#This Row],['[m/s']]]^2,Druckverlust(Tabelle745[[#This Row],[Spalte1]],C15,U15,V15,P15,L15,O15,J15,K15,Q15,D15,E15))","v":{"v":11384.220597030857,"d":"11384.22"}},0.11384220597030857,{"v":18.560171063473337,"d":"18.56"},{"v":18.44632885750303,"d":"18.45"},{"v":11384.220597030857,"d":"11384.22"},{"$f":"SUM($AB$10:AB15)","v":{"v":155367.1142496971,"d":"155367.11"}}]
[null,"Filter","Ventil",null,0.02,{"v":4e-05,"d":"4.00E-05"},141.12,0.0392,{"v":0.029921797497766436,"d":"2.99E-02"},1844632.885750303,338,{"$f":"Dichte(K16,J16)","v":{"v":1.3100817222937944,"d":"1.31008"}},{"$f":"VLOOKUP(J16*0.00001,'Datenbank Werte '!$A$1:$B$500,2,TRUE)*0.000001","v":{"v":9.7148999999999991E-6,"d":"9.71E-06"}},{"v":7.4154915946696712E-6,"d":"7.42E-06"},{"v":0.08988,"d":"8.99E-02"},{"$f":"Tabelle745[[#This Row],['[kg/h']]]/Tabelle745[[#This Row],['[kg/m^3']4]]","v":{"v":1570.0934579439252,"d":"1570.09"}},{"v":95.24403955928467,"d":"95.24"},{"$f":"Tabelle745[[#This Row],['[m/s']]]/VLOOKUP(J16*0.00001,'Datenbank Werte '!$A$1:$C$500,3,TRUE)","v":{"v":0.06744850900027241,"d":"0.07"}},{"v":256878.55847007374,"d":"2.5688E+05"},{"v":2E-3,"d":"2.0E-03"},{"$f":"Rohrreibungszahl(Tabelle745[[#This Row],['[-']]],Tabelle745[[#This Row],['[-']4]],Tabelle745[[#This Row],['[-']3]],Tabelle745[[#This Row],['[m']2]],Tabelle745[[#This Row],['[m']3]])","v":"Nur bei 'Rohr' benötigt"},4,null,{"$f":"IF(Tabelle745[[#This Row],['[-']2]]>0,Tabelle745[[#This Row],['[-']2]]*(Tabelle745[[#This Row],['[kg/m^3']]]/2)*Tabelle745[[#This Row],['[m/s']]]^2,Druckverlust(Tabelle745[[#This Row],[Spalte1]],C16,U16,V16,P16,L16,O16,J16,K16,Q16,D16,E16))","v":{"v":101646.03458048824,"d":"101646.03"}},1.0164603458048824,{"v":18.44632885750303,"d":"18.45"},{"v":17.429868511698146,"d":"17.43"},{"v":101646.03458048824,"d":"101646.03"},{"$f":"SUM($AB$10:AB16)","v":{"v":257013.14883018535,"d":"257013.15"}}]
[null,"Rückschlag-/Absperrventil","Ventil",null,0.02,{"v":4e-05,"d":"4.00E-05"},141.12,0.0392,{"v":0.031649450508782706,"d":"3.16E-02"},1742986.8511698146,338,{"$f":"Dichte(K17,J17)","v":{"v":1.2385681068656158,"d":"1.23857"}},{"$f":"VLOOKUP(J17*0.00001,'Datenbank Werte '!$A$1:$B$500,2,TRUE)*0.000001","v":{"v":9.7143e-06,"d":"9.71E-06"}},{"v":7.843169823404792E-6,"d":"7.84E-06"},{"v":0.08988,"d":"8.99E-02"},{"$f":"Tabelle745[[#This Row],['[kg/h']]]/Tabelle745[[#This Row],['[kg/m^3']4]]","v":{"v":1570.0934579439252,"d":"1570.09"}},{"v":100.74332989230139,"d":"100.74"},{"$f":"Tabelle745[[#This Row],['[m/s']]]/VLOOKUP(J17*0.00001,'Datenbank Werte '!$A$1:$C$500,3,TRUE)","v":{"v":0.07138335569496308,"d":"0.07"}},{"v":256894.42447535272,"d":"2.5689E+05"},{"v":2E-3,"d":"2.0E-03"},{"$f":"Rohrreibungszahl(Tabelle745[[#This Row],['[-']]],Tabelle745[[#This Row],['[-']4]],Tabelle745[[#This Row],['[-']3]],Tabelle745[[#This Row],['[m']2]],Tabelle745[[#This Row],['[m']3]])","v":"Nur bei 'Rohr' benötigt"},4,null,{"$f":"IF(Tabelle745[[#This Row],['[-']2]]>0,Tabelle745[[#This Row],['[-']2]]*(Tabelle745[[#This Row],['[kg/m^3']]]/2)*Tabelle745[[#This Row],['[m/s']]]^2,Druckverlust(Tabelle745[[#This Row],[Spalte1]],C17,U17,V17,P17,L17,O17,J17,K17,Q17,D17,E17))","v":{"v":108385.90426804005,"d":"108385.90"}},1.0838590426804005,{"v":17.429868511698146,"d":"17.43"},{"v":16.346009469017744,"d":"16.35"},{"v":108385.90426804005,"d":"108385.90"},{"$f":"SUM($AB$10:AB17)","v":{"v":365399.0530982254,"d":"365399.05"}}]
[null,"T-Stück (Eingang Sammelrohr) ","Rohr",null,0.02,{"v":4e-05,"d":"4.00E-05"},141.12,0.0392,{"v":0.03372837106363628,"d":"3.37E-02"},1634600.9469017745,338,{"$f":"Dichte(K18,J18)","v":{"v":1.162226302777571,"d":"1.16223"}},{"$f":"VLOOKUP(J18*0.00001,'Datenbank Werte '!$A$1:$B$500,2,TRUE)*0.000001","v":{"v":9.7138e-06,"d":"9.71E-06"}},{"v":8.3579247662742366E-6,"d":"8.36E-06"},{"v":0.08988,"d":"8.99E-02"},{"$f":"Tabelle745[[#This Row],['[kg/h']]]/Tabelle745[[#This Row],['[kg/m^3']4]]","v":{"v":1570.0934579439252,"d":"1570.09"}},{"v":107.36073954430722,"d":"107.36"},{"$f":"Tabelle745[[#This Row],['[m/s']]]/VLOOKUP(J18*0.00001,'Datenbank Werte '!$A$1:$C$500,3,TRUE)","v":{"v":0.0761153772026283,"d":"0.08"}},{"v":256907.64764365327,"d":"2.5691E+05"},{"v":2E-3,"d":"2.0E-03"},{"$f":"Rohrreibungszahl(Tabelle745[[#This Row],['[-']]],Tabelle745[[#This Row],['[-']4]],Tabelle745[[#This Row],['[-']3]],Tabelle745[[#This Row],['[m']2]],Tabelle745[[#This Row],['[m']3]])","v":{"v":0.02409424885884462,"d":"2.41E-02"}},null,0.9,{"$f":"IF(Tabelle745[[#This Row],['[-']2]]>0,Tabelle745[[#This Row],['[-']2]]*(Tabelle745[[#This Row],['[kg/m^3']]]/2)*Tabelle745[[#This Row],['[m/s']]]^2,Druckverlust(Tabelle745[[#This Row],[Spalte1]],C18,U18,V18,P18,L18,O18,J18,K18,Q18,D18,E18))","v":{"v":6028.290916066242,"d":"6028.29"}},0.06028290916066242,{"v":16.346009469017744,"d":"16.35"},{"v":16.285726559857082,"d":"16.29"},{"v":6028.290916066242,"d":"6028.29"},{"$f":"SUM($AB$10:AB18)","v":{"v":371427.34401429165,"d":"371427.34"}}]
[null,null,"Rohr",0.1,0.02,{"v":4e-05,"d":"4.00E-05"},141.12,0.0392,{"v":0.033852121475832345,"d":"3.39E-02"},1628572.655985708,338,{"$f":"Dichte(K19,J19)","v":{"v":1.157977647811101,"d":"1.15798"}},{"$f":"VLOOKUP(J19*0.00001,'Datenbank Werte '!$A$1:$B$500,2,TRUE)*0.000001","v":{"v":9.7138e-06,"d":"9.71E-06"}},{"v":8.3885902446923539E-6,"d":"8.39E-06"},{"v":0.08988,"d":"8.99E-02"},{"$f":"Tabelle745[[#This Row],['[kg/h']]]/Tabelle745[[#This Row],['[kg/m^3']4]]","v":{"v":1570.0934579439252,"d":"1570.09"}},{"v":107.7546493405205,"d":"107.75"},{"$f":"Tabelle745[[#This Row],['[m/s']]]/VLOOKUP(J19*0.00001,'Datenbank Werte '!$A$1:$C$500,3,TRUE)","v":{"v":0.07639464682064552,"d":"0.08"}},{"v":256907.64764365327,"d":"2.5691E+05"},{"v":2E-3,"d":"2.0E-03"},{"$f":"Rohrreibungszahl(Tabelle745[[#This Row],['[-']]],Tabelle745[[#This Row],['[-']4]],Tabelle745[[#This Row],['[-']3]],Tabelle745[[#This Row],['[m']2]],Tabelle745[[#This Row],['[m']3]])","v":{"v":0.02409424885884462,"d":"2.41E-02"}},null,null,{"$f":"IF(Tabelle745[[#This Row],['[-']2]]>0,Tabelle745[[#This Row],['[-']2]]*(Tabelle745[[#This Row],['[kg/m^3']]]/2)*Tabelle745[[#This Row],['[m/s']]]^2,Druckverlust(Tabelle745[[#This Row],[Spalte1]],C19,U19,V19,P19,L19,O19,J19,K19,Q19,D19,E19))","v":{"v":809.8892093036129,"d":"809.89"}},8.098892093036129E-3,{"v":16.285726559857082,"d":"16.29"},{"v":16.277627667764047,"d":"16.28"},{"v":809.8892093036129,"d":"809.89"},{"$f":"SUM($AB$10:AB19)","v":{"v":372237.23322359525,"d":"372237.23"}}]
[null,"T-Stück (Ausgang Sammelrohr)","Rohr",null,0.02,{"v":4e-05,"d":"4.00E-05"},141.12,0.0392,{"v":0.03386881694864818,"d":"3.39E-02"},1627762.7667764048,338,{"$f":"Dichte(K20,J20)","v":{"v":1.1574068282170868,"d":"1.15741"}},{"$f":"VLOOKUP(J20*0.00001,'Datenbank Werte '!$A$1:$B$500,2,TRUE)*0.000001","v":{"v":9.7138e-06,"d":"9.71E-06"}},{"v":8.392727399892312E-6,"d":"8.39E-06"},{"v":0.08988,"d":"8.99E-02"},{"$f":"Tabelle745[[#This Row],['[kg/h']]]/Tabelle745[[#This Row],['[kg/m^3']4]]","v":{"v":1570.0934579439252,"d":"1570.09"}},{"v":107.80779268103842,"d":"107.81"},{"$f":"Tabelle745[[#This Row],['[m/s']]]/VLOOKUP(J20*0.00001,'Datenbank Werte '!$A$1:$C$500,3,TRUE)","v":{"v":0.07643232377244837,"d":"0.08"}},{"v":256907.64764365327,"d":"2.5691E+05"},{"v":2E-3,"d":"2.0E-03"},{"$f":"Rohrreibungszahl(Tabelle745[[#This Row],['[-']]],Tabelle745[[#This Row],['[-']4]],Tabelle745[[#This Row],['[-']3]],Tabelle745[[#This Row],['[m']2]],Tabelle745[[#This Row],['[m']3]])","v":{"v":0.02409424885884462,"d":"2.41E-02"}},null,1.3,{"$f":"IF(Tabelle745[[#This Row],['[-']2]]>0,Tabelle745[[#This Row],['[-']2]]*(Tabelle745[[#This Row],['[kg/m^3']]]/2)*Tabelle745[[#This Row],['[m/s']]]^2,Druckverlust(Tabelle745[[#This Row],[Spalte1]],C20,U20,V20,P20,L20,O20,J20,K20,Q20,D20,E20))","v":{"v":8743.78972835329,"d":"8743.79"}},0.08743789728353289,{"v":16.277627667764047,"d":"16.28"},{"v":16.190189770480515,"d":"16.19"},{"v":8743.78972835329,"d":"8743.79"},{"$f":"SUM($AB$10:AB20)","v":{"v":380981.0229519485,"d":"380981.02"}}]
[null,null,"Rohr",0.2,0.02,{"v":4e-05,"d":"4.00E-05"},141.12,0.0392,{"v":0.034050129573873156,"d":"3.41E-02"},1619018.9770480515,338,{"$f":"Dichte(K21,J21)","v":{"v":1.151243783520823,"d":"1.15124"}},{"$f":"VLOOKUP(J21*0.00001,'Datenbank Werte '!$A$1:$B$500,2,TRUE)*0.000001","v":{"v":9.7138e-06,"d":"9.71E-06"}},{"v":8.4376568534359456E-6,"d":"8.44E-06"},{"v":0.08988,"d":"8.99E-02"},{"$f":"Tabelle745[[#This Row],['[kg/h']]]/Tabelle745[[#This Row],['[kg/m^3']4]]","v":{"v":1570.0934579439252,"d":"1570.09"}},{"v":108.38492869202891,"d":"108.38"},{"$f":"Tabelle745[[#This Row],['[m/s']]]/VLOOKUP(J21*0.00001,'Datenbank Werte '!$A$1:$C$500,3,TRUE)","v":{"v":0.07684149499612117,"d":"0.08"}},{"v":256907.64764365327,"d":"2.5691E+05"},{"v":2E-3,"d":"2.0E-03"},{"$f":"Rohrreibungszahl(Tabelle745[[#This Row],['[-']]],Tabelle745[[#This Row],['[-']4]],Tabelle745[[#This Row],['[-']3]],Tabelle745[[#This Row],['[m']2]],Tabelle745[[#This Row],['[m']3]])","v":{"v":0.02409424885884462,"d":"2.41E-02"}},null,null,{"$f":"IF(Tabelle745[[#This Row],['[-']2]]>0,Tabelle745[[#This Row],['[-']2]]*(Tabelle745[[#This Row],['[kg/m^3']]]/2)*Tabelle745[[#This Row],['[m/s']]]^2,Druckverlust(Tabelle745[[#This Row],[Spalte1]],C21,U21,V21,P21,L21,O21,J21,K21,Q21,D21,E21))","v":{"v":1629.2528394096257,"d":"1629.25"}},0.016292528394096256,{"v":16.190189770480515,"d":"16.19"},{"v":16.17389724208642,"d":"16.17"},{"v":1629.2528394096257,"d":"1629.25"},{"$f":"SUM($AB$10:AB21)","v":{"v":382610.27579135814,"d":"382610.28"}}]
[null,"T-Stück (Überdruckventil)","Rohr",null,0.02,{"v":4e-05,"d":"4.00E-05"},141.12,0.0392,{"v":0.0340841306992852,"d":"3.41E-02"},1617389.7242086418,338,{"$f":"Dichte(K22,J22)","v":{"v":1.15009534336817,"d":"1.15010"}},{"$f":"VLOOKUP(J22*0.00001,'Datenbank Werte '!$A$1:$B$500,2,TRUE)*0.000001","v":{"v":9.7138e-06,"d":"9.71E-06"}},{"v":8.446082367008076E-6,"d":"8.45E-06"},{"v":0.08988,"d":"8.99E-02"},{"$f":"Tabelle745[[#This Row],['[kg/h']]]/Tabelle745[[#This Row],['[kg/m^3']4]]","v":{"v":1570.0934579439252,"d":"1570.09"}},{"v":108.49315763562917,"d":"108.49"},{"$f":"Tabelle745[[#This Row],['[m/s']]]/VLOOKUP(J22*0.00001,'Datenbank Werte '!$A$1:$C$500,3,TRUE)","v":{"v":0.07691822590260843,"d":"0.08"}},{"v":256907.6476436532,"d":"2.5691E+05"},{"v":2E-3,"d":"2.0E-03"},{"$f":"Rohrreibungszahl(Tabelle745[[#This Row],['[-']]],Tabelle745[[#This Row],['[-']4]],Tabelle745[[#This Row],['[-']3]],Tabelle745[[#This Row],['[m']2]],Tabelle745[[#This Row],['[m']3]])","v":{"v":0.02409424885884462,"d":"2.41E-02"}},null,0.05,{"$f":"IF(Tabelle745[[#This Row],['[-']2]]>0,Tabelle745[[#This Row],['[-']2]]*(Tabelle745[[#This Row],['[kg/m^3']]]/2)*Tabelle745[[#This Row],['[m/s']]]^2,Druckverlust(Tabelle745[[#This Row],[Spalte1]],C22,U22,V22,P22,L22,O22,J22,K22,Q22,D22,E22))","v":{"v":338.43755765542835,"d":"338.44"}},3.3843755765542837E-3,{"v":16.17389724208642,"d":"16.17"},{"v":16.170512866509863,"d":"16.17"},{"v":338.43755765542835,"d":"338.44"},{"$f":"SUM($AB$10:AB22)","v":{"v":382948.7133490136,"d":"382948.71"}}]
[null,null,"Rohr",0.2,0.02,{"v":4e-05,"d":"4.00E-05"},141.12,0.0392,{"v":0.034091202198691835,"d":"3.41E-02"},1617051.2866509864,338,{"$f":"Dichte(K23,J23)","v":{"v":1.1498567803955062,"d":"1.14986"}},{"$f":"VLOOKUP(J23*0.00001,'Datenbank Werte '!$A$1:$B$500,2,TRUE)*0.000001","v":{"v":9.7138e-06,"d":"9.71E-06"}},{"v":8.4478346917768567E-6,"d":"8.45E-06"},{"v":0.08988,"d":"8.99E-02"},{"$f":"Tabelle745[[#This Row],['[kg/h']]]/Tabelle745[[#This Row],['[kg/m^3']4]]","v":{"v":1570.0934579439252,"d":"1570.09"}},{"v":108.51566691734193,"d":"108.52"},{"$f":"Tabelle745[[#This Row],['[m/s']]]/VLOOKUP(J23*0.00001,'Datenbank Werte '!$A$1:$C$500,3,TRUE)","v":{"v":0.07693418427319527,"d":"0.08"}},{"v":256907.64764365327,"d":"2.5691E+05"},{"v":2E-3,"d":"2.0E-03"},{"$f":"Rohrreibungszahl(Tabelle745[[#This Row],['[-']]],Tabelle745[[#This Row],['[-']4]],Tabelle745[[#This Row],['[-']3]],Tabelle745[[#This Row],['[m']2]],Tabelle745[[#This Row],['[m']3]])","v":{"v":0.02409424885884462,"d":"2.41E-02"}},null,null,{"$f":"IF(Tabelle745[[#This Row],['[-']2]]>0,Tabelle745[[#This Row],['[-']2]]*(Tabelle745[[#This Row],['[kg/m^3']]]/2)*Tabelle745[[#This Row],['[m/s']]]^2,Druckverlust(Tabelle745[[#This Row],[Spalte1]],C23,U23,V23,P23,L23,O23,J23,K23,Q23,D23,E23))","v":{"v":1631.2181091881928,"d":"1631.22"}},0.016312181091881928,{"v":16.170512866509863,"d":"16.17"},{"v":16.154200685417983,"d":"16.15"},{"v":1631.2181091881928,"d":"1631.22"},{"$f":"SUM($AB$10:AB23)","v":{"v":384579.9314582018,"d":"384579.93"}}]
[null,"T-Stück (Sensoren)","Rohr",null,0.02,{"v":4e-05,"d":"4.00E-05"},141.12,0.0392,{"v":0.03412532731995083,"d":"3.41E-02"},1615420.0685417983,338,{"$f":"Dichte(K24,J24)","v":{"v":1.1487069305583582,"d":"1.14871"}},{"$f":"VLOOKUP(J24*0.00001,'Datenbank Werte '!$A$1:$B$500,2,TRUE)*0.000001","v":{"v":9.7138e-06,"d":"9.71E-06"}},{"v":8.456290931646387E-6,"d":"8.46E-06"},{"v":0.08988,"d":"8.99E-02"},{"$f":"Tabelle745[[#This Row],['[kg/h']]]/Tabelle745[[#This Row],['[kg/m^3']4]]","v":{"v":1570.0934579439252,"d":"1570.09"}},{"v":108.62429055198152,"d":"108.62"},{"$f":"Tabelle745[[#This Row],['[m/s']]]/VLOOKUP(J24*0.00001,'Datenbank Werte '!$A$1:$C$500,3,TRUE)","v":{"v":0.07701119500317725,"d":"0.08"}},{"v":256907.64764365327,"d":"2.5691E+05"},{"v":2E-3,"d":"2.0E-03"},{"$f":"Rohrreibungszahl(Tabelle745[[#This Row],['[-']]],Tabelle745[[#This Row],['[-']4]],Tabelle745[[#This Row],['[-']3]],Tabelle745[[#This Row],['[m']2]],Tabelle745[[#This Row],['[m']3]])","v":{"v":0.02409424885884462,"d":"2.41E-02"}},null,0.05,{"$f":"IF(Tabelle745[[#This Row],['[-']2]]>0,Tabelle745[[#This Row],['[-']2]]*(Tabelle745[[#This Row],['[kg/m^3']]]/2)*Tabelle745[[#This Row],['[m/s']]]^2,Druckverlust(Tabelle745[[#This Row],[Spalte1]],C24,U24,V24,P24,L24,O24,J24,K24,Q24,D24,E24))","v":{"v":338.84661851148326,"d":"338.85"}},3.3884661851148325E-3,{"v":16.154200685417983,"d":"16.15"},{"v":16.15081221923287,"d":"16.15"},{"v":338.84661851148326,"d":"338.85"},{"$f":"SUM($AB$10:AB24)","v":{"v":384918.77807671326,"d":"384918.78"}}]
[null,null,"Rohr",0.2,0.02,{"v":4e-05,"d":"4.00E-05"},141.12,0.0392,{"v":0.03413242464601542,"d":"3.41E-02"},1615081.2219232868,338,{"$f":"Dichte(K25,J25)","v":{"v":1.148468074171114,"d":"1.14847"}},{"$f":"VLOOKUP(J25*0.00001,'Datenbank Werte '!$A$1:$B$500,2,TRUE)*0.000001","v":{"v":9.7138e-06,"d":"9.71E-06"}},{"v":8.4580496562873634E-6,"d":"8.46E-06"},{"v":0.08988,"d":"8.99E-02"},{"$f":"Tabelle745[[#This Row],['[kg/h']]]/Tabelle745[[#This Row],['[kg/m^3']4]]","v":{"v":1570.0934579439252,"d":"1570.09"}},{"v":108.64688204249981,"d":"108.65"},{"$f":"Tabelle745[[#This Row],['[m/s']]]/VLOOKUP(J25*0.00001,'Datenbank Werte '!$A$1:$C$500,3,TRUE)","v":{"v":0.07702721165721362,"d":"0.08"}},{"v":256907.64764365327,"d":"2.5691E+05"},{"v":2E-3,"d":"2.0E-03"},{"$f":"Rohrreibungszahl(Tabelle745[[#This Row],['[-']]],Tabelle745[[#This Row],['[-']4]],Tabelle745[[#This Row],['[-']3]],Tabelle745[[#This Row],['[m']2]],Tabelle745[[#This Row],['[m']3]])","v":{"v":0.02409424885884462,"d":"2.41E-02"}},null,null,{"$f":"IF(Tabelle745[[#This Row],['[-']2]]>0,Tabelle745[[#This Row],['[-']2]]*(Tabelle745[[#This Row],['[kg/m^3']]]/2)*Tabelle745[[#This Row],['[m/s']]]^2,Druckverlust(Tabelle745[[#This Row],[Spalte1]],C25,U25,V25,P25,L25,O25,J25,K25,Q25,D25,E25))","v":{"v":1633.1905477718306,"d":"1633.19"}},0.016331905477718307,{"v":16.15081221923287,"d":"16.15"},{"v":16.13448031375515,"d":"16.13"},{"v":1633.1905477718306,"d":"1633.19"},{"$f":"SUM($AB$10:AB25)","v":{"v":386551.9686244851,"d":"386551.97"}}]
[null,"T-Stück (Entlüftungsventil)","Rohr",null,0.02,{"v":4e-05,"d":"4.00E-05"},141.12,0.0392,{"v":0.03416667451846865,"d":"3.42E-02"},1613448.031375515,338,{"$f":"Dichte(K26,J26)","v":{"v":1.1473168095071882,"d":"1.14732"}},{"$f":"VLOOKUP(J26*0.00001,'Datenbank Werte '!$A$1:$B$500,2,TRUE)*0.000001","v":{"v":9.7138e-06,"d":"9.71E-06"}},{"v":8.4665368096301232E-6,"d":"8.47E-06"},{"v":0.08988,"d":"8.99E-02"},{"$f":"Tabelle745[[#This Row],['[kg/h']]]/Tabelle745[[#This Row],['[kg/m^3']4]]","v":{"v":1570.0934579439252,"d":"1570.09"}},{"v":108.75590277252377,"d":"108.76"},{"$f":"Tabelle745[[#This Row],['[m/s']]]/VLOOKUP(J26*0.00001,'Datenbank Werte '!$A$1:$C$500,3,TRUE)","v":{"v":0.07710450391529512,"d":"0.08"}},{"v":256907.6476436532,"d":"2.5691E+05"},{"v":2E-3,"d":"2.0E-03"},{"$f":"Rohrreibungszahl(Tabelle745[[#This Row],['[-']]],Tabelle745[[#This Row],['[-']4]],Tabelle745[[#This Row],['[-']3]],Tabelle745[[#This Row],['[m']2]],Tabelle745[[#This Row],['[m']3]])","v":{"v":0.02409424885884462,"d":"2.41E-02"}},null,0.05,{"$f":"IF(Tabelle745[[#This Row],['[-']2]]>0,Tabelle745[[#This Row],['[-']2]]*(Tabelle745[[#This Row],['[kg/m^3']]]/2)*Tabelle745[[#This Row],['[m/s']]]^2,Druckverlust(Tabelle745[[#This Row],[Spalte1]],C26,U26,V26,P26,L26,O26,J26,K26,Q26,D26,E26))","v":{"v":339.25717452670693,"d":"339.26"}},3.3925717452670695E-3,{"v":16.13448031375515,"d":"16.13"},{"v":16.131087742009885,"d":"16.13"},{"v":339.25717452670693,"d":"339.26"},{"$f":"SUM($AB$10:AB26)","v":{"v":386891.22579901177,"d":"386891.23"}}]
[null,"Hauptventil","Ventil",null,0.02,{"v":4e-05,"d":"4.00E-05"},141.12,0.0392,{"v":0.03417379782875337,"d":"3.42E-02"},1613108.7742009885,338,{"$f":"Dichte(K27,J27)","v":{"v":1.1470776586328855,"d":"1.14708"}},{"$f":"VLOOKUP(J27*0.00001,'Datenbank Werte '!$A$1:$B$500,2,TRUE)*0.000001","v":{"v":9.7138e-06,"d":"9.71E-06"}},{"v":8.4683019731873588E-6,"d":"8.47E-06"},{"v":0.08988,"d":"8.99E-02"},{"$f":"Tabelle745[[#This Row],['[kg/h']]]/Tabelle745[[#This Row],['[kg/m^3']4]]","v":{"v":1570.0934579439252,"d":"1570.09"}},{"v":108.77857697338358,"d":"108.78"},{"$f":"Tabelle745[[#This Row],['[m/s']]]/VLOOKUP(J27*0.00001,'Datenbank Werte '!$A$1:$C$500,3,TRUE)","v":{"v":0.07712057920835419,"d":"0.08"}},{"v":256907.64764365327,"d":"2.5691E+05"},{"v":2E-3,"d":"2.0E-03"},{"$f":"Rohrreibungszahl(Tabelle745[[#This Row],['[-']]],Tabelle745[[#This Row],['[-']4]],Tabelle745[[#This Row],['[-']3]],Tabelle745[[#This Row],['[m']2]],Tabelle745[[#This Row],['[m']3]])","v":{"$error":"#VALUE!"}},4,null,{"$f":"IF(Tabelle745[[#This Row],['[-']2]]>0,Tabelle745[[#This Row],['[-']2]]*(Tabelle745[[#This Row],['[kg/m^3']]]/2)*Tabelle745[[#This Row],['[m/s']]]^2,Druckverlust(Tabelle745[[#This Row],[Spalte1]],C27,U27,V27,P27,L27,O27,J27,K27,Q27,D27,E27))","v":{"v":118541.10408648833,"d":"118541.10"}},1.1854110408648832,{"v":16.131087742009885,"d":"16.13"},{"v":14.945676701145002,"d":"14.95"},{"v":118541.10408648833,"d":"118541.10"},{"$f":"SUM($AB$10:AB27)","v":{"v":505432.3298855001,"d":"505432.33"}}]
[null,null,"Rohr",0.2,0.02,{"v":4e-05,"d":"4.00E-05"},141.12,0.0392,{"v":0.036860760039758446,"d":"3.69E-02"},1494567.6701145002,338,{"$f":"Dichte(K28,J28)","v":{"v":1.0634615227064885,"d":"1.06346"}},{"$f":"VLOOKUP(J28*0.00001,'Datenbank Werte '!$A$1:$B$500,2,TRUE)*0.000001","v":{"v":9.7128e-06,"d":"9.71E-06"}},{"v":9.1331936253613723E-6,"d":"9.13E-06"},{"v":0.08988,"d":"8.99E-02"},{"$f":"Tabelle745[[#This Row],['[kg/h']]]/Tabelle745[[#This Row],['[kg/m^3']4]]","v":{"v":1570.0934579439252,"d":"1570.09"}},{"v":117.3314433290353,"d":"117.33"},{"$f":"Tabelle745[[#This Row],['[m/s']]]/VLOOKUP(J28*0.00001,'Datenbank Werte '!$A$1:$C$500,3,TRUE)","v":{"v":0.08327875883954523,"d":"0.08"}},{"v":256934.09806450448,"d":"2.5693E+05"},{"v":2E-3,"d":"2.0E-03"},{"$f":"Rohrreibungszahl(Tabelle745[[#This Row],['[-']]],Tabelle745[[#This Row],['[-']4]],Tabelle745[[#This Row],['[-']3]],Tabelle745[[#This Row],['[m']2]],Tabelle745[[#This Row],['[m']3]])","v":{"v":0.024094179780052894,"d":"2.41E-02"}},null,null,{"$f":"IF(Tabelle745[[#This Row],['[-']2]]>0,Tabelle745[[#This Row],['[-']2]]*(Tabelle745[[#This Row],['[kg/m^3']]]/2)*Tabelle745[[#This Row],['[m/s']]]^2,Druckverlust(Tabelle745[[#This Row],[Spalte1]],C28,U28,V28,P28,L28,O28,J28,K28,Q28,D28,E28))","v":{"v":1763.7326650026948,"d":"1763.73"}},0.017637326650026947,{"v":14.945676701145002,"d":"14.95"},{"v":14.928039374494976,"d":"14.93"},{"v":1763.7326650026948,"d":"1763.73"},{"$f":"SUM($AB$10:AB28)","v":{"v":507196.0625505028,"d":"507196.06"}}]
[null,"T-Stück (Druckminderer) ","Rohr",null,0.02,{"v":4e-05,"d":"4.00E-05"},{"$f":"17.64*4","v":70.56},0.0196,{"v":0.01845198016009643,"d":"1.85E-02"},1492803.9374494976,338,{"$f":"Dichte(K29,J29)","v":{"v":1.0622166201103032,"d":"1.06222"}},{"$f":"VLOOKUP(J29*0.00001,'Datenbank Werte '!$A$1:$B$500,2,TRUE)*0.000001","v":{"v":9.7128e-06,"d":"9.71E-06"}},{"v":9.14389759688697e-06,"d":"9.14E-06"},{"v":0.08988,"d":"8.99E-02"},{"$f":"Tabelle745[[#This Row],['[kg/h']]]/Tabelle745[[#This Row],['[kg/m^3']4]]","v":{"v":785.0467289719626,"d":"785.05"}},{"v":58.73447704625858,"d":"58.73"},{"$f":"Tabelle745[[#This Row],['[m/s']]]/VLOOKUP(J29*0.00001,'Datenbank Werte '!$A$1:$C$500,3,TRUE)","v":{"v":0.04168818017336828,"d":"0.04"}},{"v":128467.04903225224,"d":"1.2847E+05"},{"v":2E-3,"d":"2.0E-03"},{"$f":"Rohrreibungszahl(Tabelle745[[#This Row],['[-']]],Tabelle745[[#This Row],['[-']4]],Tabelle745[[#This Row],['[-']3]],Tabelle745[[#This Row],['[m']2]],Tabelle745[[#This Row],['[m']3]])","v":{"v":0.024737745201078593,"d":"2.47E-02"}},null,1.3,{"$f":"IF(Tabelle745[[#This Row],['[-']2]]>0,Tabelle745[[#This Row],['[-']2]]*(Tabelle745[[#This Row],['[kg/m^3']]]/2)*Tabelle745[[#This Row],['[m/s']]]^2,Druckverlust(Tabelle745[[#This Row],[Spalte1]],C29,U29,V29,P29,L29,O29,J29,K29,Q29,D29,E29))","v":{"v":2381.840423246161,"d":"2381.84"}},0.023818404232461614,{"v":14.928039374494976,"d":"14.93"},{"v":14.904220970262514,"d":"14.90"},{"v":2381.840423246161,"d":"2381.84"},{"$f":"SUM($AB$10:AB29)","v":{"v":509577.9029737489,"d":"509577.90"}}]
[null,null,"Rohr",0.3,0.02,{"v":4e-05,"d":"4.00E-05"},{"$f":"17.64*4","v":70.56},0.0196,{"v":0.018481231299495793,"d":"1.85E-02"},1490422.0970262515,338,{"$f":"Dichte(K30,J30)","v":{"v":1.060535398446895,"d":"1.06054"}},{"$f":"VLOOKUP(J30*0.00001,'Datenbank Werte '!$A$1:$B$500,2,TRUE)*0.000001","v":{"v":9.7128e-06,"d":"9.71E-06"}},{"v":9.1583930288644259E-6,"d":"9.16E-06"},{"v":0.08988,"d":"8.99E-02"},{"$f":"Tabelle745[[#This Row],['[kg/h']]]/Tabelle745[[#This Row],['[kg/m^3']4]]","v":{"v":785.0467289719626,"d":"785.05"}},{"v":58.82758631478816,"d":"58.83"},{"$f":"Tabelle745[[#This Row],['[m/s']]]/VLOOKUP(J30*0.00001,'Datenbank Werte '!$A$1:$C$500,3,TRUE)","v":{"v":0.04175426667243108,"d":"0.04"}},{"v":128467.04903225222,"d":"1.2847E+05"},{"v":2E-3,"d":"2.0E-03"},{"$f":"Rohrreibungszahl(Tabelle745[[#This Row],['[-']]],Tabelle745[[#This Row],['[-']4]],Tabelle745[[#This Row],['[-']3]],Tabelle745[[#This Row],['[m']2]],Tabelle745[[#This Row],['[m']3]])","v":{"v":0.024737745201078593,"d":"2.47E-02"}},null,null,{"$f":"IF(Tabelle745[[#This Row],['[-']2]]>0,Tabelle745[[#This Row],['[-']2]]*(Tabelle745[[#This Row],['[kg/m^3']]]/2)*Tabelle745[[#This Row],['[m/s']]]^2,Druckverlust(Tabelle745[[#This Row],[Spalte1]],C30,U30,V30,P30,L30,O30,J30,K30,Q30,D30,E30))","v":{"v":680.9396195584452,"d":"680.94"}},6.809396195584452E-3,{"v":14.904220970262514,"d":"14.90"},{"v":14.897411574066929,"d":"14.90"},{"v":680.9396195584452,"d":"680.94"},{"$f":"SUM($AB$10:AB30)","v":{"v":510258.8425933074,"d":"510258.84"}}]
[null,"90°Winkel","Rohr",null,0.02,{"v":4e-05,"d":"4.00E-05"},70.56,0.0196,{"v":0.01848961104238217,"d":"1.85E-02"},1489741.1574066929,338,{"$f":"Dichte(K31,J31)","v":{"v":1.060054749398058,"d":"1.06005"}},{"$f":"VLOOKUP(J31*0.00001,'Datenbank Werte '!$A$1:$B$500,2,TRUE)*0.000001","v":{"v":9.7128e-06,"d":"9.71E-06"}},{"v":9.1625456190025271E-6,"d":"9.16E-06"},{"v":0.08988,"d":"8.99E-02"},{"$f":"Tabelle745[[#This Row],['[kg/h']]]/Tabelle745[[#This Row],['[kg/m^3']4]]","v":{"v":785.0467289719626,"d":"785.05"}},{"v":58.85425986483228,"d":"58.85"},{"$f":"Tabelle745[[#This Row],['[m/s']]]/VLOOKUP(J31*0.00001,'Datenbank Werte '!$A$1:$C$500,3,TRUE)","v":{"v":0.04177319885359662,"d":"0.04"}},{"v":128467.04903225224,"d":"1.2847E+05"},{"v":2E-3,"d":"2.0E-03"},{"$f":"Rohrreibungszahl(Tabelle745[[#This Row],['[-']]],Tabelle745[[#This Row],['[-']4]],Tabelle745[[#This Row],['[-']3]],Tabelle745[[#This Row],['[m']2]],Tabelle745[[#This Row],['[m']3]])","v":{"v":0.024737745201078593,"d":"2.47E-02"}},null,0.15,{"$f":"IF(Tabelle745[[#This Row],['[-']2]]>0,Tabelle745[[#This Row],['[-']2]]*(Tabelle745[[#This Row],['[kg/m^3']]]/2)*Tabelle745[[#This Row],['[m/s']]]^2,Druckverlust(Tabelle745[[#This Row],[Spalte1]],C31,U31,V31,P31,L31,O31,J31,K31,Q31,D31,E31))","v":{"v":275.38822355738824,"d":"275.39"}},2.7538822355738825E-3,{"v":14.897411574066929,"d":"14.90"},{"v":14.894657691831355,"d":"14.89"},{"v":275.38822355738824,"d":"275.39"},{"$f":"SUM($AB$10:AB31)","v":{"v":510534.23081686476,"d":"510534.23"}}]
[null,null,"Rohr",0.2,0.02,{"v":4e-05,"d":"4.00E-05"},70.56,0.0196,{"v":0.01849300218621849,"d":"1.85E-02"},1489465.7691831356,338,{"$f":"Dichte(K32,J32)","v":{"v":1.0598603624568042,"d":"1.05986"}},{"$f":"VLOOKUP(J32*0.00001,'Datenbank Werte '!$A$1:$B$500,2,TRUE)*0.000001","v":{"v":9.7128e-06,"d":"9.71E-06"}},{"v":9.1642261037909659E-6,"d":"9.16E-06"},{"v":0.08988,"d":"8.99E-02"},{"$f":"Tabelle745[[#This Row],['[kg/h']]]/Tabelle745[[#This Row],['[kg/m^3']4]]","v":{"v":785.0467289719626,"d":"785.05"}},{"v":58.865054210918,"d":"58.87"},{"$f":"Tabelle745[[#This Row],['[m/s']]]/VLOOKUP(J32*0.00001,'Datenbank Werte '!$A$1:$C$500,3,TRUE)","v":{"v":0.04178086039528568,"d":"0.04"}},{"v":128467.04903225224,"d":"1.2847E+05"},{"v":2E-3,"d":"2.0E-03"},{"$f":"Rohrreibungszahl(Tabelle745[[#This Row],['[-']]],Tabelle745[[#This Row],['[-']4]],Tabelle745[[#This Row],['[-']3]],Tabelle745[[#This Row],['[m']2]],Tabelle745[[#This Row],['[m']3]])","v":{"v":0.024737745201078593,"d":"2.47E-02"}},null,null,{"$f":"IF(Tabelle745[[#This Row],['[-']2]]>0,Tabelle745[[#This Row],['[-']2]]*(Tabelle745[[#This Row],['[kg/m^3']]]/2)*Tabelle745[[#This Row],['[m/s']]]^2,Druckverlust(Tabelle745[[#This Row],[Spalte1]],C32,U32,V32,P32,L32,O32,J32,K32,Q32,D32,E32))","v":{"v":454.24887801426485,"d":"454.25"}},0.004542488780142648,{"v":14.894657691831355,"d":"14.89"},{"v":14.890115203051213,"d":"14.89"},{"v":454.24887801426485,"d":"454.25"},{"$f":"SUM($AB$10:AB32)","v":{"v":510988.47969487903,"d":"510988.48"}}]
[null,"Ergebnis",{"$nulls":25},"Druckverlust gesamt in bar",{"$f":"SUBTOTAL(104,Tabelle745['[Pa']4])*0.00001","v":5.109884796948791}]

{"sheet":"TC_4 bis Druckminderer","index":4,"n_rows":37,"n_cols":29,"rows_kept":37,"merged":[[6,2,7,2],[6,3,7,3],[6,4,7,4],[6,5,7,5],[6,6,7,6],[6,7,7,7],[6,8,7,8],[6,9,7,9],[6,10,7,10],[6,11,7,11],[6,12,7,12],[6,13,7,13],[6,14,7,14],[6,15,7,15],[6,16,7,16],[6,17,7,17],[6,18,7,18],[6,19,7,19],[6,20,7,20],[6,21,7,21],[6,22,7,22],[6,23,7,23],[6,24,7,24],[6,25,7,25],[6,26,7,26],[6,27,7,27],[6,28,7,28]]}
[]
[null,null,"Temperatur",null,338,null,"Normdichte",0.08988]
[null,null,"Massenstrom",null,{"$f":"17.64*8","v":141.12},null,"Startdruck",{"v":20,"d":"20.00"}]
[null,null,"Rauigleit (mm)",null,{"v":0.04,"d":"4.00E-02"}]
[null,null,"Innendurchmesser",null,{"$f":"'Diagramme '!C3","v":0.02}]
[]
[null,null,"Rohr oder Ventil","Länge Rohrleitung ","Innendruchmesser Rohr","Rauigkeit","Massenstrom H2 ","Massenstrom H2 ","Volumenstrom H2 ","Druck","Temperatur","Dichte","dynamische Viskosität","kinematische Viskosität","Norm Dichte","Norm Volumenstrom","Geschwindigkeit","Mach-Zahl","RE-Zahl","k/d ","Rohrreibungszahl","Kv-Wert","Widerstandsbeiwert Zeta","Durckverlust durch Komponente ","Durckverlust durch Komponente ","p_1","p_2","Delta p","Delta P aufsummiert "]
[]
["System ","Komponente ","[-]","[m]","[m]2","[m]3","[kg/h]","[kg/s]","[m^3/s]","[Pa]","[K]","[kg/m^3]","[Pa*s]","[m^2/s]","[kg/m^3]","[Nm^3/h]","[m/s]","[-]","[-]","[-]","[-]","[m^3/h]","[-]","[Pa]","[bar]","[bar]","[bar]","[Pa]","[Pa]"]
[null,"H2 Kupplung ","Ventil",null,{"$f":"IF(ISTEXT(E9),$E$5,E9)","v":0.02},{"$f":"IF(ISTEXT(F9),E4*0.001,F9)","v":{"v":4e-05,"d":"4.00E-05"}},{"$f":"17.64*8","v":141.12},{"$f":"G10/3600","v":0.0392},{"$f":"H10/L10","v":{"v":0.027620418371815808,"d":"2.76E-02"}},{"$f":"IF(ISTEXT(AA9),$H$3*100000,AA9*100000)","v":2000000},{"$f":"IF(ISTEXT(K9),E2,K9)","v":338},{"$f":"Dichte(K10,J10)","v":{"v":1.4192399069523194,"d":"1.41924"}},{"$f":"VLOOKUP(J10*0.00001,'Datenbank Werte '!$A$1:$B$500,2,TRUE)*0.000001","v":{"v":9.7159999999999981E-6,"d":"9.72E-06"}},{"$f":"M10/L10","v":{"v":6.8459179821572027E-6,"d":"6.85E-06"}},{"$f":"IF(ISTEXT(O9),H2,O9)","v":{"v":0.08988,"d":"8.99E-02"}},{"$f":"Tabelle76[[#This Row],['[kg/h']]]/Tabelle76[[#This Row],['[kg/m^3']4]]","v":{"v":1570.0934579439252,"d":"1570.09"}},{"$f":"H10*4/(L10*PI()*E10^2)","v":{"v":87.91852228281371,"d":"87.92"}},{"$f":"Tabelle76[[#This Row],['[m/s']]]/VLOOKUP(J10*0.00001,'Datenbank Werte '!$A$1:$C$500,3,TRUE)","v":{"v":0.062190367321789425,"d":"0.06"}},{"$f":"(L10*Q10*E10)/M10","v":{"v":256849.4758831741,"d":"2.5685E+05"}},{"$f":"F10/E10","v":{"v":2E-3,"d":"2.0E-03"}},{"$f":"Rohrreibungszahl(Tabelle76[[#This Row],['[-']]],Tabelle76[[#This Row],['[-']4]],Tabelle76[[#This Row],['[-']3]],Tabelle76[[#This Row],['[m']2]],Tabelle76[[#This Row],['[m']3]])","v":"Nur bei 'Rohr' benötigt"},3.53,null,{"$f":"IF(Tabelle76[[#This Row],['[-']2]]>0,Tabelle76[[#This Row],['[-']2]]*(Tabelle76[[#This Row],['[kg/m^3']]]/2)*Tabelle76[[#This Row],['[m/s']]]^2,Druckverlust(Tabelle76[[#This Row],[Spalte1]],C10,U10,V10,P10,L10,O10,J10,K10,Q10,D10,E10))","v":{"v":121072.3779401647,"d":"121072.38"}},{"$f":"X10/10^5","v":1.210723779401647},{"$f":"J10/10^5","v":{"v":20,"d":"20.00"}},{"$f":"Z10-Y10","v":{"v":18.789276220598353,"d":"18.79"}},{"$f":"X10","v":{"v":121072.3779401647,"d":"121072.38"}},{"$f":"SUM($AB$10:AB10)","v":{"v":121072.3779401647,"d":"121072.38"}}]
[null,"Schlauch","Rohr",1,{"$f":"IF(ISTEXT(E10),$E$5,E10)","v":0.02},{"$f":"IF(ISTEXT(F10),E5,F10)","v":{"v":4e-05,"d":"4.00E-05"}},141.12,0.0392,{"v":0.02938107177885136,"d":"2.94E-02"},{"$f":"IF(ISTEXT(AA10),$H$3*100000,AA10*100000)","v":1878927.6220598354},{"$f":"IF(ISTEXT(K10),E3,K10)","v":338},{"$f":"Dichte(K11,J11)","v":{"v":1.3341923090843932,"d":"1.33419"}},{"$f":"VLOOKUP(J11*0.00001,'Datenbank Werte '!$A$1:$B$500,2,TRUE)*0.000001","v":{"v":9.7148999999999991E-6,"d":"9.71E-06"}},{"v":7.2814840363357924E-6,"d":"7.28E-06"},{"$f":"IF(ISTEXT(O10),H3,O10)","v":{"v":0.08988,"d":"8.99E-02"}},{"$f":"Tabelle76[[#This Row],['[kg/h']]]/Tabelle76[[#This Row],['[kg/m^3']4]]","v":{"v":1570.0934579439252,"d":"1570.09"}},{"v":93.5228561388396,"d":"93.52"},{"$f":"Tabelle76[[#This Row],['[m/s']]]/VLOOKUP(J11*0.00001,'Datenbank Werte '!$A$1:$C$500,3,TRUE)","v":{"v":0.06622962689529042,"d":"0.07"}},{"v":256878.55847007368,"d":"2.5688E+05"},{"v":2E-3,"d":"2.0E-03"},{"$f":"Rohrreibungszahl(Tabelle76[[#This Row],['[-']]],Tabelle76[[#This Row],['[-']4]],Tabelle76[[#This Row],['[-']3]],Tabelle76[[#This Row],['[m']2]],Tabelle76[[#This Row],['[m']3]])","v":{"v":0.024094324844793406,"d":"2.41E-02"}},null,null,{"$f":"IF(Tabelle76[[#This Row],['[-']2]]>0,Tabelle76[[#This Row],['[-']2]]*(Tabelle76[[#This Row],['[kg/m^3']]]/2)*Tabelle76[[#This Row],['[m/s']]]^2,Druckverlust(Tabelle76[[#This Row],[Spalte1]],C11,U11,V11,P11,L11,O11,J11,K11,Q11,D11,E11))","v":{"v":7029.245730423665,"d":"7029.25"}},0.07029245730423665,{"v":18.789276220598353,"d":"18.79"},{"v":18.718983763294116,"d":"18.72"},{"v":7029.245730423665,"d":"7029.25"},{"$f":"SUM($AB$10:AB11)","v":{"v":128101.62367058836,"d":"128101.62"}}]
[null,"90°Winkel","Rohr",null,0.02,{"v":4e-05,"d":"4.00E-05"},{"$f":"17.64*8","v":141.12},{"$f":"G12/3600","v":0.0392},{"v":0.029490287672061993,"d":"2.95E-02"},1871898.3763294115,338,{"$f":"Dichte(K12,J12)","v":{"v":1.329251190626283,"d":"1.32925"}},{"$f":"VLOOKUP(J12*0.00001,'Datenbank Werte '!$A$1:$B$500,2,TRUE)*0.000001","v":{"v":9.7148999999999991E-6,"d":"9.71E-06"}},{"v":7.3085509108498737E-6,"d":"7.31E-06"},{"v":0.08988,"d":"8.99E-02"},{"$f":"Tabelle76[[#This Row],['[kg/h']]]/Tabelle76[[#This Row],['[kg/m^3']4]]","v":{"v":1570.0934579439252,"d":"1570.09"}},{"v":93.87050112421298,"d":"93.87"},{"$f":"Tabelle76[[#This Row],['[m/s']]]/VLOOKUP(J12*0.00001,'Datenbank Werte '!$A$1:$C$500,3,TRUE)","v":{"v":0.06647581695645705,"d":"0.07"}},{"v":256878.55847007368,"d":"2.5688E+05"},{"v":2E-3,"d":"2.0E-03"},{"$f":"Rohrreibungszahl(Tabelle76[[#This Row],['[-']]],Tabelle76[[#This Row],['[-']4]],Tabelle76[[#This Row],['[-']3]],Tabelle76[[#This Row],['[m']2]],Tabelle76[[#This Row],['[m']3]])","v":{"v":0.024094324844793406,"d":"2.41E-02"}},null,0.15,{"$f":"IF(Tabelle76[[#This Row],['[-']2]]>0,Tabelle76[[#This Row],['[-']2]]*(Tabelle76[[#This Row],['[kg/m^3']]]/2)*Tabelle76[[#This Row],['[m/s']]]^2,Druckverlust(Tabelle76[[#This Row],[Spalte1]],C12,U12,V12,P12,L12,O12,J12,K12,Q12,D12,E12))","v":{"v":878.4693107485906,"d":"878.47"}},0.008784693107485905,{"$f":"J12/10^5","v":{"v":18.718983763294116,"d":"18.72"}},{"$f":"Z12-Y12","v":{"v":18.71019907018663,"d":"18.71"}},{"$f":"X12","v":{"v":878.4693107485906,"d":"878.47"}},{"$f":"SUM($AB$10:AB12)","v":{"v":128980.09298133696,"d":"128980.09"}}]
[null,"Rohr ","Rohr",2,0.02,{"v":4e-05,"d":"4.00E-05"},141.12,0.0392,{"v":0.029503994450363,"d":"2.95E-02"},1871019.907018663,338,{"$f":"Dichte(K13,J13)","v":{"v":1.3286336555529588,"d":"1.32863"}},{"$f":"VLOOKUP(J13*0.00001,'Datenbank Werte '!$A$1:$B$500,2,TRUE)*0.000001","v":{"v":9.7148999999999991E-6,"d":"9.71E-06"}},{"v":7.3119478491283539E-6,"d":"7.31E-06"},{"v":0.08988,"d":"8.99E-02"},{"$f":"Tabelle76[[#This Row],['[kg/h']]]/Tabelle76[[#This Row],['[kg/m^3']4]]","v":{"v":1570.0934579439252,"d":"1570.09"}},{"v":93.91413115462237,"d":"93.91"},{"$f":"Tabelle76[[#This Row],['[m/s']]]/VLOOKUP(J13*0.00001,'Datenbank Werte '!$A$1:$C$500,3,TRUE)","v":{"v":0.0665067142232295,"d":"0.07"}},{"v":256878.55847007368,"d":"2.5688E+05"},{"v":2E-3,"d":"2.0E-03"},{"$f":"Rohrreibungszahl(Tabelle76[[#This Row],['[-']]],Tabelle76[[#This Row],['[-']4]],Tabelle76[[#This Row],['[-']3]],Tabelle76[[#This Row],['[m']2]],Tabelle76[[#This Row],['[m']3]])","v":{"v":0.024094324844793406,"d":"2.41E-02"}},null,null,{"$f":"IF(Tabelle76[[#This Row],['[-']2]]>0,Tabelle76[[#This Row],['[-']2]]*(Tabelle76[[#This Row],['[kg/m^3']]]/2)*Tabelle76[[#This Row],['[m/s']]]^2,Druckverlust(Tabelle76[[#This Row],[Spalte1]],C13,U13,V13,P13,L13,O13,J13,K13,Q13,D13,E13))","v":{"v":14117.308489061896,"d":"14117.31"}},0.14117308489061894,{"v":18.71019907018663,"d":"18.71"},{"v":18.569025985296012,"d":"18.57"},{"v":14117.308489061896,"d":"14117.31"},{"$f":"SUM($AB$10:AB13)","v":{"v":143097.40147039885,"d":"143097.40"}}]
[null,"90°Winkel","Rohr",null,0.02,{"v":4e-05,"d":"4.00E-05"},141.12,0.0392,{"v":0.029726046051824797,"d":"2.97E-02"},1856902.5985296012,338,{"$f":"Dichte(K14,J14)","v":{"v":1.3187088498637922,"d":"1.31871"}},{"$f":"VLOOKUP(J14*0.00001,'Datenbank Werte '!$A$1:$B$500,2,TRUE)*0.000001","v":{"v":9.7148999999999991E-6,"d":"9.71E-06"}},{"v":7.3669786935936909E-6,"d":"7.37E-06"},{"v":0.08988,"d":"8.99E-02"},{"$f":"Tabelle76[[#This Row],['[kg/h']]]/Tabelle76[[#This Row],['[kg/m^3']4]]","v":{"v":1570.0934579439252,"d":"1570.09"}},{"v":94.6209433545047,"d":"94.62"},{"$f":"Tabelle76[[#This Row],['[m/s']]]/VLOOKUP(J14*0.00001,'Datenbank Werte '!$A$1:$C$500,3,TRUE)","v":{"v":0.06700725398661901,"d":"0.07"}},{"v":256878.55847007368,"d":"2.5688E+05"},{"v":2E-3,"d":"2.0E-03"},{"$f":"Rohrreibungszahl(Tabelle76[[#This Row],['[-']]],Tabelle76[[#This Row],['[-']4]],Tabelle76[[#This Row],['[-']3]],Tabelle76[[#This Row],['[m']2]],Tabelle76[[#This Row],['[m']3]])","v":{"v":0.024094324844793406,"d":"2.41E-02"}},null,0.15,{"$f":"IF(Tabelle76[[#This Row],['[-']2]]>0,Tabelle76[[#This Row],['[-']2]]*(Tabelle76[[#This Row],['[kg/m^3']]]/2)*Tabelle76[[#This Row],['[m/s']]]^2,Druckverlust(Tabelle76[[#This Row],[Spalte1]],C14,U14,V14,P14,L14,O14,J14,K14,Q14,D14,E14))","v":{"v":885.4921822673937,"d":"885.49"}},0.008854921822673936,{"v":18.569025985296012,"d":"18.57"},{"v":18.560171063473337,"d":"18.56"},{"v":885.4921822673937,"d":"885.49"},{"$f":"SUM($AB$10:AB14)","v":{"v":143982.89365266624,"d":"143982.89"}}]
[null,"Rohr ","Rohr",3,0.02,{"v":4e-05,"d":"4.00E-05"},141.12,0.0392,{"v":0.029740086573225567,"d":"2.97E-02"},1856017.1063473336,338,{"$f":"Dichte(K15,J15)","v":{"v":1.3180862773711968,"d":"1.31809"}},{"$f":"VLOOKUP(J15*0.00001,'Datenbank Werte '!$A$1:$B$500,2,TRUE)*0.000001","v":{"v":9.7148999999999991E-6,"d":"9.71E-06"}},{"v":7.3704583431180876E-6,"d":"7.37E-06"},{"v":0.08988,"d":"8.99E-02"},{"$f":"Tabelle76[[#This Row],['[kg/h']]]/Tabelle76[[#This Row],['[kg/m^3']4]]","v":{"v":1570.0934579439252,"d":"1570.09"}},{"v":94.66563572219512,"d":"94.67"},{"$f":"Tabelle76[[#This Row],['[m/s']]]/VLOOKUP(J15*0.00001,'Datenbank Werte '!$A$1:$C$500,3,TRUE)","v":{"v":0.06703890356362519,"d":"0.07"}},{"v":256878.55847007374,"d":"2.5688E+05"},{"v":2E-3,"d":"2.0E-03"},{"$f":"Rohrreibungszahl(Tabelle76[[#This Row],['[-']]],Tabelle76[[#This Row],['[-']4]],Tabelle76[[#This Row],['[-']3]],Tabelle76[[#This Row],['[m']2]],Tabelle76[[#This Row],['[m']3]])","v":{"v":0.024094324844793406,"d":"2.41E-02"}},null,null,{"$f":"IF(Tabelle76[[#This Row],['[-']2]]>0,Tabelle76[[#This Row],['[-']2]]*(Tabelle76[[#This Row],['[kg/m^3']]]/2)*Tabelle76[[#This Row],['[m/s']]]^2,Druckverlust(Tabelle76[[#This Row],[Spalte1]],C15,U15,V15,P15,L15,O15,J15,K15,Q15,D15,E15))","v":{"v":21345.413619432857,"d":"21345.41"}},0.21345413619432857,{"v":18.560171063473337,"d":"18.56"},{"v":18.346716927279008,"d":"18.35"},{"v":21345.413619432857,"d":"21345.41"},{"$f":"SUM($AB$10:AB15)","v":{"v":165328.3072720991,"d":"165328.31"}}]
[null,"90°Winkel","Rohr",null,{"$f":"IF(ISTEXT(E15),$E$5,E15)","v":0.02},{"$f":"IF(ISTEXT(F15),E10,F15)","v":{"v":4e-05,"d":"4.00E-05"}},141.12,0.0392,{"v":0.030082644435898257,"d":"3.01E-02"},{"$f":"IF(ISTEXT(AA15),$H$3*100000,AA15*100000)","v":1834671.6927279008},338,{"$f":"Dichte(K16,J16)","v":{"v":1.303076931402407,"d":"1.30308"}},{"$f":"VLOOKUP(J16*0.00001,'Datenbank Werte '!$A$1:$B$500,2,TRUE)*0.000001","v":{"v":9.7148999999999991E-6,"d":"9.71E-06"}},{"v":7.4553541436303052E-6,"d":"7.46E-06"},{"v":0.08988,"d":"8.99E-02"},{"$f":"Tabelle76[[#This Row],['[kg/h']]]/Tabelle76[[#This Row],['[kg/m^3']4]]","v":{"v":1570.0934579439252,"d":"1570.09"}},{"v":95.75603126498218,"d":"95.76"},{"$f":"Tabelle76[[#This Row],['[m/s']]]/VLOOKUP(J16*0.00001,'Datenbank Werte '!$A$1:$C$500,3,TRUE)","v":{"v":0.06781108368032164,"d":"0.07"}},{"v":256878.55847007374,"d":"2.5688E+05"},{"v":2E-3,"d":"2.0E-03"},{"$f":"Rohrreibungszahl(Tabelle76[[#This Row],['[-']]],Tabelle76[[#This Row],['[-']4]],Tabelle76[[#This Row],['[-']3]],Tabelle76[[#This Row],['[m']2]],Tabelle76[[#This Row],['[m']3]])","v":{"v":0.024094324844793406,"d":"2.41E-02"}},null,0.15,{"$f":"IF(Tabelle76[[#This Row],['[-']2]]>0,Tabelle76[[#This Row],['[-']2]]*(Tabelle76[[#This Row],['[kg/m^3']]]/2)*Tabelle76[[#This Row],['[m/s']]]^2,Druckverlust(Tabelle76[[#This Row],[Spalte1]],C16,U16,V16,P16,L16,O16,J16,K16,Q16,D16,E16))","v":{"v":896.1146875530186,"d":"896.11"}},0.008961146875530186,{"v":18.346716927279008,"d":"18.35"},{"v":18.337755780403477,"d":"18.34"},{"v":896.1146875530186,"d":"896.11"},{"$f":"SUM($AB$10:AB16)","v":{"v":166224.42195965213,"d":"166224.42"}}]
[null,"Rohr (Durchführung FRP)","Rohr",1.6,{"$f":"IF(ISTEXT(E16),$E$5,E16)","v":0.02},{"$f":"IF(ISTEXT(F16),E11,F16)","v":{"v":4e-05,"d":"4.00E-05"}},141.12,0.0392,{"$f":"H17/L17","v":{"v":0.030097199993490895,"d":"3.01E-02"}},{"$f":"IF(ISTEXT(AA16),$H$3*100000,AA16*100000)","v":1833775.5780403477},338,{"$f":"Dichte(K17,J17)","v":{"v":1.3024467395132358,"d":"1.30245"}},{"$f":"VLOOKUP(J17*0.00001,'Datenbank Werte '!$A$1:$B$500,2,TRUE)*0.000001","v":{"v":9.7148999999999991E-6,"d":"9.71E-06"}},{"$f":"M17/L17","v":{"v":7.4589614341011405E-6,"d":"7.46E-06"}},{"v":0.08988,"d":"8.99E-02"},{"$f":"Tabelle76[[#This Row],['[kg/h']]]/Tabelle76[[#This Row],['[kg/m^3']4]]","v":{"v":1570.0934579439252,"d":"1570.09"}},{"$f":"H17*4/(L17*PI()*E17^2)","v":{"v":95.80236304378872,"d":"95.80"}},{"$f":"Tabelle76[[#This Row],['[m/s']]]/VLOOKUP(J17*0.00001,'Datenbank Werte '!$A$1:$C$500,3,TRUE)","v":{"v":0.06784389423113711,"d":"0.07"}},{"$f":"(L17*Q17*E17)/M17","v":{"v":256878.55847007368,"d":"2.5688E+05"}},{"$f":"F17/E17","v":{"v":2E-3,"d":"2.0E-03"}},{"$f":"Rohrreibungszahl(Tabelle76[[#This Row],['[-']]],Tabelle76[[#This Row],['[-']4]],Tabelle76[[#This Row],['[-']3]],Tabelle76[[#This Row],['[m']2]],Tabelle76[[#This Row],['[m']3]])","v":{"v":0.024094324844793406,"d":"2.41E-02"}},null,null,{"$f":"IF(Tabelle76[[#This Row],['[-']2]]>0,Tabelle76[[#This Row],['[-']2]]*(Tabelle76[[#This Row],['[kg/m^3']]]/2)*Tabelle76[[#This Row],['[m/s']]]^2,Druckverlust(Tabelle76[[#This Row],[Spalte1]],C17,U17,V17,P17,L17,O17,J17,K17,Q17,D17,E17))","v":{"v":11520.920197566675,"d":"11520.92"}},0.11520920197566675,{"v":18.337755780403477,"d":"18.34"},{"v":18.22254657842781,"d":"18.22"},{"v":11520.920197566675,"d":"11520.92"},{"$f":"SUM($AB$10:AB17)","v":{"v":177745.3421572188,"d":"177745.34"}}]
[null,"Filter","Ventil",null,{"$f":"IF(ISTEXT(E16),$E$5,E16)","v":0.02},{"$f":"IF(ISTEXT(F16),E11,F16)","v":{"v":4e-05,"d":"4.00E-05"}},141.12,0.0392,{"$f":"H18/L18","v":{"v":0.030285609045398638,"d":"3.03E-02"}},{"$f":"IF(ISTEXT(AA17),$H$3*100000,AA17*100000)","v":1822254.657842781},338,{"$f":"Dichte(K18,J18)","v":{"v":1.2943441203787098,"d":"1.29434"}},{"$f":"VLOOKUP(J18*0.00001,'Datenbank Werte '!$A$1:$B$500,2,TRUE)*0.000001","v":{"v":9.7148999999999991E-6,"d":"9.71E-06"}},{"$f":"M18/L18","v":{"v":7.505654676406715E-6,"d":"7.51E-06"}},{"v":0.08988,"d":"8.99E-02"},{"$f":"Tabelle76[[#This Row],['[kg/h']]]/Tabelle76[[#This Row],['[kg/m^3']4]]","v":{"v":1570.0934579439252,"d":"1570.09"}},{"$f":"H18*4/(L18*PI()*E18^2)","v":{"v":96.40208768247622,"d":"96.40"}},{"$f":"Tabelle76[[#This Row],['[m/s']]]/VLOOKUP(J18*0.00001,'Datenbank Werte '!$A$1:$C$500,3,TRUE)","v":{"v":0.06826859831632054,"d":"0.07"}},{"$f":"(L18*Q18*E18)/M18","v":{"v":256878.55847007374,"d":"2.5688E+05"}},{"$f":"F18/E18","v":{"v":2E-3,"d":"2.0E-03"}},{"$f":"Rohrreibungszahl(Tabelle76[[#This Row],['[-']]],Tabelle76[[#This Row],['[-']4]],Tabelle76[[#This Row],['[-']3]],Tabelle76[[#This Row],['[m']2]],Tabelle76[[#This Row],['[m']3]])","v":"Nur bei 'Rohr' benötigt"},4,null,{"$f":"IF(Tabelle76[[#This Row],['[-']2]]>0,Tabelle76[[#This Row],['[-']2]]*(Tabelle76[[#This Row],['[kg/m^3']]]/2)*Tabelle76[[#This Row],['[m/s']]]^2,Druckverlust(Tabelle76[[#This Row],[Spalte1]],C18,U18,V18,P18,L18,O18,J18,K18,Q18,D18,E18))","v":{"v":103052.26572485529,"d":"103052.27"}},1.0305226572485529,{"v":18.22254657842781,"d":"18.22"},{"v":17.192023921179256,"d":"17.19"},{"v":103052.26572485529,"d":"103052.27"},{"$f":"SUM($AB$10:AB18)","v":{"v":280797.6078820741,"d":"280797.61"}}]
[null,"Rückschlag-/Absperrventil","Ventil",null,{"$f":"IF(ISTEXT(E18),$E$5,E18)","v":0.02},{"$f":"IF(ISTEXT(F18),E12,F18)","v":{"v":4e-05,"d":"4.00E-05"}},141.12,0.0392,{"v":0.032083203806965964,"d":"3.21E-02"},1719202.3921179257,338,{"$f":"Dichte(K19,J19)","v":{"v":1.2218231145447145,"d":"1.22182"}},{"$f":"VLOOKUP(J19*0.00001,'Datenbank Werte '!$A$1:$B$500,2,TRUE)*0.000001","v":{"v":9.7143e-06,"d":"9.71E-06"}},{"v":7.9506598658675883E-6,"d":"7.95E-06"},{"v":0.08988,"d":"8.99E-02"},{"$f":"Tabelle76[[#This Row],['[kg/h']]]/Tabelle76[[#This Row],['[kg/m^3']4]]","v":{"v":1570.0934579439252,"d":"1570.09"}},{"v":102.12400952206697,"d":"102.12"},{"$f":"Tabelle76[[#This Row],['[m/s']]]/VLOOKUP(J19*0.00001,'Datenbank Werte '!$A$1:$C$500,3,TRUE)","v":{"v":0.07236165912425918,"d":"0.07"}},{"v":256894.42447535275,"d":"2.5689E+05"},{"v":2E-3,"d":"2.0E-03"},{"$f":"Rohrreibungszahl(Tabelle76[[#This Row],['[-']]],Tabelle76[[#This Row],['[-']4]],Tabelle76[[#This Row],['[-']3]],Tabelle76[[#This Row],['[m']2]],Tabelle76[[#This Row],['[m']3]])","v":{"$error":"#VALUE!"}},4,null,{"$f":"IF(Tabelle76[[#This Row],['[-']2]]>0,Tabelle76[[#This Row],['[-']2]]*(Tabelle76[[#This Row],['[kg/m^3']]]/2)*Tabelle76[[#This Row],['[m/s']]]^2,Druckverlust(Tabelle76[[#This Row],[Spalte1]],C19,U19,V19,P19,L19,O19,J19,K19,Q19,D19,E19))","v":{"v":110103.68804532295,"d":"110103.69"}},1.1010368804532296,{"v":17.192023921179256,"d":"17.19"},{"v":16.090987040726027,"d":"16.09"},{"v":110103.68804532295,"d":"110103.69"},{"$f":"SUM($AB$10:AB19)","v":{"v":390901.29592739703,"d":"390901.30"}}]
[null,"T-Stück (Eingang Sammelrohr) ","Rohr",null,{"$f":"IF(ISTEXT(E19),$E$5,E19)","v":0.02},{"$f":"IF(ISTEXT(F19),E13,F19)","v":{"v":4e-05,"d":"4.00E-05"}},141.12,0.0392,{"$f":"H20/L20","v":{"v":0.03425822400101559,"d":"3.43E-02"}},1609098.7040726028,338,{"$f":"Dichte(K20,J20)","v":{"v":1.1442507935857362,"d":"1.14425"}},{"$f":"VLOOKUP(J20*0.00001,'Datenbank Werte '!$A$1:$B$500,2,TRUE)*0.000001","v":{"v":9.7138e-06,"d":"9.71E-06"}},{"$f":"M20/L20","v":{"v":8.4892228648230923E-6,"d":"8.49E-06"}},{"v":0.08988,"d":"8.99E-02"},{"$f":"Tabelle76[[#This Row],['[kg/h']]]/Tabelle76[[#This Row],['[kg/m^3']4]]","v":{"v":1570.0934579439252,"d":"1570.09"}},{"$f":"H20*4/(L20*PI()*E20^2)","v":{"v":109.04731382622077,"d":"109.05"}},{"$f":"Tabelle76[[#This Row],['[m/s']]]/VLOOKUP(J20*0.00001,'Datenbank Werte '!$A$1:$C$500,3,TRUE)","v":{"v":0.07731110515861098,"d":"0.08"}},{"$f":"(L20*Q20*E20)/M20","v":{"v":256907.64764365327,"d":"2.5691E+05"}},{"$f":"F20/E20","v":{"v":2E-3,"d":"2.0E-03"}},{"$f":"Rohrreibungszahl(Tabelle76[[#This Row],['[-']]],Tabelle76[[#This Row],['[-']4]],Tabelle76[[#This Row],['[-']3]],Tabelle76[[#This Row],['[m']2]],Tabelle76[[#This Row],['[m']3]])","v":{"v":0.02409424885884462,"d":"2.41E-02"}},null,0.9,{"$f":"IF(Tabelle76[[#This Row],['[-']2]]>0,Tabelle76[[#This Row],['[-']2]]*(Tabelle76[[#This Row],['[kg/m^3']]]/2)*Tabelle76[[#This Row],['[m/s']]]^2,Druckverlust(Tabelle76[[#This Row],[Spalte1]],C20,U20,V20,P20,L20,O20,J20,K20,Q20,D20,E20))","v":{"v":6122.991832491419,"d":"6122.99"}},0.06122991832491419,{"v":16.090987040726027,"d":"16.09"},{"v":16.02975712240111,"d":"16.03"},{"v":6122.991832491419,"d":"6122.99"},{"$f":"SUM($AB$10:AB20)","v":{"v":397024.28775988845,"d":"397024.29"}}]
[null,"Sammelrohr","Rohr",0.2,{"$f":"IF(ISTEXT(E20),$E$5,E20)","v":0.02},{"$f":"IF(ISTEXT(F20),E14,F20)","v":{"v":4e-05,"d":"4.00E-05"}},141.12,0.0392,{"$f":"H21/L21","v":{"v":0.03438794956154567,"d":"3.44E-02"}},1602975.712240111,338,{"$f":"Dichte(K21,J21)","v":{"v":1.1399342065987965,"d":"1.13993"}},{"$f":"VLOOKUP(J21*0.00001,'Datenbank Werte '!$A$1:$B$500,2,TRUE)*0.000001","v":{"v":9.7138e-06,"d":"9.71E-06"}},{"$f":"M21/L21","v":{"v":8.52136899109547e-06,"d":"8.52E-06"}},{"v":0.08988,"d":"8.99E-02"},{"$f":"Tabelle76[[#This Row],['[kg/h']]]/Tabelle76[[#This Row],['[kg/m^3']4]]","v":{"v":1570.0934579439252,"d":"1570.09"}},{"$f":"H21*4/(L21*PI()*E21^2)","v":{"v":109.46024311029537,"d":"109.46"}},{"$f":"Tabelle76[[#This Row],['[m/s']]]/VLOOKUP(J21*0.00001,'Datenbank Werte '!$A$1:$C$500,3,TRUE)","v":{"v":0.0776038589934742,"d":"0.08"}},{"$f":"(L21*Q21*E21)/M21","v":{"v":256907.6476436532,"d":"2.5691E+05"}},{"$f":"F21/E21","v":{"v":2E-3,"d":"2.0E-03"}},{"$f":"Rohrreibungszahl(Tabelle76[[#This Row],['[-']]],Tabelle76[[#This Row],['[-']4]],Tabelle76[[#This Row],['[-']3]],Tabelle76[[#This Row],['[m']2]],Tabelle76[[#This Row],['[m']3]])","v":{"v":0.02409424885884462,"d":"2.41E-02"}},null,null,{"$f":"IF(Tabelle76[[#This Row],['[-']2]]>0,Tabelle76[[#This Row],['[-']2]]*(Tabelle76[[#This Row],['[kg/m^3']]]/2)*Tabelle76[[#This Row],['[m/s']]]^2,Druckverlust(Tabelle76[[#This Row],[Spalte1]],C21,U21,V21,P21,L21,O21,J21,K21,Q21,D21,E21))","v":{"v":1645.4170708240947,"d":"1645.42"}},0.016454170708240946,{"v":16.02975712240111,"d":"16.03"},{"v":16.01330295169287,"d":"16.01"},{"v":1645.4170708240947,"d":"1645.42"},{"$f":"SUM($AB$10:AB21)","v":{"v":398669.7048307125,"d":"398669.70"}}]
[null,"T-Stück (zum TC)","Rohr",null,{"$f":"IF(ISTEXT(E21),$E$5,E21)","v":0.02},{"$f":"IF(ISTEXT(F21),E15,F21)","v":{"v":4e-05,"d":"4.00E-05"}},141.12,0.0392,{"v":0.034422979523391004,"d":"3.44E-02"},1601330.2951692871,338,{"$f":"Dichte(K22,J22)","v":{"v":1.1387741718686184,"d":"1.13877"}},{"$f":"VLOOKUP(J22*0.00001,'Datenbank Werte '!$A$1:$B$500,2,TRUE)*0.000001","v":{"v":9.7138e-06,"d":"9.71E-06"}},{"v":8.5300494513856011E-6,"d":"8.53E-06"},{"v":0.08988,"d":"8.99E-02"},{"$f":"Tabelle76[[#This Row],['[kg/h']]]/Tabelle76[[#This Row],['[kg/m^3']4]]","v":{"v":1570.0934579439252,"d":"1570.09"}},{"v":109.57174694197549,"d":"109.57"},{"$f":"Tabelle76[[#This Row],['[m/s']]]/VLOOKUP(J22*0.00001,'Datenbank Werte '!$A$1:$C$500,3,TRUE)","v":{"v":0.07768291169229032,"d":"0.08"}},{"v":256907.64764365327,"d":"2.5691E+05"},{"v":2E-3,"d":"2.0E-03"},{"$f":"Rohrreibungszahl(Tabelle76[[#This Row],['[-']]],Tabelle76[[#This Row],['[-']4]],Tabelle76[[#This Row],['[-']3]],Tabelle76[[#This Row],['[m']2]],Tabelle76[[#This Row],['[m']3]])","v":{"v":0.02409424885884462,"d":"2.41E-02"}},null,0.05,{"$f":"IF(Tabelle76[[#This Row],['[-']2]]>0,Tabelle76[[#This Row],['[-']2]]*(Tabelle76[[#This Row],['[kg/m^3']]]/2)*Tabelle76[[#This Row],['[m/s']]]^2,Druckverlust(Tabelle76[[#This Row],[Spalte1]],C22,U22,V22,P22,L22,O22,J22,K22,Q22,D22,E22))","v":{"v":341.8021489209815,"d":"341.80"}},0.003418021489209815,{"v":16.01330295169287,"d":"16.01"},{"v":16.00988493020366,"d":"16.01"},{"v":341.8021489209815,"d":"341.80"},{"$f":"SUM($AB$10:AB22)","v":{"v":399011.50697963353,"d":"399011.51"}}]
[null,null,"Rohr",0.1,0.02,{"$f":"IF(ISTEXT(F22),E16,F22)","v":{"v":4e-05,"d":"4.00E-05"}},141.12,0.0392,{"v":0.0344302653225012,"d":"3.44E-02"},1600988.4930203662,338,{"$f":"Dichte(K23,J23)","v":{"v":1.1385331955133564,"d":"1.13853"}},{"$f":"VLOOKUP(J23*0.00001,'Datenbank Werte '!$A$1:$B$500,2,TRUE)*0.000001","v":{"v":9.7138e-06,"d":"9.71E-06"}},{"v":8.5318548798395968E-6,"d":"8.53E-06"},{"v":0.08988,"d":"8.99E-02"},{"$f":"Tabelle76[[#This Row],['[kg/h']]]/Tabelle76[[#This Row],['[kg/m^3']4]]","v":{"v":1570.0934579439252,"d":"1570.09"}},{"v":109.59493836083074,"d":"109.59"},{"$f":"Tabelle76[[#This Row],['[m/s']]]/VLOOKUP(J23*0.00001,'Datenbank Werte '!$A$1:$C$500,3,TRUE)","v":{"v":0.07769935367659038,"d":"0.08"}},{"v":256907.64764365327,"d":"2.5691E+05"},{"v":2E-3,"d":"2.0E-03"},{"$f":"Rohrreibungszahl(Tabelle76[[#This Row],['[-']]],Tabelle76[[#This Row],['[-']4]],Tabelle76[[#This Row],['[-']3]],Tabelle76[[#This Row],['[m']2]],Tabelle76[[#This Row],['[m']3]])","v":{"v":0.02409424885884462,"d":"2.41E-02"}},null,null,{"$f":"IF(Tabelle76[[#This Row],['[-']2]]>0,Tabelle76[[#This Row],['[-']2]]*(Tabelle76[[#This Row],['[kg/m^3']]]/2)*Tabelle76[[#This Row],['[m/s']]]^2,Druckverlust(Tabelle76[[#This Row],[Spalte1]],C23,U23,V23,P23,L23,O23,J23,K23,Q23,D23,E23))","v":{"v":823.7209114962415,"d":"823.72"}},0.008237209114962415,{"v":16.00988493020366,"d":"16.01"},{"v":16.0016477210887,"d":"16.00"},{"v":823.7209114962415,"d":"823.72"},{"$f":"SUM($AB$10:AB23)","v":{"v":399835.2278911298,"d":"399835.23"}}]
[null,"T-Stück (Ausgang Sammelrohr)","Rohr",null,0.02,{"$f":"IF(ISTEXT(F23),E18,F23)","v":{"v":4e-05,"d":"4.00E-05"}},141.12,0.0392,{"v":0.03444783641291922,"d":"3.44E-02"},1600164.7721088699,338,{"$f":"Dichte(K24,J24)","v":{"v":1.1379524545494688,"d":"1.13795"}},{"$f":"VLOOKUP(J24*0.00001,'Datenbank Werte '!$A$1:$B$500,2,TRUE)*0.000001","v":{"v":9.7138e-06,"d":"9.71E-06"}},{"v":8.5362090139748656E-6,"d":"8.54E-06"},{"v":0.08988,"d":"8.99E-02"},{"$f":"Tabelle76[[#This Row],['[kg/h']]]/Tabelle76[[#This Row],['[kg/m^3']4]]","v":{"v":1570.0934579439252,"d":"1570.09"}},{"v":109.65086887874158,"d":"109.65"},{"$f":"Tabelle76[[#This Row],['[m/s']]]/VLOOKUP(J24*0.00001,'Datenbank Werte '!$A$1:$C$500,3,TRUE)","v":{"v":0.07773900664923189,"d":"0.08"}},{"v":256907.64764365327,"d":"2.5691E+05"},{"v":2E-3,"d":"2.0E-03"},{"$f":"Rohrreibungszahl(Tabelle76[[#This Row],['[-']]],Tabelle76[[#This Row],['[-']4]],Tabelle76[[#This Row],['[-']3]],Tabelle76[[#This Row],['[m']2]],Tabelle76[[#This Row],['[m']3]])","v":{"v":0.02409424885884462,"d":"2.41E-02"}},null,1.3,{"$f":"IF(Tabelle76[[#This Row],['[-']2]]>0,Tabelle76[[#This Row],['[-']2]]*(Tabelle76[[#This Row],['[kg/m^3']]]/2)*Tabelle76[[#This Row],['[m/s']]]^2,Druckverlust(Tabelle76[[#This Row],[Spalte1]],C24,U24,V24,P24,L24,O24,J24,K24,Q24,D24,E24))","v":{"v":8893.273085031678,"d":"8893.27"}},0.08893273085031679,{"v":16.0016477210887,"d":"16.00"},{"v":15.912714990238381,"d":"15.91"},{"v":8893.273085031678,"d":"8893.27"},{"$f":"SUM($AB$10:AB24)","v":{"v":408728.50097616145,"d":"408728.50"}}]
[null,null,"Rohr",0.2,0.02,{"$f":"IF(ISTEXT(F24),E19,F24)","v":{"v":4e-05,"d":"4.00E-05"}},141.12,0.0392,{"v":0.034638700494765806,"d":"3.46E-02"},1591271.4990238382,338,{"$f":"Dichte(K25,J25)","v":{"v":1.1316821774513002,"d":"1.13168"}},{"$f":"VLOOKUP(J25*0.00001,'Datenbank Werte '!$A$1:$B$500,2,TRUE)*0.000001","v":{"v":9.7133e-06,"d":"9.71E-06"}},{"v":8.5830635080563465E-6,"d":"8.58E-06"},{"v":0.08988,"d":"8.99E-02"},{"$f":"Tabelle76[[#This Row],['[kg/h']]]/Tabelle76[[#This Row],['[kg/m^3']4]]","v":{"v":1570.0934579439252,"d":"1570.09"}},{"v":110.25840812043317,"d":"110.26"},{"$f":"Tabelle76[[#This Row],['[m/s']]]/VLOOKUP(J25*0.00001,'Datenbank Werte '!$A$1:$C$500,3,TRUE)","v":{"v":0.07821409386424996,"d":"0.08"}},{"v":256920.87217330036,"d":"2.5692E+05"},{"v":2E-3,"d":"2.0E-03"},{"$f":"Rohrreibungszahl(Tabelle76[[#This Row],['[-']]],Tabelle76[[#This Row],['[-']4]],Tabelle76[[#This Row],['[-']3]],Tabelle76[[#This Row],['[m']2]],Tabelle76[[#This Row],['[m']3]])","v":{"v":0.02409421431952691,"d":"2.41E-02"}},null,null,{"$f":"IF(Tabelle76[[#This Row],['[-']2]]>0,Tabelle76[[#This Row],['[-']2]]*(Tabelle76[[#This Row],['[kg/m^3']]]/2)*Tabelle76[[#This Row],['[m/s']]]^2,Druckverlust(Tabelle76[[#This Row],[Spalte1]],C25,U25,V25,P25,L25,O25,J25,K25,Q25,D25,E25))","v":{"v":1657.4127893334783,"d":"1657.41"}},0.016574127893334782,{"v":15.912714990238381,"d":"15.91"},{"v":15.896140862345046,"d":"15.90"},{"v":1657.4127893334783,"d":"1657.41"},{"$f":"SUM($AB$10:AB25)","v":{"v":410385.91376549494,"d":"410385.91"}}]
[null,"T-Stück (Überdruckventil)","Rohr",null,0.02,{"$f":"IF(ISTEXT(F25),E20,F25)","v":{"v":4e-05,"d":"4.00E-05"}},141.12,0.0392,{"v":0.0346745073598966,"d":"3.47E-02"},1589614.0862345046,338,{"$f":"Dichte(K26,J26)","v":{"v":1.1305135381775442,"d":"1.13051"}},{"$f":"VLOOKUP(J26*0.00001,'Datenbank Werte '!$A$1:$B$500,2,TRUE)*0.000001","v":{"v":9.7133e-06,"d":"9.71E-06"}},{"v":8.5919360290531539E-6,"d":"8.59E-06"},{"v":0.08988,"d":"8.99E-02"},{"$f":"Tabelle76[[#This Row],['[kg/h']]]/Tabelle76[[#This Row],['[kg/m^3']4]]","v":{"v":1570.0934579439252,"d":"1570.09"}},{"v":110.37238491207698,"d":"110.37"},{"$f":"Tabelle76[[#This Row],['[m/s']]]/VLOOKUP(J26*0.00001,'Datenbank Werte '!$A$1:$C$500,3,TRUE)","v":{"v":0.07829494567076468,"d":"0.08"}},{"v":256920.87217330042,"d":"2.5692E+05"},{"v":2E-3,"d":"2.0E-03"},{"$f":"Rohrreibungszahl(Tabelle76[[#This Row],['[-']]],Tabelle76[[#This Row],['[-']4]],Tabelle76[[#This Row],['[-']3]],Tabelle76[[#This Row],['[m']2]],Tabelle76[[#This Row],['[m']3]])","v":{"v":0.02409421431952691,"d":"2.41E-02"}},null,0.05,{"$f":"IF(Tabelle76[[#This Row],['[-']2]]>0,Tabelle76[[#This Row],['[-']2]]*(Tabelle76[[#This Row],['[kg/m^3']]]/2)*Tabelle76[[#This Row],['[m/s']]]^2,Druckverlust(Tabelle76[[#This Row],[Spalte1]],C26,U26,V26,P26,L26,O26,J26,K26,Q26,D26,E26))","v":{"v":344.29968853612826,"d":"344.30"}},3.4429968853612824E-3,{"v":15.896140862345046,"d":"15.90"},{"v":15.892697865459684,"d":"15.89"},{"v":344.29968853612826,"d":"344.30"},{"$f":"SUM($AB$10:AB26)","v":{"v":410730.2134540311,"d":"410730.21"}}]
[null,null,"Rohr",0.2,0.02,{"$f":"IF(ISTEXT(F26),E21,F26)","v":{"v":4e-05,"d":"4.00E-05"}},141.12,0.0392,{"v":0.03468195500387787,"d":"3.47E-02"},1589269.7865459684,338,{"$f":"Dichte(K27,J27)","v":{"v":1.1302707703650776,"d":"1.13027"}},{"$f":"VLOOKUP(J27*0.00001,'Datenbank Werte '!$A$1:$B$500,2,TRUE)*0.000001","v":{"v":9.7133e-06,"d":"9.71E-06"}},{"v":8.5937814678358923E-6,"d":"8.59E-06"},{"v":0.08988,"d":"8.99E-02"},{"$f":"Tabelle76[[#This Row],['[kg/h']]]/Tabelle76[[#This Row],['[kg/m^3']4]]","v":{"v":1570.0934579439252,"d":"1570.09"}},{"v":110.39609149915714,"d":"110.40"},{"$f":"Tabelle76[[#This Row],['[m/s']]]/VLOOKUP(J27*0.00001,'Datenbank Werte '!$A$1:$C$500,3,TRUE)","v":{"v":0.07831176243112516,"d":"0.08"}},{"v":256920.87217330036,"d":"2.5692E+05"},{"v":2E-3,"d":"2.0E-03"},{"$f":"Rohrreibungszahl(Tabelle76[[#This Row],['[-']]],Tabelle76[[#This Row],['[-']4]],Tabelle76[[#This Row],['[-']3]],Tabelle76[[#This Row],['[m']2]],Tabelle76[[#This Row],['[m']3]])","v":{"v":0.02409421431952691,"d":"2.41E-02"}},null,null,{"$f":"IF(Tabelle76[[#This Row],['[-']2]]>0,Tabelle76[[#This Row],['[-']2]]*(Tabelle76[[#This Row],['[kg/m^3']]]/2)*Tabelle76[[#This Row],['[m/s']]]^2,Druckverlust(Tabelle76[[#This Row],[Spalte1]],C27,U27,V27,P27,L27,O27,J27,K27,Q27,D27,E27))","v":{"v":1659.4824563699049,"d":"1659.48"}},0.01659482456369905,{"v":15.892697865459684,"d":"15.89"},{"v":15.876103040895986,"d":"15.88"},{"v":1659.4824563699049,"d":"1659.48"},{"$f":"SUM($AB$10:AB27)","v":{"v":412389.695910401,"d":"412389.70"}}]
[null,"T-Stück (Sensoren)","Rohr",null,0.02,{"v":4e-05,"d":"4.00E-05"},141.12,0.0392,{"v":0.03471789704556115,"d":"3.47E-02"},1587610.3040895986,338,{"$f":"Dichte(K28,J28)","v":{"v":1.1291006465212128,"d":"1.12910"}},{"$f":"VLOOKUP(J28*0.00001,'Datenbank Werte '!$A$1:$B$500,2,TRUE)*0.000001","v":{"v":9.7133e-06,"d":"9.71E-06"}},{"v":8.6026874839961517E-6,"d":"8.60E-06"},{"v":0.08988,"d":"8.99E-02"},{"$f":"Tabelle76[[#This Row],['[kg/h']]]/Tabelle76[[#This Row],['[kg/m^3']4]]","v":{"v":1570.0934579439252,"d":"1570.09"}},{"v":110.51049857113132,"d":"110.51"},{"$f":"Tabelle76[[#This Row],['[m/s']]]/VLOOKUP(J28*0.00001,'Datenbank Werte '!$A$1:$C$500,3,TRUE)","v":{"v":0.07839291946593695,"d":"0.08"}},{"v":256920.87217330042,"d":"2.5692E+05"},{"v":2E-3,"d":"2.0E-03"},{"$f":"Rohrreibungszahl(Tabelle76[[#This Row],['[-']]],Tabelle76[[#This Row],['[-']4]],Tabelle76[[#This Row],['[-']3]],Tabelle76[[#This Row],['[m']2]],Tabelle76[[#This Row],['[m']3]])","v":{"v":0.02409421431952691,"d":"2.41E-02"}},null,0.05,{"$f":"IF(Tabelle76[[#This Row],['[-']2]]>0,Tabelle76[[#This Row],['[-']2]]*(Tabelle76[[#This Row],['[kg/m^3']]]/2)*Tabelle76[[#This Row],['[m/s']]]^2,Druckverlust(Tabelle76[[#This Row],[Spalte1]],C28,U28,V28,P28,L28,O28,J28,K28,Q28,D28,E28))","v":{"v":344.73052537844956,"d":"344.73"}},3.4473052537844955E-3,{"v":15.876103040895986,"d":"15.88"},{"v":15.872655735642201,"d":"15.87"},{"v":344.73052537844956,"d":"344.73"},{"$f":"SUM($AB$10:AB28)","v":{"v":412734.42643577943,"d":"412734.43"}}]
[null,null,"Rohr",0.2,0.02,{"v":4e-05,"d":"4.00E-05"},141.12,0.0392,{"v":0.034725372848686556,"d":"3.47E-02"},1587265.5735642202,338,{"$f":"Dichte(K29,J29)","v":{"v":1.1288575696742358,"d":"1.12886"}},{"$f":"VLOOKUP(J29*0.00001,'Datenbank Werte '!$A$1:$B$500,2,TRUE)*0.000001","v":{"v":9.7133e-06,"d":"9.71E-06"}},{"v":8.6045399002843657E-6,"d":"8.60E-06"},{"v":0.08988,"d":"8.99E-02"},{"$f":"Tabelle76[[#This Row],['[kg/h']]]/Tabelle76[[#This Row],['[kg/m^3']4]]","v":{"v":1570.0934579439252,"d":"1570.09"}},{"v":110.53429479155112,"d":"110.53"},{"$f":"Tabelle76[[#This Row],['[m/s']]]/VLOOKUP(J29*0.00001,'Datenbank Werte '!$A$1:$C$500,3,TRUE)","v":{"v":0.0784097998095702,"d":"0.08"}},{"v":256920.87217330036,"d":"2.5692E+05"},{"v":2E-3,"d":"2.0E-03"},{"$f":"Rohrreibungszahl(Tabelle76[[#This Row],['[-']]],Tabelle76[[#This Row],['[-']4]],Tabelle76[[#This Row],['[-']3]],Tabelle76[[#This Row],['[m']2]],Tabelle76[[#This Row],['[m']3]])","v":{"v":0.02409421431952691,"d":"2.41E-02"}},null,null,{"$f":"IF(Tabelle76[[#This Row],['[-']2]]>0,Tabelle76[[#This Row],['[-']2]]*(Tabelle76[[#This Row],['[kg/m^3']]]/2)*Tabelle76[[#This Row],['[m/s']]]^2,Druckverlust(Tabelle76[[#This Row],[Spalte1]],C29,U29,V29,P29,L29,O29,J29,K29,Q29,D29,E29))","v":{"v":1661.5599387882216,"d":"1661.56"}},0.016615599387882218,{"v":15.872655735642201,"d":"15.87"},{"v":15.85604013625432,"d":"15.86"},{"v":1661.5599387882216,"d":"1661.56"},{"$f":"SUM($AB$10:AB29)","v":{"v":414395.98637456767,"d":"414395.99"}}]
[null,"T-Stück (Entlüftungsventil)","Rohr",null,0.02,{"v":4e-05,"d":"4.00E-05"},141.12,0.0392,{"v":0.03476145091942724,"d":"3.48E-02"},1585604.013625432,338,{"$f":"Dichte(K30,J30)","v":{"v":1.1276859556541747,"d":"1.12769"}},{"$f":"VLOOKUP(J30*0.00001,'Datenbank Werte '!$A$1:$B$500,2,TRUE)*0.000001","v":{"v":9.7133e-06,"d":"9.71E-06"}},{"v":8.613479622848792E-6,"d":"8.61E-06"},{"v":0.08988,"d":"8.99E-02"},{"$f":"Tabelle76[[#This Row],['[kg/h']]]/Tabelle76[[#This Row],['[kg/m^3']4]]","v":{"v":1570.0934579439252,"d":"1570.09"}},{"v":110.6491348574631,"d":"110.65"},{"$f":"Tabelle76[[#This Row],['[m/s']]]/VLOOKUP(J30*0.00001,'Datenbank Werte '!$A$1:$C$500,3,TRUE)","v":{"v":0.0784912639976329,"d":"0.08"}},{"v":256920.87217330036,"d":"2.5692E+05"},{"v":2E-3,"d":"2.0E-03"},{"$f":"Rohrreibungszahl(Tabelle76[[#This Row],['[-']]],Tabelle76[[#This Row],['[-']4]],Tabelle76[[#This Row],['[-']3]],Tabelle76[[#This Row],['[m']2]],Tabelle76[[#This Row],['[m']3]])","v":{"v":0.02409421431952691,"d":"2.41E-02"}},null,0.05,{"$f":"IF(Tabelle76[[#This Row],['[-']2]]>0,Tabelle76[[#This Row],['[-']2]]*(Tabelle76[[#This Row],['[kg/m^3']]]/2)*Tabelle76[[#This Row],['[m/s']]]^2,Druckverlust(Tabelle76[[#This Row],[Spalte1]],C30,U30,V30,P30,L30,O30,J30,K30,Q30,D30,E30))","v":{"v":345.16299252357703,"d":"345.16"}},3.4516299252357703E-3,{"v":15.85604013625432,"d":"15.86"},{"v":15.852588506329084,"d":"15.85"},{"v":345.16299252357703,"d":"345.16"},{"$f":"SUM($AB$10:AB30)","v":{"v":414741.14936709125,"d":"414741.15"}}]
[null,"Hauptventil","Ventil",null,0.02,{"v":4e-05,"d":"4.00E-05"},141.12,0.0392,{"v":0.034768955059558224,"d":"3.48E-02"},1585258.8506329085,338,{"$f":"Dichte(K31,J31)","v":{"v":1.1274425686032705,"d":"1.12744"}},{"$f":"VLOOKUP(J31*0.00001,'Datenbank Werte '!$A$1:$B$500,2,TRUE)*0.000001","v":{"v":9.7133e-06,"d":"9.71E-06"}},{"v":8.6153390607144614E-6,"d":"8.62E-06"},{"v":0.08988,"d":"8.99E-02"},{"$f":"Tabelle76[[#This Row],['[kg/h']]]/Tabelle76[[#This Row],['[kg/m^3']4]]","v":{"v":1570.0934579439252,"d":"1570.09"}},{"v":110.6730212773731,"d":"110.67"},{"$f":"Tabelle76[[#This Row],['[m/s']]]/VLOOKUP(J31*0.00001,'Datenbank Werte '!$A$1:$C$500,3,TRUE)","v":{"v":0.0785082083261496,"d":"0.08"}},{"v":256920.87217330036,"d":"2.5692E+05"},{"v":2E-3,"d":"2.0E-03"},{"$f":"Rohrreibungszahl(Tabelle76[[#This Row],['[-']]],Tabelle76[[#This Row],['[-']4]],Tabelle76[[#This Row],['[-']3]],Tabelle76[[#This Row],['[m']2]],Tabelle76[[#This Row],['[m']3]])","v":{"$error":"#VALUE!"}},4,null,{"$f":"IF(Tabelle76[[#This Row],['[-']2]]>0,Tabelle76[[#This Row],['[-']2]]*(Tabelle76[[#This Row],['[kg/m^3']]]/2)*Tabelle76[[#This Row],['[m/s']]]^2,Druckverlust(Tabelle76[[#This Row],[Spalte1]],C31,U31,V31,P31,L31,O31,J31,K31,Q31,D31,E31))","v":{"v":120994.32786386488,"d":"120994.33"}},1.2099432786386488,{"v":15.852588506329084,"d":"15.85"},{"v":14.642645227690435,"d":"14.64"},{"v":120994.32786386488,"d":"120994.33"},{"$f":"SUM($AB$10:AB31)","v":{"v":535735.4772309561,"d":"535735.48"}}]
[null,null,"Rohr",0.2,0.02,{"v":4e-05,"d":"4.00E-05"},141.12,0.0392,{"v":0.03761746198926061,"d":"3.76E-02"},1464264.5227690435,338,{"$f":"Dichte(K32,J32)","v":{"v":1.042069239312083,"d":"1.04207"}},{"$f":"VLOOKUP(J32*0.00001,'Datenbank Werte '!$A$1:$B$500,2,TRUE)*0.000001","v":{"v":9.7128e-06,"d":"9.71E-06"}},{"v":9.3206858369716944E-6,"d":"9.32E-06"},{"v":0.08988,"d":"8.99E-02"},{"$f":"Tabelle76[[#This Row],['[kg/h']]]/Tabelle76[[#This Row],['[kg/m^3']4]]","v":{"v":1570.0934579439252,"d":"1570.09"}},{"v":119.74010044324616,"d":"119.74"},{"$f":"Tabelle76[[#This Row],['[m/s']]]/VLOOKUP(J32*0.00001,'Datenbank Werte '!$A$1:$C$500,3,TRUE)","v":{"v":0.08498836002785588,"d":"0.08"}},{"v":256934.09806450448,"d":"2.5693E+05"},{"v":2E-3,"d":"2.0E-03"},{"$f":"Rohrreibungszahl(Tabelle76[[#This Row],['[-']]],Tabelle76[[#This Row],['[-']4]],Tabelle76[[#This Row],['[-']3]],Tabelle76[[#This Row],['[m']2]],Tabelle76[[#This Row],['[m']3]])","v":{"v":0.024094179780052894,"d":"2.41E-02"}},null,null,{"$f":"IF(Tabelle76[[#This Row],['[-']2]]>0,Tabelle76[[#This Row],['[-']2]]*(Tabelle76[[#This Row],['[kg/m^3']]]/2)*Tabelle76[[#This Row],['[m/s']]]^2,Druckverlust(Tabelle76[[#This Row],[Spalte1]],C32,U32,V32,P32,L32,O32,J32,K32,Q32,D32,E32))","v":{"v":1799.939730309234,"d":"1799.94"}},0.01799939730309234,{"v":14.642645227690435,"d":"14.64"},{"v":14.624645830387342,"d":"14.62"},{"v":1799.939730309234,"d":"1799.94"},{"$f":"SUM($AB$10:AB32)","v":{"v":537535.4169612653,"d":"537535.42"}}]
[null,"T-Stück (Druckminderer) ","Rohr",null,0.02,{"v":4e-05,"d":"4.00E-05"},{"$f":"17.64*4","v":70.56},0.0196,{"v":0.018831697525095822,"d":"1.88E-02"},1462464.5830387343,338,{"$f":"Dichte(K33,J33)","v":{"v":1.0407983653029849,"d":"1.04080"}},{"$f":"VLOOKUP(J33*0.00001,'Datenbank Werte '!$A$1:$B$500,2,TRUE)*0.000001","v":{"v":9.7128e-06,"d":"9.71E-06"}},{"v":9.3320669245791188E-6,"d":"9.33E-06"},{"v":0.08988,"d":"8.99E-02"},{"$f":"Tabelle76[[#This Row],['[kg/h']]]/Tabelle76[[#This Row],['[kg/m^3']4]]","v":{"v":785.0467289719626,"d":"785.05"}},{"v":59.94315495860824,"d":"59.94"},{"$f":"Tabelle76[[#This Row],['[m/s']]]/VLOOKUP(J33*0.00001,'Datenbank Werte '!$A$1:$C$500,3,TRUE)","v":{"v":0.04254606782497568,"d":"0.04"}},{"v":128467.04903225222,"d":"1.2847E+05"},{"v":2E-3,"d":"2.0E-03"},{"$f":"Rohrreibungszahl(Tabelle76[[#This Row],['[-']]],Tabelle76[[#This Row],['[-']4]],Tabelle76[[#This Row],['[-']3]],Tabelle76[[#This Row],['[m']2]],Tabelle76[[#This Row],['[m']3]])","v":{"v":0.024737745201078593,"d":"2.47E-02"}},null,1.3,{"$f":"IF(Tabelle76[[#This Row],['[-']2]]>0,Tabelle76[[#This Row],['[-']2]]*(Tabelle76[[#This Row],['[kg/m^3']]]/2)*Tabelle76[[#This Row],['[m/s']]]^2,Druckverlust(Tabelle76[[#This Row],[Spalte1]],C33,U33,V33,P33,L33,O33,J33,K33,Q33,D33,E33))","v":{"v":2430.855551244182,"d":"2430.86"}},0.02430855551244182,{"v":14.624645830387342,"d":"14.62"},{"v":14.6003372748749,"d":"14.60"},{"v":2430.855551244182,"d":"2430.86"},{"$f":"SUM($AB$10:AB33)","v":{"v":539966.2725125095,"d":"539966.27"}}]
[null,null,"Rohr",0.3,0.02,{"v":4e-05,"d":"4.00E-05"},{"$f":"17.64*4","v":70.56},0.0196,{"v":0.01886280417514509,"d":"1.89E-02"},1460033.72748749,338,{"$f":"Dichte(K34,J34)","v":{"v":1.0390819847361978,"d":"1.03908"}},{"$f":"VLOOKUP(J34*0.00001,'Datenbank Werte '!$A$1:$B$500,2,TRUE)*0.000001","v":{"v":9.7128e-06,"d":"9.71E-06"}},{"v":9.347481856752511E-6,"d":"9.35E-06"},{"v":0.08988,"d":"8.99E-02"},{"$f":"Tabelle76[[#This Row],['[kg/h']]]/Tabelle76[[#This Row],['[kg/m^3']4]]","v":{"v":785.0467289719626,"d":"785.05"}},{"v":60.042170500975644,"d":"60.04"},{"$f":"Tabelle76[[#This Row],['[m/s']]]/VLOOKUP(J34*0.00001,'Datenbank Werte '!$A$1:$C$500,3,TRUE)","v":{"v":0.04261634644117797,"d":"0.04"}},{"v":128467.04903225222,"d":"1.2847E+05"},{"v":2E-3,"d":"2.0E-03"},{"$f":"Rohrreibungszahl(Tabelle76[[#This Row],['[-']]],Tabelle76[[#This Row],['[-']4]],Tabelle76[[#This Row],['[-']3]],Tabelle76[[#This Row],['[m']2]],Tabelle76[[#This Row],['[m']3]])","v":{"v":0.024737745201078593,"d":"2.47E-02"}},null,null,{"$f":"IF(Tabelle76[[#This Row],['[-']2]]>0,Tabelle76[[#This Row],['[-']2]]*(Tabelle76[[#This Row],['[kg/m^3']]]/2)*Tabelle76[[#This Row],['[m/s']]]^2,Druckverlust(Tabelle76[[#This Row],[Spalte1]],C34,U34,V34,P34,L34,O34,J34,K34,Q34,D34,E34))","v":{"v":694.9986443370345,"d":"695.00"}},0.006949986443370346,{"v":14.600337274874901,"d":"14.60"},{"v":14.593387288431531,"d":"14.59"},{"v":694.9986443370345,"d":"695.00"},{"$f":"SUM($AB$10:AB34)","v":{"v":540661.2711568465,"d":"540661.27"}}]
[null,"90°Winkel","Rohr",null,0.02,{"v":4e-05,"d":"4.00E-05"},70.56,0.0196,{"v":0.018871716834449194,"d":"1.89E-02"},1459338.728843153,338,{"$f":"Dichte(K35,J35)","v":{"v":1.0385912512327107,"d":"1.03859"}},{"$f":"VLOOKUP(J35*0.00001,'Datenbank Werte '!$A$1:$B$500,2,TRUE)*0.000001","v":{"v":9.7128e-06,"d":"9.71E-06"}},{"v":9.3518985341652114E-6,"d":"9.35E-06"},{"v":0.08988,"d":"8.99E-02"},{"$f":"Tabelle76[[#This Row],['[kg/h']]]/Tabelle76[[#This Row],['[kg/m^3']4]]","v":{"v":785.0467289719626,"d":"785.05"}},{"v":60.0705403766625,"d":"60.07"},{"$f":"Tabelle76[[#This Row],['[m/s']]]/VLOOKUP(J35*0.00001,'Datenbank Werte '!$A$1:$C$500,3,TRUE)","v":{"v":0.04263648262947157,"d":"0.04"}},{"v":128467.04903225224,"d":"1.2847E+05"},{"v":2E-3,"d":"2.0E-03"},{"$f":"Rohrreibungszahl(Tabelle76[[#This Row],['[-']]],Tabelle76[[#This Row],['[-']4]],Tabelle76[[#This Row],['[-']3]],Tabelle76[[#This Row],['[m']2]],Tabelle76[[#This Row],['[m']3]])","v":{"v":0.024737745201078593,"d":"2.47E-02"}},null,0.15,{"$f":"IF(Tabelle76[[#This Row],['[-']2]]>0,Tabelle76[[#This Row],['[-']2]]*(Tabelle76[[#This Row],['[kg/m^3']]]/2)*Tabelle76[[#This Row],['[m/s']]]^2,Druckverlust(Tabelle76[[#This Row],[Spalte1]],C35,U35,V35,P35,L35,O35,J35,K35,Q35,D35,E35))","v":{"v":281.0793889933253,"d":"281.08"}},0.002810793889933253,{"v":14.59338728843153,"d":"14.59"},{"v":14.590576494541596,"d":"14.59"},{"v":281.0793889933253,"d":"281.08"},{"$f":"SUM($AB$10:AB35)","v":{"v":540942.3505458399,"d":"540942.35"}}]
[null,null,"Rohr",0.2,0.02,{"v":4e-05,"d":"4.00E-05"},70.56,0.0196,{"v":0.018875323806588323,"d":"1.89E-02"},1459057.6494541597,338,{"$f":"Dichte(K36,J36)","v":{"v":1.0383927820702463,"d":"1.03839"}},{"$f":"VLOOKUP(J36*0.00001,'Datenbank Werte '!$A$1:$B$500,2,TRUE)*0.000001","v":{"v":9.7128e-06,"d":"9.71E-06"}},{"v":9.35368597288934E-6,"d":"9.35E-06"},{"v":0.08988,"d":"8.99E-02"},{"$f":"Tabelle76[[#This Row],['[kg/h']]]/Tabelle76[[#This Row],['[kg/m^3']4]]","v":{"v":785.0467289719626,"d":"785.05"}},{"v":60.082021725573235,"d":"60.08"},{"$f":"Tabelle76[[#This Row],['[m/s']]]/VLOOKUP(J36*0.00001,'Datenbank Werte '!$A$1:$C$500,3,TRUE)","v":{"v":0.042644631787616745,"d":"0.04"}},{"v":128467.04903225224,"d":"1.2847E+05"},{"v":2E-3,"d":"2.0E-03"},{"$f":"Rohrreibungszahl(Tabelle76[[#This Row],['[-']]],Tabelle76[[#This Row],['[-']4]],Tabelle76[[#This Row],['[-']3]],Tabelle76[[#This Row],['[m']2]],Tabelle76[[#This Row],['[m']3]])","v":{"v":0.024737745201078593,"d":"2.47E-02"}},null,null,{"$f":"IF(Tabelle76[[#This Row],['[-']2]]>0,Tabelle76[[#This Row],['[-']2]]*(Tabelle76[[#This Row],['[kg/m^3']]]/2)*Tabelle76[[#This Row],['[m/s']]]^2,Druckverlust(Tabelle76[[#This Row],[Spalte1]],C36,U36,V36,P36,L36,O36,J36,K36,Q36,D36,E36))","v":{"v":463.63995282974366,"d":"463.64"}},0.004636399528297436,{"v":14.590576494541597,"d":"14.59"},{"v":14.5859400950133,"d":"14.59"},{"v":463.63995282974366,"d":"463.64"},{"$f":"SUM($AB$10:AB36)","v":{"v":541405.9904986696,"d":"541405.99"}}]
[null,"Ergebnis",{"$nulls":25},"Druckverlust gesamt in bar",{"$f":"SUBTOTAL(104,Tabelle76['[Pa']4])*0.00001","v":5.414059904986696}]

{"sheet":"Datenbank Werte ","index":5,"n_rows":503,"n_cols":3,"rows_kept":503}
["Pressure (bar)","Viscosity (uPa*s)","Sound Spd, (m/s)"]
[0,9.707,1397.6]
[1,9.7074,1398.4]
[2,9.7077,1399.2]
[3,9.7081,1400]
[4,9.7084,1400.8]
[5,9.7088,1401.6]
[6,9.7092,1402.4]
[7,9.7096,1403.2]
[8,9.71,1404]
[9,9.7104,1404.8]
[10,9.7109,1405.6]
[11,9.7113,1406.5]
[12,9.7118,1407.3]
[13,9.7123,1408.1]
[14,9.7128,1408.9]
[15,9.7133,1409.7]
[16,9.7138,1410.5]
[17,9.7143,1411.3]
[18,9.7149,1412.1]
[19,9.7154,1412.9]
[20,9.716,1413.7]
[21,9.7166,1414.5]
[22,9.7171,1415.4]
[23,9.7177,1416.2]
[24,9.7184,1417]
[25,9.719,1417.8]
[26,9.7196,1418.6]
[27,9.7203,1419.4]
[28,9.7209,1420.2]
[29,9.7216,1421]
[30,9.7223,1421.8]
[31,9.723,1422.6]
[32,9.7237,1423.5]
[33,9.7244,1424.3]
[34,9.7251,1425.1]
[35,9.7258,1425.9]
[36,9.7266,1426.7]
[37,9.7273,1427.5]
[38,9.7281,1428.3]
[39,9.7289,1429.1]
[40,9.7297,1430]
[41,9.7305,1430.8]
[42,9.7313,1431.6]
[43,9.7321,1432.4]
[44,9.733,1433.2]
[45,9.7338,1434]
[46,9.7347,1434.8]
[47,9.7356,1435.6]
[48,9.7364,1436.5]
[49,9.7373,1437.3]
[50,9.7382,1438.1]
[51,9.7391,1438.9]
[52,9.7401,1439.7]
[53,9.741,1440.5]
[54,9.742,1441.3]
[55,9.7429,1442.2]
[56,9.7439,1443]
[57,9.7449,1443.8]
[58,9.7458,1444.6]
[59,9.7468,1445.4]
[60,9.7479,1446.2]
[61,9.7489,1447.1]
[62,9.7499,1447.9]
[63,9.7509,1448.7]
[64,9.752,1449.5]
[65,9.7531,1450.3]
[66,9.7541,1451.1]
[67,9.7552,1451.9]
[68,9.7563,1452.8]
[69,9.7574,1453.6]
[70,9.7585,1454.4]
[71,9.7596,1455.2]
[72,9.7608,1456]
[73,9.7619,1456.9]
[74,9.7631,1457.7]
[75,9.7642,1458.5]
[76,9.7654,1459.3]
[77,9.7666,1460.1]
[78,9.7678,1460.9]
[79,9.769,1461.8]
[80,9.7702,1462.6]
[81,9.7714,1463.4]
[82,9.7726,1464.2]
[83,9.7739,1465]
[84,9.7751,1465.9]
[85,9.7764,1466.7]
[86,9.7776,1467.5]
[87,9.7789,1468.3]
[88,9.7802,1469.1]
[89,9.7815,1469.9]
[90,9.7828,1470.8]
[91,9.7841,1471.6]
[92,9.7854,1472.4]
[93,9.7868,1473.2]
[94,9.7881,1474]
[95,9.7895,1474.9]
[96,9.7908,1475.7]
[97,9.7922,1476.5]
[98,9.7936,1477.3]
[99,9.795,1478.2]
[100,9.7964,1479]
[101,9.7978,1479.8]
[102,9.7992,1480.6]
[103,9.8006,1481.4]
[104,9.8021,1482.3]
[105,9.8035,1483.1]
[106,9.805,1483.9]
[107,9.8064,1484.7]
[108,9.8079,1485.5]
[109,9.8094,1486.4]
[110,9.8108,1487.2]
[111,9.8123,1488]
[112,9.8138,1488.8]
[113,9.8154,1489.7]
[114,9.8169,1490.5]
[115,9.8184,1491.3]
[116,9.82,1492.1]
[117,9.8215,1492.9]
[118,9.8231,1493.8]
[119,9.8246,1494.6]
[120,9.8262,1495.4]
[121,9.8278,1496.2]
[122,9.8294,1497.1]
[123,9.831,1497.9]
[124,9.8326,1498.7]
[125,9.8342,1499.5]
[126,9.8358,1500.4]
[127,9.8374,1501.2]
[128,9.8391,1502]
[129,9.8407,1502.8]
[130,9.8424,1503.7]
[131,9.8441,1504.5]
[132,9.8457,1505.3]
[133,9.8474,1506.1]
[134,9.8491,1506.9]
[135,9.8508,1507.8]
[136,9.8525,1508.6]
[137,9.8542,1509.4]
[138,9.8559,1510.2]
[139,9.8577,1511.1]
[140,9.8594,1511.9]
[141,9.8611,1512.7]
[142,9.8629,1513.5]
[143,9.8647,1514.4]
[144,9.8664,1515.2]
[145,9.8682,1516]
[146,9.87,1516.8]
[147,9.8718,1517.7]
[148,9.8736,1518.5]
[149,9.8754,1519.3]
[150,9.8772,1520.1]
[151,9.879,1521]
[152,9.8808,1521.8]
[153,9.8827,1522.6]
[154,9.8845,1523.4]
[155,9.8864,1524.3]
[156,9.8882,1525.1]
[157,9.8901,1525.9]
[158,9.892,1526.7]
[159,9.8939,1527.6]
[160,9.8958,1528.4]
[161,9.8976,1529.2]
[162,9.8996,1530]
[163,9.9015,1530.9]
[164,9.9034,1531.7]
[165,9.9053,1532.5]
[166,9.9072,1533.3]
[167,9.9092,1534.2]
[168,9.9111,1535]
[169,9.9131,1535.8]
[170,9.915,1536.6]
[171,9.917,1537.5]
[172,9.919,1538.3]
[173,9.921,1539.1]
[174,9.923,1539.9]
[175,9.925,1540.8]
[176,9.927,1541.6]
[177,9.929,1542.4]
[178,9.931,1543.2]
[179,9.933,1544.1]
[180,9.935,1544.9]
[181,9.9371,1545.7]
[182,9.9391,1546.5]
[183,9.9412,1547.4]
[184,9.9432,1548.2]
[185,9.9453,1549]
[186,9.9474,1549.9]
[187,9.9494,1550.7]
[188,9.9515,1551.5]
[189,9.9536,1552.3]
[190,9.9557,1553.2]
[191,9.9578,1554]
[192,9.9599,1554.8]
[193,9.962,1555.6]
[194,9.9642,1556.5]
[195,9.9663,1557.3]
[196,9.9684,1558.1]
[197,9.9706,1558.9]
[198,9.9727,1559.8]
[199,9.9749,1560.6]
[200,9.977,1561.4]
[201,9.9792,1562.2]
[202,9.9814,1563.1]
[203,9.9836,1563.9]
[204,9.9858,1564.7]
[205,9.9879,1565.5]
[206,9.9901,1566.4]
[207,9.9924,1567.2]
[208,9.9946,1568]
[209,9.9968,1568.8]
[210,9.999,1569.7]
[211,10.001,1570.5]
[212,10.003,1571.3]
[213,10.006,1572.1]
[214,10.008,1572.9]
[215,10.01,1573.8]
[216,10.012,1574.6]
[217,10.015,1575.4]
[218,10.017,1576.2]
[219,10.019,1577.1]
[220,10.022,1577.9]
[221,10.024,1578.7]
[222,10.026,1579.5]
[223,10.028,1580.4]
[224,10.031,1581.2]
[225,10.033,1582]
[226,10.035,1582.8]
[227,10.038,1583.7]
[228,10.04,1584.5]
[229,10.042,1585.3]
[230,10.045,1586.1]
[231,10.047,1587]
[232,10.049,1587.8]
[233,10.052,1588.6]
[234,10.054,1589.4]
[235,10.057,1590.2]
[236,10.059,1591.1]
[237,10.061,1591.9]
[238,10.064,1592.7]
[239,10.066,1593.5]
[240,10.068,1594.4]
[241,10.071,1595.2]
[242,10.073,1596]
[243,10.076,1596.8]
[244,10.078,1597.7]
[245,10.081,1598.5]
[246,10.083,1599.3]
[247,10.085,1600.1]
[248,10.088,1600.9]
[249,10.09,1601.8]
[250,10.093,1602.6]
[251,10.095,1603.4]
[252,10.098,1604.2]
[253,10.1,1605]
[254,10.103,1605.9]
[255,10.105,1606.7]
[256,10.108,1607.5]
[257,10.11,1608.3]
[258,10.113,1609.2]
[259,10.115,1610]
[260,10.118,1610.8]
[261,10.12,1611.6]
[262,10.123,1612.4]
[263,10.125,1613.3]
[264,10.128,1614.1]
[265,10.13,1614.9]
[266,10.133,1615.7]
[267,10.135,1616.5]
[268,10.138,1617.4]
[269,10.14,1618.2]
[270,10.143,1619]
[271,10.145,1619.8]
[272,10.148,1620.6]
[273,10.151,1621.5]
[274,10.153,1622.3]
[275,10.156,1623.1]
[276,10.158,1623.9]
[277,10.161,1624.7]
[278,10.164,1625.6]
[279,10.166,1626.4]
[280,10.169,1627.2]
[281,10.171,1628]
[282,10.174,1628.8]
[283,10.177,1629.6]
[284,10.179,1630.5]
[285,10.182,1631.3]
[286,10.184,1632.1]
[287,10.187,1632.9]
[288,10.19,1633.7]
[289,10.192,1634.6]
[290,10.195,1635.4]
[291,10.198,1636.2]
[292,10.2,1637]
[293,10.203,1637.8]
[294,10.206,1638.6]
[295,10.208,1639.5]
[296,10.211,1640.3]
[297,10.214,1641.1]
[298,10.216,1641.9]
[299,10.219,1642.7]
[300,10.222,1643.5]
[301,10.224,1644.4]
[302,10.227,1645.2]
[303,10.23,1646]
[304,10.233,1646.8]
[305,10.235,1647.6]
[306,10.238,1648.4]
[307,10.241,1649.2]
[308,10.243,1650.1]
[309,10.246,1650.9]
[310,10.249,1651.7]
[311,10.252,1652.5]
[312,10.254,1653.3]
[313,10.257,1654.1]
[314,10.26,1654.9]
[315,10.263,1655.8]
[316,10.265,1656.6]
[317,10.268,1657.4]
[318,10.271,1658.2]
[319,10.274,1659]
[320,10.277,1659.8]
[321,10.279,1660.6]
[322,10.282,1661.5]
[323,10.285,1662.3]
[324,10.288,1663.1]
[325,10.29,1663.9]
[326,10.293,1664.7]
[327,10.296,1665.5]
[328,10.299,1666.3]
[329,10.302,1667.1]
[330,10.305,1668]
[331,10.307,1668.8]
[332,10.31,1669.6]
[333,10.313,1670.4]
[334,10.316,1671.2]
[335,10.319,1672]
[336,10.322,1672.8]
[337,10.324,1673.6]
[338,10.327,1674.4]
[339,10.33,1675.3]
[340,10.333,1676.1]
[341,10.336,1676.9]
[342,10.339,1677.7]
[343,10.342,1678.5]
[344,10.344,1679.3]
[345,10.347,1680.1]
[346,10.35,1680.9]
[347,10.353,1681.7]
[348,10.356,1682.5]
[349,10.359,1683.4]
[350,10.362,1684.2]
[351,10.365,1685]
[352,10.368,1685.8]
[353,10.37,1686.6]
[354,10.373,1687.4]
[355,10.376,1688.2]
[356,10.379,1689]
[357,10.382,1689.8]
[358,10.385,1690.6]
[359,10.388,1691.4]
[360,10.391,1692.2]
[361,10.394,1693]
[362,10.397,1693.9]
[363,10.4,1694.7]
[364,10.403,1695.5]
[365,10.406,1696.3]
[366,10.409,1697.1]
[367,10.411,1697.9]
[368,10.414,1698.7]
[369,10.417,1699.5]
[370,10.42,1700.3]
[371,10.423,1701.1]
[372,10.426,1701.9]
[373,10.429,1702.7]
[374,10.432,1703.5]
[375,10.435,1704.3]
[376,10.438,1705.1]
[377,10.441,1705.9]
[378,10.444,1706.7]
[379,10.447,1707.5]
[380,10.45,1708.3]
[381,10.453,1709.2]
[382,10.456,1710]
[383,10.459,1710.8]
[384,10.462,1711.6]
[385,10.465,1712.4]
[386,10.468,1713.2]
[387,10.471,1714]
[388,10.474,1714.8]
[389,10.477,1715.6]
[390,10.48,1716.4]
[391,10.483,1717.2]
[392,10.486,1718]
[393,10.489,1718.8]
[394,10.493,1719.6]
[395,10.496,1720.4]
[396,10.499,1721.2]
[397,10.502,1722]
[398,10.505,1722.8]
[399,10.508,1723.6]
[400,10.511,1724.4]
[401,10.514,1725.2]
[402,10.517,1726]
[403,10.52,1726.8]
[404,10.523,1727.6]
[405,10.526,1728.4]
[406,10.529,1729.2]
[407,10.532,1730]
[408,10.535,1730.8]
[409,10.539,1731.6]
[410,10.542,1732.4]
[411,10.545,1733.2]
[412,10.548,1734]
[413,10.551,1734.8]
[414,10.554,1735.6]
[415,10.557,1736.4]
[416,10.56,1737.2]
[417,10.563,1738]
[418,10.566,1738.8]
[419,10.57,1739.6]
[420,10.573,1740.4]
[421,10.576,1741.2]
[422,10.579,1741.9]
[423,10.582,1742.7]
[424,10.585,1743.5]
[425,10.588,1744.3]
[426,10.591,1745.1]
[427,10.595,1745.9]
[428,10.598,1746.7]
[429,10.601,1747.5]
[430,10.604,1748.3]
[431,10.607,1749.1]
[432,10.61,1749.9]
[433,10.613,1750.7]
[434,10.617,1751.5]
[435,10.62,1752.3]
[436,10.623,1753.1]
[437,10.626,1753.9]
[438,10.629,1754.7]
[439,10.632,1755.5]
[440,10.636,1756.2]
[441,10.639,1757]
[442,10.642,1757.8]
[443,10.645,1758.6]
[444,10.648,1759.4]
[445,10.652,1760.2]
[446,10.655,1761]
[447,10.658,1761.8]
[448,10.661,1762.6]
[449,10.664,1763.4]
[450,10.668,1764.2]
[451,10.671,1765]
[452,10.674,1765.7]
[453,10.677,1766.5]
[454,10.68,1767.3]
[455,10.684,1768.1]
[456,10.687,1768.9]
[457,10.69,1769.7]
[458,10.693,1770.5]
[459,10.696,1771.3]
[460,10.7,1772.1]
[461,10.703,1772.9]
[462,10.706,1773.6]
[463,10.709,1774.4]
[464,10.713,1775.2]
[465,10.716,1776]
[466,10.719,1776.8]
[467,10.722,1777.6]
[468,10.726,1778.4]
[469,10.729,1779.2]
[470,10.732,1779.9]
[471,10.735,1780.7]
[472,10.739,1781.5]
[473,10.742,1782.3]
[474,10.745,1783.1]
[475,10.748,1783.9]
[476,10.752,1784.7]
[477,10.755,1785.5]
[478,10.758,1786.2]
[479,10.761,1787]
[480,10.765,1787.8]
[481,10.768,1788.6]
[482,10.771,1789.4]
[483,10.774,1790.2]
[484,10.778,1790.9]
[485,10.781,1791.7]
[486,10.784,1792.5]
[487,10.788,1793.3]
[488,10.791,1794.1]
[489,10.794,1794.9]
[490,10.797,1795.6]
[491,10.801,1796.4]
[492,10.804,1797.2]
[493,10.807,1798]
[494,10.811,1798.8]
[495,10.814,1799.6]
[496,10.817,1800.3]
[497,10.821,1801.1]
[498,10.824,1801.9]
[499,10.827,1802.7]
[500,10.831,1803.5]
[500]