{"text_format":"3","workbook":"xlsx","n_sheets":2,"sheets":["TC_A2 bis Druckminderer","Datenbak Werte"],"not_rendered":{"macros":1},"read":"whole","date_system":"1900"}

{"sheet":"TC_A2 bis Druckminderer","index":0,"n_rows":58,"n_cols":29,"rows_kept":58,"merged":[[6,2,7,2],[6,3,7,3],[6,4,7,4],[6,5,7,5],[6,6,7,6],[6,7,7,7],[6,8,7,8],[6,9,7,9],[6,10,7,10],[6,11,7,11],[6,12,7,12],[6,13,7,13],[6,14,7,14],[6,15,7,15],[6,16,7,16],[6,17,7,17],[6,18,7,18],[6,19,7,19],[6,20,7,20],[6,21,7,21],[6,22,7,22],[6,23,7,23],[6,24,7,24],[6,25,7,25],[6,26,7,26],[6,27,7,27],[6,28,7,28]]}
[]
[null,null,"Temperatur",null,338,null,"Normdichte",0.08988]
[null,null,"Massenstrom",null,{"$f":"17.64*8","v":141.12},null,"Startdruck",{"v":20,"d":"20.00"}]
[null,null,"Rauigeit (mm)",null,{"v":0.04,"d":"4.00E-02"}]
[null,null,"Innendurchmesser (mm)",null,0.019]
[]
[null,null,"Rohr oder Ventil","Länge Rohrleitung ","Innendruchmesser Rohr","Rauigkeit","Massenstrom H2 ","Massenstrom H2 ","Volumenstrom H2 ","Druck","Temperatur","Dichte","dynamische Viskosität","kinematische Viskosität","Norm Dichte","Norm Volumenstrom","Geschwindigkeit","Mach-Zahl","RE-Zahl","k/d ","Rohrreibungszahl","Kv-Wert","Widerstandsbeiwert Zeta","Durckverlust durch Komponente ","Durckverlust durch Komponente ","p_1","p_2","Delta p","Delta P aufsummiert "]
[]
["System ","Komponente ","[-]","[m]","[m]2","[m]3","[kg/h]","[kg/s]","[m^3/s]","[Pa]","[K]","[kg/m^3]","[Pa*s]","[m^2/s]","[kg/m^3]","[Nm^3/h]","[m/s]","[-]","[-]","[-]","[-]","[m^3/h]","[-]","[Pa]","[bar]","[bar]","[bar]","[Pa]","[Pa]"]
[null,"H2 Kupplung ","Ventil",null,{"$f":"IF(ISTEXT(E9),$E$5,E9)","v":0.019},{"$f":"IF(ISTEXT(F9),E4*0.001,F9)","v":{"v":4e-05,"d":"4.00E-05"}},{"$f":"17.64*8","v":141.12},{"$f":"G10/3600","v":0.0392},{"$f":"H10/L10","v":{"v":0.027620418371815808,"d":"2.76E-02"}},{"$f":"IF(ISTEXT(AA9),$H$3*100000,AA9*100000)","v":2000000},{"$f":"IF(ISTEXT(K9),E2,K9)","v":338},{"$f":"Dichte(K10,J10)","v":{"v":1.4192399069523194,"d":"1.41924"}},{"$f":"VLOOKUP(J10*0.00001,'Datenbak Werte'!$A$1:$B$500,2,TRUE)*0.000001","v":{"v":9.7159999999999981E-6,"d":"9.72E-06"}},{"$f":"M10/L10","v":{"v":6.8459179821572027E-6,"d":"6.85E-06"}},{"$f":"IF(ISTEXT(O9),H2,O9)","v":{"v":0.08988,"d":"8.99E-02"}},{"$f":"Tabelle7[[#This Row],['[kg/h']]]/Tabelle7[[#This Row],['[kg/m^3']4]]","v":{"v":1570.0934579439252,"d":"1570.09"}},{"$f":"H10*4/(L10*PI()*E10^2)","v":{"v":97.41664518871325,"d":"97.42"}},{"$f":"Tabelle7[[#This Row],['[m/s']]]/VLOOKUP(J10*0.00001,'Datenbak Werte'!$A$1:$C$500,3,TRUE)","v":{"v":0.06890899426237054,"d":"0.07"}},{"$f":"(L10*Q10*E10)/M10","v":{"v":270367.86935070954,"d":"2.7037E+05"}},{"$f":"F10/E10","v":{"v":2.1052631578947372E-3,"d":"2.1E-03"}},{"$f":"Rohrreibungszahl(Tabelle7[[#This Row],['[-']]],Tabelle7[[#This Row],['[-']4]],Tabelle7[[#This Row],['[-']3]],Tabelle7[[#This Row],['[m']2]],Tabelle7[[#This Row],['[m']3]])","v":"Nur bei 'Rohr' benötigt"},3.53,null,{"$f":"IF(Tabelle7[[#This Row],['[-']2]]>0,Tabelle7[[#This Row],['[-']2]]*(Tabelle7[[#This Row],['[kg/m^3']]]/2)*Tabelle7[[#This Row],['[m/s']]]^2,Druckverlust(Tabelle7[[#This Row],[Spalte1]],C10,U10,V10,P10,L10,O10,J10,K10,Q10,D10,E10))","v":{"v":121072.3779401647,"d":"121072.38"}},{"$f":"X10/10^5","v":1.210723779401647},{"$f":"J10/10^5","v":{"v":20,"d":"20.00"}},{"$f":"Z10-Y10","v":{"v":18.789276220598353,"d":"18.79"}},{"$f":"X10","v":{"v":121072.3779401647,"d":"121072.38"}},{"$f":"SUM($AB$10:AB10)","v":{"v":121072.3779401647,"d":"121072.38"}}]
[null,"Schlauch","Rohr",1,{"$f":"IF(ISTEXT(E10),$E$5,E10)","v":0.019},{"v":4e-05,"d":"4.00E-05"},141.12,{"$f":"G11/3600","v":0.0392},{"$f":"H11/L11","v":{"v":0.02938107177885136,"d":"2.94E-02"}},{"$f":"IF(ISTEXT(AA10),$H$3*100000,AA10*100000)","v":1878927.6220598354},{"$f":"IF(ISTEXT(K10),E3,K10)","v":338},{"$f":"Dichte(K11,J11)","v":{"v":1.3341923090843932,"d":"1.33419"}},{"$f":"VLOOKUP(J11*0.00001,'Datenbak Werte'!$A$1:$B$500,2,TRUE)*0.000001","v":{"v":9.7148999999999991E-6,"d":"9.71E-06"}},{"$f":"M11/L11","v":{"v":7.2814840363357924E-6,"d":"7.28E-06"}},{"$f":"IF(ISTEXT(O10),H3,O10)","v":{"v":0.08988,"d":"8.99E-02"}},{"$f":"Tabelle7[[#This Row],['[kg/h']]]/Tabelle7[[#This Row],['[kg/m^3']4]]","v":{"v":1570.0934579439252,"d":"1570.09"}},{"$f":"H11*4/(L11*PI()*E11^2)","v":{"v":103.62643339483614,"d":"103.63"}},{"$f":"Tabelle7[[#This Row],['[m/s']]]/VLOOKUP(J11*0.00001,'Datenbak Werte'!$A$1:$C$500,3,TRUE)","v":{"v":0.07338462813882597,"d":"0.07"}},{"$f":"(L11*Q11*E11)/M11","v":{"v":270398.4826000776,"d":"2.7040E+05"}},{"$f":"F11/E11","v":{"v":2.1052631578947372E-3,"d":"2.1E-03"}},{"$f":"Rohrreibungszahl(Tabelle7[[#This Row],['[-']]],Tabelle7[[#This Row],['[-']4]],Tabelle7[[#This Row],['[-']3]],Tabelle7[[#This Row],['[m']2]],Tabelle7[[#This Row],['[m']3]])","v":{"v":0.024359666043942293,"d":"2.44E-02"}},null,null,{"$f":"IF(Tabelle7[[#This Row],['[-']2]]>0,Tabelle7[[#This Row],['[-']2]]*(Tabelle7[[#This Row],['[kg/m^3']]]/2)*Tabelle7[[#This Row],['[m/s']]]^2,Druckverlust(Tabelle7[[#This Row],[Spalte1]],C11,U11,V11,P11,L11,O11,J11,K11,Q11,D11,E11))","v":{"v":9184.325522176354,"d":"9184.33"}},0.09184325522176354,{"$f":"J11/10^5","v":{"v":18.789276220598353,"d":"18.79"}},{"$f":"Z11-Y11","v":{"v":18.69743296537659,"d":"18.70"}},{"$f":"X11","v":{"v":9184.325522176354,"d":"9184.33"}},{"$f":"SUM($AB$10:AB11)","v":{"v":130256.70346234106,"d":"130256.70"}}]
[null,"90°Winkel","Rohr",null,0.019,{"v":4e-05,"d":"4.00E-05"},141.12,0.0392,{"v":0.02952393639436313,"d":"2.95E-02"},1869743.296537659,338,{"$f":"Dichte(K12,J12)","v":{"v":1.3277362298979982,"d":"1.32774"}},{"$f":"VLOOKUP(J12*0.00001,'Datenbak Werte'!$A$1:$B$500,2,TRUE)*0.000001","v":{"v":9.7148999999999991E-6,"d":"9.71E-06"}},{"v":7.3168900427958758E-6,"d":"7.32E-06"},{"v":0.08988,"d":"8.99E-02"},{"$f":"Tabelle7[[#This Row],['[kg/h']]]/Tabelle7[[#This Row],['[kg/m^3']4]]","v":{"v":1570.0934579439252,"d":"1570.09"}},{"v":104.13031394334851,"d":"104.13"},{"$f":"Tabelle7[[#This Row],['[m/s']]]/VLOOKUP(J12*0.00001,'Datenbak Werte'!$A$1:$C$500,3,TRUE)","v":{"v":0.07374145878007826,"d":"0.07"}},{"v":270398.4826000776,"d":"2.7040E+05"},{"v":2.1052631578947372E-3,"d":"2.1E-03"},{"$f":"Rohrreibungszahl(Tabelle7[[#This Row],['[-']]],Tabelle7[[#This Row],['[-']4]],Tabelle7[[#This Row],['[-']3]],Tabelle7[[#This Row],['[m']2]],Tabelle7[[#This Row],['[m']3]])","v":{"v":0.024359666043942293,"d":"2.44E-02"}},null,0.15,{"$f":"IF(Tabelle7[[#This Row],['[-']2]]>0,Tabelle7[[#This Row],['[-']2]]*(Tabelle7[[#This Row],['[kg/m^3']]]/2)*Tabelle7[[#This Row],['[m/s']]]^2,Druckverlust(Tabelle7[[#This Row],[Spalte1]],C12,U12,V12,P12,L12,O12,J12,K12,Q12,D12,E12))","v":{"v":1079.7604724209816,"d":"1079.76"}},0.010797604724209816,{"$f":"J12/10^5","v":{"v":18.69743296537659,"d":"18.70"}},{"$f":"Z12-Y12","v":{"v":18.686635360652378,"d":"18.69"}},{"$f":"X12","v":{"v":1079.7604724209816,"d":"1079.76"}},{"$f":"SUM($AB$10:AB12)","v":{"v":131336.46393476205,"d":"131336.46"}}]
[null,"Rohr ","Rohr",4.8,0.019,{"v":4e-05,"d":"4.00E-05"},141.12,0.0392,{"v":0.029540824612084914,"d":"2.95E-02"},1868663.5360652378,338,{"$f":"Dichte(K13,J13)","v":{"v":1.3269771753075434,"d":"1.32698"}},{"$f":"VLOOKUP(J13*0.00001,'Datenbak Werte'!$A$1:$B$500,2,TRUE)*0.000001","v":{"v":9.7148999999999991E-6,"d":"9.71E-06"}},{"v":7.3210754342842784E-6,"d":"7.32E-06"},{"v":0.08988,"d":"8.99E-02"},{"$f":"Tabelle7[[#This Row],['[kg/h']]]/Tabelle7[[#This Row],['[kg/m^3']4]]","v":{"v":1570.0934579439252,"d":"1570.09"}},{"v":104.18987833848279,"d":"104.19"},{"$f":"Tabelle7[[#This Row],['[m/s']]]/VLOOKUP(J13*0.00001,'Datenbak Werte'!$A$1:$C$500,3,TRUE)","v":{"v":0.07378364020854244,"d":"0.07"}},{"v":270398.4826000776,"d":"2.7040E+05"},{"v":2.1052631578947372E-3,"d":"2.1E-03"},{"$f":"Rohrreibungszahl(Tabelle7[[#This Row],['[-']]],Tabelle7[[#This Row],['[-']4]],Tabelle7[[#This Row],['[-']3]],Tabelle7[[#This Row],['[m']2]],Tabelle7[[#This Row],['[m']3]])","v":{"v":0.024359666043942293,"d":"2.44E-02"}},null,null,{"$f":"IF(Tabelle7[[#This Row],['[-']2]]>0,Tabelle7[[#This Row],['[-']2]]*(Tabelle7[[#This Row],['[kg/m^3']]]/2)*Tabelle7[[#This Row],['[m/s']]]^2,Druckverlust(Tabelle7[[#This Row],[Spalte1]],C13,U13,V13,P13,L13,O13,J13,K13,Q13,D13,E13))","v":{"v":44324.463282709614,"d":"44324.46"}},0.44324463282709614,{"v":18.686635360652378,"d":"18.69"},{"v":18.243390727825282,"d":"18.24"},{"v":44324.463282709614,"d":"44324.46"},{"$f":"SUM($AB$10:AB13)","v":{"v":175660.92721747168,"d":"175660.93"}}]
[null,"90°Winkel","Rohr",null,0.019,{"v":4e-05,"d":"4.00E-05"},141.12,0.0392,{"v":0.030251344936799873,"d":"3.03E-02"},1824339.0727825284,338,{"$f":"Dichte(K14,J14)","v":{"v":1.2958101559416735,"d":"1.29581"}},{"$f":"VLOOKUP(J14*0.00001,'Datenbak Werte'!$A$1:$B$500,2,TRUE)*0.000001","v":{"v":9.7148999999999991E-6,"d":"9.71E-06"}},{"v":7.4971630338397214E-6,"d":"7.50E-06"},{"v":0.08988,"d":"8.99E-02"},{"$f":"Tabelle7[[#This Row],['[kg/h']]]/Tabelle7[[#This Row],['[kg/m^3']4]]","v":{"v":1570.0934579439252,"d":"1570.09"}},{"v":106.69586885029763,"d":"106.70"},{"$f":"Tabelle7[[#This Row],['[m/s']]]/VLOOKUP(J14*0.00001,'Datenbak Werte'!$A$1:$C$500,3,TRUE)","v":{"v":0.07555829534048412,"d":"0.08"}},{"v":270398.4826000776,"d":"2.7040E+05"},{"v":2.1052631578947372E-3,"d":"2.1E-03"},{"$f":"Rohrreibungszahl(Tabelle7[[#This Row],['[-']]],Tabelle7[[#This Row],['[-']4]],Tabelle7[[#This Row],['[-']3]],Tabelle7[[#This Row],['[m']2]],Tabelle7[[#This Row],['[m']3]])","v":{"v":0.024359666043942293,"d":"2.44E-02"}},null,0.15,{"$f":"IF(Tabelle7[[#This Row],['[-']2]]>0,Tabelle7[[#This Row],['[-']2]]*(Tabelle7[[#This Row],['[kg/m^3']]]/2)*Tabelle7[[#This Row],['[m/s']]]^2,Druckverlust(Tabelle7[[#This Row],[Spalte1]],C14,U14,V14,P14,L14,O14,J14,K14,Q14,D14,E14))","v":{"v":1106.3635303917513,"d":"1106.36"}},0.011063635303917513,{"v":18.243390727825282,"d":"18.24"},{"v":18.232327092521366,"d":"18.23"},{"v":1106.3635303917513,"d":"1106.36"},{"$f":"SUM($AB$10:AB14)","v":{"v":176767.29074786342,"d":"176767.29"}}]
[null,"Rohr ","Rohr",3,0.019,{"v":4e-05,"d":"4.00E-05"},141.12,0.0392,{"v":0.030269521847489166,"d":"3.03E-02"},1823232.7092521365,338,{"$f":"Dichte(K15,J15)","v":{"v":1.2950320192537699,"d":"1.29503"}},{"$f":"VLOOKUP(J15*0.00001,'Datenbak Werte'!$A$1:$B$500,2,TRUE)*0.000001","v":{"v":9.7148999999999991E-6,"d":"9.71E-06"}},{"v":7.5016678009227676E-6,"d":"7.50E-06"},{"v":0.08988,"d":"8.99E-02"},{"$f":"Tabelle7[[#This Row],['[kg/h']]]/Tabelle7[[#This Row],['[kg/m^3']4]]","v":{"v":1570.0934579439252,"d":"1570.09"}},{"v":106.75997843891462,"d":"106.76"},{"$f":"Tabelle7[[#This Row],['[m/s']]]/VLOOKUP(J15*0.00001,'Datenbak Werte'!$A$1:$C$500,3,TRUE)","v":{"v":0.07560369551654601,"d":"0.08"}},{"v":270398.48260007764,"d":"2.7040E+05"},{"v":2.1052631578947372E-3,"d":"2.1E-03"},{"$f":"Rohrreibungszahl(Tabelle7[[#This Row],['[-']]],Tabelle7[[#This Row],['[-']4]],Tabelle7[[#This Row],['[-']3]],Tabelle7[[#This Row],['[m']2]],Tabelle7[[#This Row],['[m']3]])","v":{"v":0.024359666043942293,"d":"2.44E-02"}},null,null,{"$f":"IF(Tabelle7[[#This Row],['[-']2]]>0,Tabelle7[[#This Row],['[-']2]]*(Tabelle7[[#This Row],['[kg/m^3']]]/2)*Tabelle7[[#This Row],['[m/s']]]^2,Druckverlust(Tabelle7[[#This Row],[Spalte1]],C15,U15,V15,P15,L15,O15,J15,K15,Q15,D15,E15))","v":{"v":28386.147122932292,"d":"28386.15"}},0.2838614712293229,{"v":18.232327092521366,"d":"18.23"},{"v":17.948465621292044,"d":"17.95"},{"v":28386.147122932292,"d":"28386.15"},{"$f":"SUM($AB$10:AB15)","v":{"v":205153.43787079572,"d":"205153.44"}}]
[null,"90°Winkel","Rohr",null,0.019,{"v":4e-05,"d":"4.00E-05"},141.12,0.0392,{"v":0.030743553157104385,"d":"3.07E-02"},1794846.5621292044,338,{"$f":"Dichte(K16,J16)","v":{"v":1.2750640695199362,"d":"1.27506"}},{"$f":"VLOOKUP(J16*0.00001,'Datenbak Werte'!$A$1:$B$500,2,TRUE)*0.000001","v":{"v":9.7143e-06,"d":"9.71E-06"}},{"v":7.6186759804606912E-6,"d":"7.62E-06"},{"v":0.08988,"d":"8.99E-02"},{"$f":"Tabelle7[[#This Row],['[kg/h']]]/Tabelle7[[#This Row],['[kg/m^3']4]]","v":{"v":1570.0934579439252,"d":"1570.09"}},{"v":108.43187707837359,"d":"108.43"},{"$f":"Tabelle7[[#This Row],['[m/s']]]/VLOOKUP(J16*0.00001,'Datenbak Werte'!$A$1:$C$500,3,TRUE)","v":{"v":0.07683120320156847,"d":"0.08"}},{"v":270415.18365826603,"d":"2.7042E+05"},{"v":2.1052631578947372E-3,"d":"2.1E-03"},{"$f":"Rohrreibungszahl(Tabelle7[[#This Row],['[-']]],Tabelle7[[#This Row],['[-']4]],Tabelle7[[#This Row],['[-']3]],Tabelle7[[#This Row],['[m']2]],Tabelle7[[#This Row],['[m']3]])","v":{"v":0.0243596277693807,"d":"2.44E-02"}},null,0.15,{"$f":"IF(Tabelle7[[#This Row],['[-']2]]>0,Tabelle7[[#This Row],['[-']2]]*(Tabelle7[[#This Row],['[kg/m^3']]]/2)*Tabelle7[[#This Row],['[m/s']]]^2,Druckverlust(Tabelle7[[#This Row],[Spalte1]],C16,U16,V16,P16,L16,O16,J16,K16,Q16,D16,E16))","v":{"v":1124.3647539883095,"d":"1124.36"}},0.011243647539883096,{"v":17.948465621292044,"d":"17.95"},{"v":17.937221973752163,"d":"17.94"},{"v":1124.3647539883095,"d":"1124.36"},{"$f":"SUM($AB$10:AB16)","v":{"v":206277.80262478403,"d":"206277.80"}}]
[null,"Rohr (Durchführung FRP)","Rohr",1.6,0.019,{"v":4e-05,"d":"4.00E-05"},141.12,0.0392,{"v":0.030762638274863623,"d":"3.08E-02"},1793722.1973752163,338,{"$f":"Dichte(K17,J17)","v":{"v":1.2742730207256185,"d":"1.27427"}},{"$f":"VLOOKUP(J17*0.00001,'Datenbak Werte'!$A$1:$B$500,2,TRUE)*0.000001","v":{"v":9.7143e-06,"d":"9.71E-06"}},{"v":7.6234055355486656E-6,"d":"7.62E-06"},{"v":0.08988,"d":"8.99E-02"},{"$f":"Tabelle7[[#This Row],['[kg/h']]]/Tabelle7[[#This Row],['[kg/m^3']4]]","v":{"v":1570.0934579439252,"d":"1570.09"}},{"v":108.49918989457021,"d":"108.50"},{"$f":"Tabelle7[[#This Row],['[m/s']]]/VLOOKUP(J17*0.00001,'Datenbak Werte'!$A$1:$C$500,3,TRUE)","v":{"v":0.07687889881284646,"d":"0.08"}},{"v":270415.183658266,"d":"2.7042E+05"},{"v":2.1052631578947372E-3,"d":"2.1E-03"},{"$f":"Rohrreibungszahl(Tabelle7[[#This Row],['[-']]],Tabelle7[[#This Row],['[-']4]],Tabelle7[[#This Row],['[-']3]],Tabelle7[[#This Row],['[m']2]],Tabelle7[[#This Row],['[m']3]])","v":{"v":0.0243596277693807,"d":"2.44E-02"}},null,null,{"$f":"IF(Tabelle7[[#This Row],['[-']2]]>0,Tabelle7[[#This Row],['[-']2]]*(Tabelle7[[#This Row],['[kg/m^3']]]/2)*Tabelle7[[#This Row],['[m/s']]]^2,Druckverlust(Tabelle7[[#This Row],[Spalte1]],C17,U17,V17,P17,L17,O17,J17,K17,Q17,D17,E17))","v":{"v":15385.88609911973,"d":"15385.89"}},0.1538588609911973,{"v":17.937221973752163,"d":"17.94"},{"v":17.783363112760966,"d":"17.78"},{"v":15385.88609911973,"d":"15385.89"},{"$f":"SUM($AB$10:AB17)","v":{"v":221663.68872390376,"d":"221663.69"}}]
[null,"Filter","Ventil",null,0.019,{"v":4e-05,"d":"4.00E-05"},141.12,0.0392,{"v":0.03102622505957519,"d":"3.10E-02"},1778336.3112760966,338,{"$f":"Dichte(K18,J18)","v":{"v":1.2634472909524084,"d":"1.26345"}},{"$f":"VLOOKUP(J18*0.00001,'Datenbak Werte'!$A$1:$B$500,2,TRUE)*0.000001","v":{"v":9.7143e-06,"d":"9.71E-06"}},{"v":7.6887259718426335E-6,"d":"7.69E-06"},{"v":0.08988,"d":"8.99E-02"},{"$f":"Tabelle7[[#This Row],['[kg/h']]]/Tabelle7[[#This Row],['[kg/m^3']4]]","v":{"v":1570.0934579439252,"d":"1570.09"}},{"v":109.42885504073189,"d":"109.43"},{"$f":"Tabelle7[[#This Row],['[m/s']]]/VLOOKUP(J18*0.00001,'Datenbak Werte'!$A$1:$C$500,3,TRUE)","v":{"v":0.07753762845655204,"d":"0.08"}},{"v":270415.18365826603,"d":"2.7042E+05"},{"v":2.1052631578947372E-3,"d":"2.1E-03"},{"$f":"Rohrreibungszahl(Tabelle7[[#This Row],['[-']]],Tabelle7[[#This Row],['[-']4]],Tabelle7[[#This Row],['[-']3]],Tabelle7[[#This Row],['[m']2]],Tabelle7[[#This Row],['[m']3]])","v":"Nur bei 'Rohr' benötigt"},4,null,{"$f":"IF(Tabelle7[[#This Row],['[-']2]]>0,Tabelle7[[#This Row],['[-']2]]*(Tabelle7[[#This Row],['[kg/m^3']]]/2)*Tabelle7[[#This Row],['[m/s']]]^2,Druckverlust(Tabelle7[[#This Row],[Spalte1]],C18,U18,V18,P18,L18,O18,J18,K18,Q18,D18,E18))","v":{"v":105936.19302835937,"d":"105936.19"}},1.0593619302835937,{"v":17.783363112760966,"d":"17.78"},{"v":16.724001182477373,"d":"16.72"},{"v":105936.19302835937,"d":"105936.19"},{"$f":"SUM($AB$10:AB18)","v":{"v":327599.8817522631,"d":"327599.88"}}]
[null,"Rückschlag-/Absperrventil","Ventil",null,0.019,{"v":4e-05,"d":"4.00E-05"},141.12,0.0392,{"v":0.03297275439016693,"d":"3.30E-02"},1672400.1182477374,338,{"$f":"Dichte(K19,J19)","v":{"v":1.1888603401507198,"d":"1.18886"}},{"$f":"VLOOKUP(J19*0.00001,'Datenbak Werte'!$A$1:$B$500,2,TRUE)*0.000001","v":{"v":9.7138e-06,"d":"9.71E-06"}},{"v":8.1706821835511116E-6,"d":"8.17E-06"},{"v":0.08988,"d":"8.99E-02"},{"$f":"Tabelle7[[#This Row],['[kg/h']]]/Tabelle7[[#This Row],['[kg/m^3']4]]","v":{"v":1570.0934579439252,"d":"1570.09"}},{"v":116.29422379058305,"d":"116.29"},{"$f":"Tabelle7[[#This Row],['[m/s']]]/VLOOKUP(J19*0.00001,'Datenbak Werte'!$A$1:$C$500,3,TRUE)","v":{"v":0.08244893568988518,"d":"0.08"}},{"v":270429.1027827929,"d":"2.7043E+05"},{"v":2.1052631578947372E-3,"d":"2.1E-03"},{"$f":"Rohrreibungszahl(Tabelle7[[#This Row],['[-']]],Tabelle7[[#This Row],['[-']4]],Tabelle7[[#This Row],['[-']3]],Tabelle7[[#This Row],['[m']2]],Tabelle7[[#This Row],['[m']3]])","v":"Nur bei 'Rohr' benötigt"},4,null,{"$f":"IF(Tabelle7[[#This Row],['[-']2]]>0,Tabelle7[[#This Row],['[-']2]]*(Tabelle7[[#This Row],['[kg/m^3']]]/2)*Tabelle7[[#This Row],['[m/s']]]^2,Druckverlust(Tabelle7[[#This Row],[Spalte1]],C19,U19,V19,P19,L19,O19,J19,K19,Q19,D19,E19))","v":{"v":113660.89954051559,"d":"113660.90"}},1.136608995405156,{"v":16.724001182477373,"d":"16.72"},{"v":15.587392187072217,"d":"15.59"},{"v":113660.89954051559,"d":"113660.90"},{"$f":"SUM($AB$10:AB19)","v":{"v":441260.7812927787,"d":"441260.78"}}]
[null,"T-Stück (Eingang Sammelrohr) ","Rohr",null,0.019,{"v":4e-05,"d":"4.00E-05"},141.12,0.0392,{"v":0.03535545174001689,"d":"3.54E-02"},1558739.2187072216,338,{"$f":"Dichte(K20,J20)","v":{"v":1.1087398992453454,"d":"1.10874"}},{"$f":"VLOOKUP(J20*0.00001,'Datenbak Werte'!$A$1:$B$500,2,TRUE)*0.000001","v":{"v":9.7133e-06,"d":"9.71E-06"}},{"v":8.7606660557731141E-6,"d":"8.76E-06"},{"v":0.08988,"d":"8.99E-02"},{"$f":"Tabelle7[[#This Row],['[kg/h']]]/Tabelle7[[#This Row],['[kg/m^3']4]]","v":{"v":1570.0934579439252,"d":"1570.09"}},{"v":124.6979481367455,"d":"124.70"},{"$f":"Tabelle7[[#This Row],['[m/s']]]/VLOOKUP(J20*0.00001,'Datenbak Werte'!$A$1:$C$500,3,TRUE)","v":{"v":0.08845708174558096,"d":"0.09"}},{"v":270443.0233403162,"d":"2.7044E+05"},{"v":2.1052631578947372E-3,"d":"2.1E-03"},{"$f":"Rohrreibungszahl(Tabelle7[[#This Row],['[-']]],Tabelle7[[#This Row],['[-']4]],Tabelle7[[#This Row],['[-']3]],Tabelle7[[#This Row],['[m']2]],Tabelle7[[#This Row],['[m']3]])","v":{"v":0.024359563978024894,"d":"2.44E-02"}},null,0.9,{"$f":"IF(Tabelle7[[#This Row],['[-']2]]>0,Tabelle7[[#This Row],['[-']2]]*(Tabelle7[[#This Row],['[kg/m^3']]]/2)*Tabelle7[[#This Row],['[m/s']]]^2,Druckverlust(Tabelle7[[#This Row],[Spalte1]],C20,U20,V20,P20,L20,O20,J20,K20,Q20,D20,E20))","v":{"v":7758.197029732089,"d":"7758.20"}},0.07758197029732089,{"v":15.587392187072215,"d":"15.59"},{"v":15.509810216774895,"d":"15.51"},{"v":7758.197029732089,"d":"7758.20"},{"$f":"SUM($AB$10:AB20)","v":{"v":449018.9783225108,"d":"449018.98"}}]
[null,"Sammelrohr","Rohr",0.2,0.019,{"v":4e-05,"d":"4.00E-05"},141.12,0.0392,{"v":0.035530820679953265,"d":"3.55E-02"},1550981.0216774894,338,{"$f":"Dichte(K21,J21)","v":{"v":1.1032675083161507,"d":"1.10327"}},{"$f":"VLOOKUP(J21*0.00001,'Datenbak Werte'!$A$1:$B$500,2,TRUE)*0.000001","v":{"v":9.7133e-06,"d":"9.71E-06"}},{"v":8.8041204211885228E-6,"d":"8.80E-06"},{"v":0.08988,"d":"8.99E-02"},{"$f":"Tabelle7[[#This Row],['[kg/h']]]/Tabelle7[[#This Row],['[kg/m^3']4]]","v":{"v":1570.0934579439252,"d":"1570.09"}},{"v":125.3164707662338,"d":"125.32"},{"$f":"Tabelle7[[#This Row],['[m/s']]]/VLOOKUP(J21*0.00001,'Datenbak Werte'!$A$1:$C$500,3,TRUE)","v":{"v":0.08889584363072554,"d":"0.09"}},{"v":270443.0233403162,"d":"2.7044E+05"},{"v":2.1052631578947372E-3,"d":"2.1E-03"},{"$f":"Rohrreibungszahl(Tabelle7[[#This Row],['[-']]],Tabelle7[[#This Row],['[-']4]],Tabelle7[[#This Row],['[-']3]],Tabelle7[[#This Row],['[m']2]],Tabelle7[[#This Row],['[m']3]])","v":{"v":0.024359563978024894,"d":"2.44E-02"}},null,null,{"$f":"IF(Tabelle7[[#This Row],['[-']2]]>0,Tabelle7[[#This Row],['[-']2]]*(Tabelle7[[#This Row],['[kg/m^3']]]/2)*Tabelle7[[#This Row],['[m/s']]]^2,Druckverlust(Tabelle7[[#This Row],[Spalte1]],C21,U21,V21,P21,L21,O21,J21,K21,Q21,D21,E21))","v":{"v":2221.329830014016,"d":"2221.33"}},0.02221329830014016,{"v":15.509810216774895,"d":"15.51"},{"v":15.487596918474754,"d":"15.49"},{"v":2221.329830014016,"d":"2221.33"},{"$f":"SUM($AB$10:AB21)","v":{"v":451240.3081525248,"d":"451240.31"}}]
[null,"T-Stück (zum TC)","Rohr",null,0.019,{"v":4e-05,"d":"4.00E-05"},141.12,0.0392,{"v":0.035581355924953505,"d":"3.56E-02"},1548759.6918474755,338,{"$f":"Dichte(K22,J22)","v":{"v":1.1017005670800957,"d":"1.10170"}},{"$f":"VLOOKUP(J22*0.00001,'Datenbak Werte'!$A$1:$B$500,2,TRUE)*0.000001","v":{"v":9.7133e-06,"d":"9.71E-06"}},{"v":8.8166424618839519E-6,"d":"8.82E-06"},{"v":0.08988,"d":"8.99E-02"},{"$f":"Tabelle7[[#This Row],['[kg/h']]]/Tabelle7[[#This Row],['[kg/m^3']4]]","v":{"v":1570.0934579439252,"d":"1570.09"}},{"v":125.49470753171077,"d":"125.49"},{"$f":"Tabelle7[[#This Row],['[m/s']]]/VLOOKUP(J22*0.00001,'Datenbak Werte'!$A$1:$C$500,3,TRUE)","v":{"v":0.0890222795855223,"d":"0.09"}},{"v":270443.0233403162,"d":"2.7044E+05"},{"v":2.1052631578947372E-3,"d":"2.1E-03"},{"$f":"Rohrreibungszahl(Tabelle7[[#This Row],['[-']]],Tabelle7[[#This Row],['[-']4]],Tabelle7[[#This Row],['[-']3]],Tabelle7[[#This Row],['[m']2]],Tabelle7[[#This Row],['[m']3]])","v":{"v":0.024359563978024894,"d":"2.44E-02"}},null,0.05,{"$f":"IF(Tabelle7[[#This Row],['[-']2]]>0,Tabelle7[[#This Row],['[-']2]]*(Tabelle7[[#This Row],['[kg/m^3']]]/2)*Tabelle7[[#This Row],['[m/s']]]^2,Druckverlust(Tabelle7[[#This Row],[Spalte1]],C22,U22,V22,P22,L22,O22,J22,K22,Q22,D22,E22))","v":{"v":433.7648969491991,"d":"433.76"}},0.004337648969491991,{"v":15.487596918474754,"d":"15.49"},{"v":15.483259269505261,"d":"15.48"},{"v":433.7648969491991,"d":"433.76"},{"$f":"SUM($AB$10:AB22)","v":{"v":451674.073049474,"d":"451674.07"}}]
[null,"Sammelrohr","Rohr",0.1,0.019,{"v":4e-05,"d":"4.00E-05"},141.12,0.0392,{"v":0.035591240996915935,"d":"3.56E-02"},1548325.9269505262,338,{"$f":"Dichte(K23,J23)","v":{"v":1.1013945819814703,"d":"1.10139"}},{"$f":"VLOOKUP(J23*0.00001,'Datenbak Werte'!$A$1:$B$500,2,TRUE)*0.000001","v":{"v":9.7133e-06,"d":"9.71E-06"}},{"v":8.81909186671795e-06,"d":"8.82E-06"},{"v":0.08988,"d":"8.99E-02"},{"$f":"Tabelle7[[#This Row],['[kg/h']]]/Tabelle7[[#This Row],['[kg/m^3']4]]","v":{"v":1570.0934579439252,"d":"1570.09"}},{"v":125.5295719763787,"d":"125.53"},{"$f":"Tabelle7[[#This Row],['[m/s']]]/VLOOKUP(J23*0.00001,'Datenbak Werte'!$A$1:$C$500,3,TRUE)","v":{"v":0.08904701140411343,"d":"0.09"}},{"v":270443.0233403162,"d":"2.7044E+05"},{"v":2.1052631578947372E-3,"d":"2.1E-03"},{"$f":"Rohrreibungszahl(Tabelle7[[#This Row],['[-']]],Tabelle7[[#This Row],['[-']4]],Tabelle7[[#This Row],['[-']3]],Tabelle7[[#This Row],['[m']2]],Tabelle7[[#This Row],['[m']3]])","v":{"v":0.024359563978024894,"d":"2.44E-02"}},null,null,{"$f":"IF(Tabelle7[[#This Row],['[-']2]]>0,Tabelle7[[#This Row],['[-']2]]*(Tabelle7[[#This Row],['[kg/m^3']]]/2)*Tabelle7[[#This Row],['[m/s']]]^2,Druckverlust(Tabelle7[[#This Row],[Spalte1]],C23,U23,V23,P23,L23,O23,J23,K23,Q23,D23,E23))","v":{"v":1112.5536055838036,"d":"1112.55"}},0.011125536055838036,{"$f":"J23/10^5","v":{"v":15.483259269505261,"d":"15.48"}},{"$f":"Z23-Y23","v":{"v":15.472133733449423,"d":"15.47"}},{"$f":"X23","v":{"v":1112.5536055838036,"d":"1112.55"}},{"$f":"SUM($AB$10:AB23)","v":{"v":452786.6266550578,"d":"452786.63"}}]
[null,"T-Stück (Ausgang Sammelrohr)","Rohr",null,0.019,{"v":4e-05,"d":"4.00E-05"},141.12,0.0392,{"v":0.03561662033018423,"d":"3.56E-02"},1547213.3733449422,338,{"$f":"Dichte(K24,J24)","v":{"v":1.1006097613023362,"d":"1.10061"}},{"$f":"VLOOKUP(J24*0.00001,'Datenbak Werte'!$A$1:$B$500,2,TRUE)*0.000001","v":{"v":9.7133e-06,"d":"9.71E-06"}},{"v":8.825380567683125E-6,"d":"8.83E-06"},{"v":0.08988,"d":"8.99E-02"},{"$f":"Tabelle7[[#This Row],['[kg/h']]]/Tabelle7[[#This Row],['[kg/m^3']4]]","v":{"v":1570.0934579439252,"d":"1570.09"}},{"v":125.6190843606895,"d":"125.62"},{"$f":"Tabelle7[[#This Row],['[m/s']]]/VLOOKUP(J24*0.00001,'Datenbak Werte'!$A$1:$C$500,3,TRUE)","v":{"v":0.08911050887471766,"d":"0.09"}},{"v":270443.0233403162,"d":"2.7044E+05"},{"v":2.1052631578947372E-3,"d":"2.1E-03"},{"$f":"Rohrreibungszahl(Tabelle7[[#This Row],['[-']]],Tabelle7[[#This Row],['[-']4]],Tabelle7[[#This Row],['[-']3]],Tabelle7[[#This Row],['[m']2]],Tabelle7[[#This Row],['[m']3]])","v":{"v":0.024359563978024894,"d":"2.44E-02"}},null,0.05,{"$f":"IF(Tabelle7[[#This Row],['[-']2]]>0,Tabelle7[[#This Row],['[-']2]]*(Tabelle7[[#This Row],['[kg/m^3']]]/2)*Tabelle7[[#This Row],['[m/s']]]^2,Druckverlust(Tabelle7[[#This Row],[Spalte1]],C24,U24,V24,P24,L24,O24,J24,K24,Q24,D24,E24))","v":{"v":434.19479796626945,"d":"434.19"}},0.004341947979662694,{"$f":"J24/10^5","v":{"v":15.472133733449422,"d":"15.47"}},{"$f":"Z24-Y24","v":{"v":15.467791785469759,"d":"15.47"}},{"$f":"X24","v":{"v":434.19479796626945,"d":"434.19"}},{"$f":"SUM($AB$10:AB24)","v":{"v":453220.82145302405,"d":"453220.82"}}]
[null,"Sammelrohr","Rohr",0.1,0.019,{"v":4e-05,"d":"4.00E-05"},141.12,0.0392,{"v":0.03562653499307846,"d":"3.56E-02"},1546779.1785469758,338,{"$f":"Dichte(K25,J25)","v":{"v":1.1003034678397938,"d":"1.10030"}},{"$f":"VLOOKUP(J25*0.00001,'Datenbak Werte'!$A$1:$B$500,2,TRUE)*0.000001","v":{"v":9.7133e-06,"d":"9.71E-06"}},{"v":8.8278373048027833E-6,"d":"8.83E-06"},{"v":0.08988,"d":"8.99E-02"},{"$f":"Tabelle7[[#This Row],['[kg/h']]]/Tabelle7[[#This Row],['[kg/m^3']4]]","v":{"v":1570.0934579439252,"d":"1570.09"}},{"v":125.65405317196279,"d":"125.65"},{"$f":"Tabelle7[[#This Row],['[m/s']]]/VLOOKUP(J25*0.00001,'Datenbak Werte'!$A$1:$C$500,3,TRUE)","v":{"v":0.0891353147279299,"d":"0.09"}},{"v":270443.0233403162,"d":"2.7044E+05"},{"v":2.1052631578947372E-3,"d":"2.1E-03"},{"$f":"Rohrreibungszahl(Tabelle7[[#This Row],['[-']]],Tabelle7[[#This Row],['[-']4]],Tabelle7[[#This Row],['[-']3]],Tabelle7[[#This Row],['[m']2]],Tabelle7[[#This Row],['[m']3]])","v":{"v":0.024359563978024894,"d":"2.44E-02"}},null,null,{"$f":"IF(Tabelle7[[#This Row],['[-']2]]>0,Tabelle7[[#This Row],['[-']2]]*(Tabelle7[[#This Row],['[kg/m^3']]]/2)*Tabelle7[[#This Row],['[m/s']]]^2,Druckverlust(Tabelle7[[#This Row],[Spalte1]],C25,U25,V25,P25,L25,O25,J25,K25,Q25,D25,E25))","v":{"v":1113.6568675546202,"d":"1113.66"}},0.011136568675546202,{"$f":"J25/10^5","v":{"v":15.467791785469759,"d":"15.47"}},{"$f":"Z25-Y25","v":{"v":15.456655216794212,"d":"15.46"}},{"$f":"X25","v":{"v":1113.6568675546202,"d":"1113.66"}},{"$f":"SUM($AB$10:AB25)","v":{"v":454334.4783205787,"d":"454334.48"}}]
[null,"T-Stück (zum TC)","Rohr",null,0.019,{"v":4e-05,"d":"4.00E-05"},141.12,0.0392,{"v":0.035651990364118875,"d":"3.57E-02"},1545665.5216794212,338,{"$f":"Dichte(K26,J26)","v":{"v":1.0995178557955614,"d":"1.09952"}},{"$f":"VLOOKUP(J26*0.00001,'Datenbak Werte'!$A$1:$B$500,2,TRUE)*0.000001","v":{"v":9.7133e-06,"d":"9.71E-06"}},{"v":8.83414484703561e-06,"d":"8.83E-06"},{"v":0.08988,"d":"8.99E-02"},{"$f":"Tabelle7[[#This Row],['[kg/h']]]/Tabelle7[[#This Row],['[kg/m^3']4]]","v":{"v":1570.0934579439252,"d":"1570.09"}},{"v":125.74383373992555,"d":"125.74"},{"$f":"Tabelle7[[#This Row],['[m/s']]]/VLOOKUP(J26*0.00001,'Datenbak Werte'!$A$1:$C$500,3,TRUE)","v":{"v":0.0891990024401827,"d":"0.09"}},{"v":270443.0233403162,"d":"2.7044E+05"},{"v":2.1052631578947372E-3,"d":"2.1E-03"},{"$f":"Rohrreibungszahl(Tabelle7[[#This Row],['[-']]],Tabelle7[[#This Row],['[-']4]],Tabelle7[[#This Row],['[-']3]],Tabelle7[[#This Row],['[m']2]],Tabelle7[[#This Row],['[m']3]])","v":{"v":0.024359563978024894,"d":"2.44E-02"}},null,0.05,{"$f":"IF(Tabelle7[[#This Row],['[-']2]]>0,Tabelle7[[#This Row],['[-']2]]*(Tabelle7[[#This Row],['[kg/m^3']]]/2)*Tabelle7[[#This Row],['[m/s']]]^2,Druckverlust(Tabelle7[[#This Row],[Spalte1]],C26,U26,V26,P26,L26,O26,J26,K26,Q26,D26,E26))","v":{"v":434.6259866808623,"d":"434.63"}},4.346259866808623E-3,{"$f":"J26/10^5","v":{"v":15.456655216794212,"d":"15.46"}},{"$f":"Z26-Y26","v":{"v":15.452308956927403,"d":"15.45"}},{"$f":"X26","v":{"v":434.6259866808623,"d":"434.63"}},{"$f":"SUM($AB$10:AB26)","v":{"v":454769.10430725955,"d":"454769.10"}}]
[null,"Sammelrohr","Rohr",0.2,0.019,{"v":4e-05,"d":"4.00E-05"},141.12,0.0392,{"v":0.03566193476585505,"d":"3.57E-02"},1545230.8956927403,338,{"$f":"Dichte(K27,J27)","v":{"v":1.0992112530454323,"d":"1.09921"}},{"$f":"VLOOKUP(J27*0.00001,'Datenbak Werte'!$A$1:$B$500,2,TRUE)*0.000001","v":{"v":9.7133e-06,"d":"9.71E-06"}},{"v":8.8366089530913245E-6,"d":"8.84E-06"},{"v":0.08988,"d":"8.99E-02"},{"$f":"Tabelle7[[#This Row],['[kg/h']]]/Tabelle7[[#This Row],['[kg/m^3']4]]","v":{"v":1570.0934579439252,"d":"1570.09"}},{"v":125.77890743948022,"d":"125.78"},{"$f":"Tabelle7[[#This Row],['[m/s']]]/VLOOKUP(J27*0.00001,'Datenbak Werte'!$A$1:$C$500,3,TRUE)","v":{"v":0.08922388269807775,"d":"0.09"}},{"v":270443.0233403162,"d":"2.7044E+05"},{"v":2.1052631578947372E-3,"d":"2.1E-03"},{"$f":"Rohrreibungszahl(Tabelle7[[#This Row],['[-']]],Tabelle7[[#This Row],['[-']4]],Tabelle7[[#This Row],['[-']3]],Tabelle7[[#This Row],['[m']2]],Tabelle7[[#This Row],['[m']3]])","v":{"v":0.024359563978024894,"d":"2.44E-02"}},null,null,{"$f":"IF(Tabelle7[[#This Row],['[-']2]]>0,Tabelle7[[#This Row],['[-']2]]*(Tabelle7[[#This Row],['[kg/m^3']]]/2)*Tabelle7[[#This Row],['[m/s']]]^2,Druckverlust(Tabelle7[[#This Row],[Spalte1]],C27,U27,V27,P27,L27,O27,J27,K27,Q27,D27,E27))","v":{"v":2229.5268720348595,"d":"2229.53"}},0.022295268720348593,{"v":15.452308956927403,"d":"15.45"},{"v":15.430013688207055,"d":"15.43"},{"v":2229.5268720348595,"d":"2229.53"},{"$f":"SUM($AB$10:AB27)","v":{"v":456998.63117929443,"d":"456998.63"}}]
[null,"T-Stück (zum TC)","Rohr",null,0.019,{"v":4e-05,"d":"4.00E-05"},141.12,0.0392,{"v":0.035713035236274344,"d":"3.57E-02"},1543001.3688207055,338,{"$f":"Dichte(K28,J28)","v":{"v":1.0976384320362635,"d":"1.09764"}},{"$f":"VLOOKUP(J28*0.00001,'Datenbak Werte'!$A$1:$B$500,2,TRUE)*0.000001","v":{"v":9.7133e-06,"d":"9.71E-06"}},{"v":8.849271050012846E-6,"d":"8.85E-06"},{"v":0.08988,"d":"8.99E-02"},{"$f":"Tabelle7[[#This Row],['[kg/h']]]/Tabelle7[[#This Row],['[kg/m^3']4]]","v":{"v":1570.0934579439252,"d":"1570.09"}},{"v":125.9591377433373,"d":"125.96"},{"$f":"Tabelle7[[#This Row],['[m/s']]]/VLOOKUP(J28*0.00001,'Datenbak Werte'!$A$1:$C$500,3,TRUE)","v":{"v":0.08935173281076633,"d":"0.09"}},{"v":270443.0233403162,"d":"2.7044E+05"},{"v":2.1052631578947372E-3,"d":"2.1E-03"},{"$f":"Rohrreibungszahl(Tabelle7[[#This Row],['[-']]],Tabelle7[[#This Row],['[-']4]],Tabelle7[[#This Row],['[-']3]],Tabelle7[[#This Row],['[m']2]],Tabelle7[[#This Row],['[m']3]])","v":{"v":0.024359563978024894,"d":"2.44E-02"}},null,0.05,{"$f":"IF(Tabelle7[[#This Row],['[-']2]]>0,Tabelle7[[#This Row],['[-']2]]*(Tabelle7[[#This Row],['[kg/m^3']]]/2)*Tabelle7[[#This Row],['[m/s']]]^2,Druckverlust(Tabelle7[[#This Row],[Spalte1]],C28,U28,V28,P28,L28,O28,J28,K28,Q28,D28,E28))","v":{"v":435.3701719990283,"d":"435.37"}},0.004353701719990283,{"$f":"J28/10^5","v":{"v":15.430013688207055,"d":"15.43"}},{"$f":"Z28-Y28","v":{"v":15.425659986487064,"d":"15.43"}},{"$f":"X28","v":{"v":435.3701719990283,"d":"435.37"}},{"$f":"SUM($AB$10:AB28)","v":{"v":457434.00135129347,"d":"457434.00"}}]
[null,"Sammelrohr","Rohr",0.2,0.019,{"v":4e-05,"d":"4.00E-05"},141.12,0.0392,{"v":0.03572303110386654,"d":"3.57E-02"},1542565.9986487064,338,{"$f":"Dichte(K29,J29)","v":{"v":1.097331295489008,"d":"1.09733"}},{"$f":"VLOOKUP(J29*0.00001,'Datenbak Werte'!$A$1:$B$500,2,TRUE)*0.000001","v":{"v":9.7133e-06,"d":"9.71E-06"}},{"v":8.851747908703748E-6,"d":"8.85E-06"},{"v":0.08988,"d":"8.99E-02"},{"$f":"Tabelle7[[#This Row],['[kg/h']]]/Tabelle7[[#This Row],['[kg/m^3']4]]","v":{"v":1570.0934579439252,"d":"1570.09"}},{"v":125.9943929619033,"d":"125.99"},{"$f":"Tabelle7[[#This Row],['[m/s']]]/VLOOKUP(J29*0.00001,'Datenbak Werte'!$A$1:$C$500,3,TRUE)","v":{"v":0.08937674183294551,"d":"0.09"}},{"v":270443.0233403162,"d":"2.7044E+05"},{"v":2.1052631578947372E-3,"d":"2.1E-03"},{"$f":"Rohrreibungszahl(Tabelle7[[#This Row],['[-']]],Tabelle7[[#This Row],['[-']4]],Tabelle7[[#This Row],['[-']3]],Tabelle7[[#This Row],['[m']2]],Tabelle7[[#This Row],['[m']3]])","v":{"v":0.024359563978024894,"d":"2.44E-02"}},null,null,{"$f":"IF(Tabelle7[[#This Row],['[-']2]]>0,Tabelle7[[#This Row],['[-']2]]*(Tabelle7[[#This Row],['[kg/m^3']]]/2)*Tabelle7[[#This Row],['[m/s']]]^2,Druckverlust(Tabelle7[[#This Row],[Spalte1]],C29,U29,V29,P29,L29,O29,J29,K29,Q29,D29,E29))","v":{"v":2233.3465169384212,"d":"2233.35"}},0.022333465169384212,{"$f":"J29/10^5","v":{"v":15.425659986487064,"d":"15.43"}},{"$f":"Z29-Y29","v":{"v":15.40332652131768,"d":"15.40"}},{"$f":"X29","v":{"v":2233.3465169384212,"d":"2233.35"}},{"$f":"SUM($AB$10:AB29)","v":{"v":459667.3478682319,"d":"459667.35"}}]
[null,"90°Winkel FÜR-Connect (Ausgang Sammelrohr)","Rohr",null,0.019,{"v":4e-05,"d":"4.00E-05"},141.12,0.0392,{"v":0.03577439639243399,"d":"3.58E-02"},1540332.652131768,338,{"$f":"Dichte(K30,J30)","v":{"v":1.0957557346317799,"d":"1.09576"}},{"$f":"VLOOKUP(J30*0.00001,'Datenbak Werte'!$A$1:$B$500,2,TRUE)*0.000001","v":{"v":9.7133e-06,"d":"9.71E-06"}},{"v":8.8644756244548229E-6,"d":"8.86E-06"},{"v":0.08988,"d":"8.99E-02"},{"$f":"Tabelle7[[#This Row],['[kg/h']]]/Tabelle7[[#This Row],['[kg/m^3']4]]","v":{"v":1570.0934579439252,"d":"1570.09"}},{"v":126.1755572739,"d":"126.18"},{"$f":"Tabelle7[[#This Row],['[m/s']]]/VLOOKUP(J30*0.00001,'Datenbak Werte'!$A$1:$C$500,3,TRUE)","v":{"v":0.0895052545037242,"d":"0.09"}},{"v":270443.0233403162,"d":"2.7044E+05"},{"v":2.1052631578947372E-3,"d":"2.1E-03"},{"$f":"Rohrreibungszahl(Tabelle7[[#This Row],['[-']]],Tabelle7[[#This Row],['[-']4]],Tabelle7[[#This Row],['[-']3]],Tabelle7[[#This Row],['[m']2]],Tabelle7[[#This Row],['[m']3]])","v":{"v":0.024359563978024894,"d":"2.44E-02"}},null,0.15,{"$f":"IF(Tabelle7[[#This Row],['[-']2]]>0,Tabelle7[[#This Row],['[-']2]]*(Tabelle7[[#This Row],['[kg/m^3']]]/2)*Tabelle7[[#This Row],['[m/s']]]^2,Druckverlust(Tabelle7[[#This Row],[Spalte1]],C30,U30,V30,P30,L30,O30,J30,K30,Q30,D30,E30))","v":{"v":1308.3546392087812,"d":"1308.35"}},0.013083546392087812,{"v":15.403326521317679,"d":"15.40"},{"v":15.390242974925592,"d":"15.39"},{"v":1308.3546392087812,"d":"1308.35"},{"$f":"SUM($AB$10:AB30)","v":{"v":460975.70250744064,"d":"460975.70"}}]
[null,"Absperrventil (FPR-Connect)","Ventil",null,0.019,{"v":4e-05,"d":"4.00E-05"},141.12,0.0392,{"v":0.035804556812613075,"d":"3.58E-02"},1539024.297492559,338,{"$f":"Dichte(K31,J31)","v":{"v":1.0948327109635048,"d":"1.09483"}},{"$f":"VLOOKUP(J31*0.00001,'Datenbak Werte'!$A$1:$B$500,2,TRUE)*0.000001","v":{"v":9.7133e-06,"d":"9.71E-06"}},{"v":8.8719490226519035E-6,"d":"8.87E-06"},{"v":0.08988,"d":"8.99E-02"},{"$f":"Tabelle7[[#This Row],['[kg/h']]]/Tabelle7[[#This Row],['[kg/m^3']4]]","v":{"v":1570.0934579439252,"d":"1570.09"}},{"v":126.28193245300761,"d":"126.28"},{"$f":"Tabelle7[[#This Row],['[m/s']]]/VLOOKUP(J31*0.00001,'Datenbak Werte'!$A$1:$C$500,3,TRUE)","v":{"v":0.0895807139483632,"d":"0.09"}},{"v":270443.0233403162,"d":"2.7044E+05"},{"v":2.1052631578947372E-3,"d":"2.1E-03"},{"$f":"Rohrreibungszahl(Tabelle7[[#This Row],['[-']]],Tabelle7[[#This Row],['[-']4]],Tabelle7[[#This Row],['[-']3]],Tabelle7[[#This Row],['[m']2]],Tabelle7[[#This Row],['[m']3]])","v":"Nur bei 'Rohr' benötigt"},4,null,{"$f":"IF(Tabelle7[[#This Row],['[-']2]]>0,Tabelle7[[#This Row],['[-']2]]*(Tabelle7[[#This Row],['[kg/m^3']]]/2)*Tabelle7[[#This Row],['[m/s']]]^2,Druckverlust(Tabelle7[[#This Row],[Spalte1]],C31,U31,V31,P31,L31,O31,J31,K31,Q31,D31,E31))","v":{"v":125321.76902862733,"d":"125321.77"}},1.2532176902862733,{"$f":"J31/10^5","v":{"v":15.39024297492559,"d":"15.39"}},{"$f":"Z31-Y31","v":{"v":14.137025284639316,"d":"14.14"}},{"$f":"X31","v":{"v":125321.76902862733,"d":"125321.77"}},{"$f":"SUM($AB$10:AB31)","v":{"v":586297.471536068,"d":"586297.47"}}]
[null,"Filter ","Ventil",null,0.019,{"v":4e-05,"d":"4.00E-05"},141.12,0.0392,{"v":0.03895227079750435,"d":"3.90E-02"},1413702.5284639315,338,{"$f":"Dichte(K32,J32)","v":{"v":1.006359814137242,"d":"1.00636"}},{"$f":"VLOOKUP(J32*0.00001,'Datenbak Werte'!$A$1:$B$500,2,TRUE)*0.000001","v":{"v":9.7128e-06,"d":"9.71E-06"}},{"v":9.65141877045919e-06,"d":"9.65E-06"},{"v":0.08988,"d":"8.99E-02"},{"$f":"Tabelle7[[#This Row],['[kg/h']]]/Tabelle7[[#This Row],['[kg/m^3']4]]","v":{"v":1570.0934579439252,"d":"1570.09"}},{"v":137.3838546720643,"d":"137.38"},{"$f":"Tabelle7[[#This Row],['[m/s']]]/VLOOKUP(J32*0.00001,'Datenbak Werte'!$A$1:$C$500,3,TRUE)","v":{"v":0.09751143067078166,"d":"0.10"}},{"v":270456.9453310573,"d":"2.7046E+05"},{"v":2.1052631578947372E-3,"d":"2.1E-03"},{"$f":"Rohrreibungszahl(Tabelle7[[#This Row],['[-']]],Tabelle7[[#This Row],['[-']4]],Tabelle7[[#This Row],['[-']3]],Tabelle7[[#This Row],['[m']2]],Tabelle7[[#This Row],['[m']3]])","v":"Nur bei 'Rohr' benötigt"},4,null,{"$f":"IF(Tabelle7[[#This Row],['[-']2]]>0,Tabelle7[[#This Row],['[-']2]]*(Tabelle7[[#This Row],['[kg/m^3']]]/2)*Tabelle7[[#This Row],['[m/s']]]^2,Druckverlust(Tabelle7[[#This Row],[Spalte1]],C32,U32,V32,P32,L32,O32,J32,K32,Q32,D32,E32))","v":{"v":138985.95625921682,"d":"138985.96"}},1.3898595625921681,{"v":14.137025284639316,"d":"14.14"},{"v":12.747165722047148,"d":"12.75"},{"v":138985.95625921682,"d":"138985.96"},{"$f":"SUM($AB$10:AB32)","v":{"v":725283.4277952849,"d":"725283.43"}}]
[null,"Rohr (FPR Druckführung) ","Rohr",0.4,0.019,{"v":4e-05,"d":"4.00E-05"},141.12,0.0392,{"v":0.0431670237085725,"d":"4.32E-02"},1274716.5722047149,338,{"$f":"Dichte(K33,J33)","v":{"v":0.908100596989162,"d":"0.90810"}},{"$f":"VLOOKUP(J33*0.00001,'Datenbak Werte'!$A$1:$B$500,2,TRUE)*0.000001","v":{"v":9.7117999999999991E-6,"d":"9.71E-06"}},{"v":1.0694630123798837E-5,"d":"1.07E-05"},{"v":0.08988,"d":"8.99E-02"},{"$f":"Tabelle7[[#This Row],['[kg/h']]]/Tabelle7[[#This Row],['[kg/m^3']4]]","v":{"v":1570.0934579439252,"d":"1570.09"}},{"v":152.24920114757572,"d":"152.25"},{"$f":"Tabelle7[[#This Row],['[m/s']]]/VLOOKUP(J33*0.00001,'Datenbak Werte'!$A$1:$C$500,3,TRUE)","v":{"v":0.10818532022139965,"d":"0.11"}},{"v":270484.7936130783,"d":"2.7048E+05"},{"v":2.1052631578947372E-3,"d":"2.1E-03"},{"$f":"Rohrreibungszahl(Tabelle7[[#This Row],['[-']]],Tabelle7[[#This Row],['[-']4]],Tabelle7[[#This Row],['[-']3]],Tabelle7[[#This Row],['[m']2]],Tabelle7[[#This Row],['[m']3]])","v":{"v":0.024359468290007232,"d":"2.44E-02"}},null,null,{"$f":"IF(Tabelle7[[#This Row],['[-']2]]>0,Tabelle7[[#This Row],['[-']2]]*(Tabelle7[[#This Row],['[kg/m^3']]]/2)*Tabelle7[[#This Row],['[m/s']]]^2,Druckverlust(Tabelle7[[#This Row],[Spalte1]],C33,U33,V33,P33,L33,O33,J33,K33,Q33,D33,E33))","v":{"v":5397.444750138645,"d":"5397.44"}},0.05397444750138645,{"v":12.747165722047148,"d":"12.75"},{"v":12.693191274545761,"d":"12.69"},{"v":5397.444750138645,"d":"5397.44"},{"$f":"SUM($AB$10:AB33)","v":{"v":730680.8725454236,"d":"730680.87"}}]
[null,"90°Winkel","Rohr",null,0.019,{"v":4e-05,"d":"4.00E-05"},141.12,0.0392,{"v":0.043349319600110126,"d":"4.33E-02"},1269319.127454576,338,{"$f":"Dichte(K34,J34)","v":{"v":0.9042817825426819,"d":"0.90428"}},{"$f":"VLOOKUP(J34*0.00001,'Datenbak Werte'!$A$1:$B$500,2,TRUE)*0.000001","v":{"v":9.7117999999999991E-6,"d":"9.71E-06"}},{"v":1.0739793930927282E-5,"d":"1.07E-05"},{"v":0.08988,"d":"8.99E-02"},{"$f":"Tabelle7[[#This Row],['[kg/h']]]/Tabelle7[[#This Row],['[kg/m^3']4]]","v":{"v":1570.0934579439252,"d":"1570.09"}},{"v":152.89215499230826,"d":"152.89"},{"$f":"Tabelle7[[#This Row],['[m/s']]]/VLOOKUP(J34*0.00001,'Datenbak Werte'!$A$1:$C$500,3,TRUE)","v":{"v":0.1086421907143525,"d":"0.11"}},{"v":270484.7936130783,"d":"2.7048E+05"},{"v":2.1052631578947372E-3,"d":"2.1E-03"},{"$f":"Rohrreibungszahl(Tabelle7[[#This Row],['[-']]],Tabelle7[[#This Row],['[-']4]],Tabelle7[[#This Row],['[-']3]],Tabelle7[[#This Row],['[m']2]],Tabelle7[[#This Row],['[m']3]])","v":{"v":0.024359468290007232,"d":"2.44E-02"}},null,0.15,{"$f":"IF(Tabelle7[[#This Row],['[-']2]]>0,Tabelle7[[#This Row],['[-']2]]*(Tabelle7[[#This Row],['[kg/m^3']]]/2)*Tabelle7[[#This Row],['[m/s']]]^2,Druckverlust(Tabelle7[[#This Row],[Spalte1]],C34,U34,V34,P34,L34,O34,J34,K34,Q34,D34,E34))","v":{"v":1585.3875711329488,"d":"1585.39"}},0.01585387571132949,{"v":12.693191274545761,"d":"12.69"},{"v":12.677337398834432,"d":"12.68"},{"v":1585.3875711329488,"d":"1585.39"},{"$f":"SUM($AB$10:AB34)","v":{"v":732266.2601165565,"d":"732266.26"}}]
[null,"Rohr (nach unten 2,8m)","Rohr",2.8,0.019,{"v":4e-05,"d":"4.00E-05"},141.12,0.0392,{"v":0.04340316017884476,"d":"4.34E-02"},1267733.739883443,338,{"$f":"Dichte(K35,J35)","v":{"v":0.9031600426898538,"d":"0.90316"}},{"$f":"VLOOKUP(J35*0.00001,'Datenbak Werte'!$A$1:$B$500,2,TRUE)*0.000001","v":{"v":9.7117999999999991E-6,"d":"9.71E-06"}},{"v":1.0753132934308789E-5,"d":"1.08E-05"},{"v":0.08988,"d":"8.99E-02"},{"$f":"Tabelle7[[#This Row],['[kg/h']]]/Tabelle7[[#This Row],['[kg/m^3']4]]","v":{"v":1570.0934579439252,"d":"1570.09"}},{"v":153.08204960160566,"d":"153.08"},{"$f":"Tabelle7[[#This Row],['[m/s']]]/VLOOKUP(J35*0.00001,'Datenbak Werte'!$A$1:$C$500,3,TRUE)","v":{"v":0.10877712612918757,"d":"0.11"}},{"v":270484.7936130783,"d":"2.7048E+05"},{"v":2.1052631578947372E-3,"d":"2.1E-03"},{"$f":"Rohrreibungszahl(Tabelle7[[#This Row],['[-']]],Tabelle7[[#This Row],['[-']4]],Tabelle7[[#This Row],['[-']3]],Tabelle7[[#This Row],['[m']2]],Tabelle7[[#This Row],['[m']3]])","v":{"v":0.024359468290007232,"d":"2.44E-02"}},null,null,{"$f":"IF(Tabelle7[[#This Row],['[-']2]]>0,Tabelle7[[#This Row],['[-']2]]*(Tabelle7[[#This Row],['[kg/m^3']]]/2)*Tabelle7[[#This Row],['[m/s']]]^2,Druckverlust(Tabelle7[[#This Row],[Spalte1]],C35,U35,V35,P35,L35,O35,J35,K35,Q35,D35,E35))","v":{"v":37988.792657981336,"d":"37988.79"}},0.37988792657981335,{"v":12.677337398834432,"d":"12.68"},{"v":12.297449472254618,"d":"12.30"},{"v":37988.792657981336,"d":"37988.79"},{"$f":"SUM($AB$10:AB35)","v":{"v":770255.0527745378,"d":"770255.05"}}]
[null,"90°Winkel","Rohr",null,0.019,{"v":4e-05,"d":"4.00E-05"},141.12,0.0392,{"v":0.0447347964147018,"d":"4.47E-02"},1229744.9472254617,338,{"$f":"Dichte(K36,J36)","v":{"v":0.8762753637371461,"d":"0.87628"}},{"$f":"VLOOKUP(J36*0.00001,'Datenbak Werte'!$A$1:$B$500,2,TRUE)*0.000001","v":{"v":9.7117999999999991E-6,"d":"9.71E-06"}},{"v":1.108304581174237E-5,"d":"1.11E-05"},{"v":0.08988,"d":"8.99E-02"},{"$f":"Tabelle7[[#This Row],['[kg/h']]]/Tabelle7[[#This Row],['[kg/m^3']4]]","v":{"v":1570.0934579439252,"d":"1570.09"}},{"v":157.7787031049172,"d":"157.78"},{"$f":"Tabelle7[[#This Row],['[m/s']]]/VLOOKUP(J36*0.00001,'Datenbak Werte'!$A$1:$C$500,3,TRUE)","v":{"v":0.11211447673198126,"d":"0.11"}},{"v":270484.7936130783,"d":"2.7048E+05"},{"v":2.1052631578947372E-3,"d":"2.1E-03"},{"$f":"Rohrreibungszahl(Tabelle7[[#This Row],['[-']]],Tabelle7[[#This Row],['[-']4]],Tabelle7[[#This Row],['[-']3]],Tabelle7[[#This Row],['[m']2]],Tabelle7[[#This Row],['[m']3]])","v":{"v":0.024359468290007232,"d":"2.44E-02"}},null,0.15,{"$f":"IF(Tabelle7[[#This Row],['[-']2]]>0,Tabelle7[[#This Row],['[-']2]]*(Tabelle7[[#This Row],['[kg/m^3']]]/2)*Tabelle7[[#This Row],['[m/s']]]^2,Druckverlust(Tabelle7[[#This Row],[Spalte1]],C36,U36,V36,P36,L36,O36,J36,K36,Q36,D36,E36))","v":{"v":1636.0577487091828,"d":"1636.06"}},0.016360577487091826,{"v":12.297449472254618,"d":"12.30"},{"v":12.281088894767526,"d":"12.28"},{"v":1636.0577487091828,"d":"1636.06"},{"$f":"SUM($AB$10:AB36)","v":{"v":771891.110523247,"d":"771891.11"}}]
[null,"Rohr (FPR Druckführung) ","Rohr",0.35,0.019,{"v":4e-05,"d":"4.00E-05"},141.12,0.0392,{"v":0.04479399617906475,"d":"4.48E-02"},1228108.8894767526,338,{"$f":"Dichte(K37,J37)","v":{"v":0.8751172778444982,"d":"0.87512"}},{"$f":"VLOOKUP(J37*0.00001,'Datenbak Werte'!$A$1:$B$500,2,TRUE)*0.000001","v":{"v":9.7117999999999991E-6,"d":"9.71E-06"}},{"v":1.109771255336329E-5,"d":"1.11E-05"},{"v":0.08988,"d":"8.99E-02"},{"$f":"Tabelle7[[#This Row],['[kg/h']]]/Tabelle7[[#This Row],['[kg/m^3']4]]","v":{"v":1570.0934579439252,"d":"1570.09"}},{"v":157.98749945124936,"d":"157.99"},{"$f":"Tabelle7[[#This Row],['[m/s']]]/VLOOKUP(J37*0.00001,'Datenbak Werte'!$A$1:$C$500,3,TRUE)","v":{"v":0.11226284335340679,"d":"0.11"}},{"v":270484.7936130783,"d":"2.7048E+05"},{"v":2.1052631578947372E-3,"d":"2.1E-03"},{"$f":"Rohrreibungszahl(Tabelle7[[#This Row],['[-']]],Tabelle7[[#This Row],['[-']4]],Tabelle7[[#This Row],['[-']3]],Tabelle7[[#This Row],['[m']2]],Tabelle7[[#This Row],['[m']3]])","v":{"v":0.024359468290007232,"d":"2.44E-02"}},null,null,{"$f":"IF(Tabelle7[[#This Row],['[-']2]]>0,Tabelle7[[#This Row],['[-']2]]*(Tabelle7[[#This Row],['[kg/m^3']]]/2)*Tabelle7[[#This Row],['[m/s']]]^2,Druckverlust(Tabelle7[[#This Row],[Spalte1]],C37,U37,V37,P37,L37,O37,J37,K37,Q37,D37,E37))","v":{"v":4900.765941227231,"d":"4900.77"}},0.049007659412272316,{"v":12.281088894767526,"d":"12.28"},{"v":12.232081235355254,"d":"12.23"},{"v":4900.765941227231,"d":"4900.77"},{"$f":"SUM($AB$10:AB37)","v":{"v":776791.8764644742,"d":"776791.88"}}]
[null,"Filter ","Ventil",null,0.019,{"v":4e-05,"d":"4.00E-05"},141.12,0.0392,{"v":0.044972275105546626,"d":"4.50E-02"},1223208.1235355255,338,{"$f":"Dichte(K38,J38)","v":{"v":0.8716481411714323,"d":"0.87165"}},{"$f":"VLOOKUP(J38*0.00001,'Datenbak Werte'!$A$1:$B$500,2,TRUE)*0.000001","v":{"v":9.7117999999999991E-6,"d":"9.71E-06"}},{"v":1.1141881157399176E-5,"d":"1.11E-05"},{"v":0.08988,"d":"8.99E-02"},{"$f":"Tabelle7[[#This Row],['[kg/h']]]/Tabelle7[[#This Row],['[kg/m^3']4]]","v":{"v":1570.0934579439252,"d":"1570.09"}},{"v":158.61628554318747,"d":"158.62"},{"$f":"Tabelle7[[#This Row],['[m/s']]]/VLOOKUP(J38*0.00001,'Datenbak Werte'!$A$1:$C$500,3,TRUE)","v":{"v":0.11270964651686739,"d":"0.11"}},{"v":270484.7936130783,"d":"2.7048E+05"},{"v":2.1052631578947372E-3,"d":"2.1E-03"},{"$f":"Rohrreibungszahl(Tabelle7[[#This Row],['[-']]],Tabelle7[[#This Row],['[-']4]],Tabelle7[[#This Row],['[-']3]],Tabelle7[[#This Row],['[m']2]],Tabelle7[[#This Row],['[m']3]])","v":"Nur bei 'Rohr' benötigt"},4,null,{"$f":"IF(Tabelle7[[#This Row],['[-']2]]>0,Tabelle7[[#This Row],['[-']2]]*(Tabelle7[[#This Row],['[kg/m^3']]]/2)*Tabelle7[[#This Row],['[m/s']]]^2,Druckverlust(Tabelle7[[#This Row],[Spalte1]],C38,U38,V38,P38,L38,O38,J38,K38,Q38,D38,E38))","v":{"v":167879.1169838549,"d":"167879.12"}},1.6787911698385491,{"v":12.232081235355254,"d":"12.23"},{"v":10.553290065516705,"d":"10.55"},{"v":167879.1169838549,"d":"167879.12"},{"$f":"SUM($AB$10:AB38)","v":{"v":944670.9934483292,"d":"944670.99"}}]
[null,"90°Winkel FÜR-Connect (Ausgang Sammelrohr)","Rohr",null,0.019,{"v":4e-05,"d":"4.00E-05"},141.12,0.0392,{"v":0.05207920373986705,"d":"5.21E-02"},1055329.0065516706,338,{"$f":"Dichte(K39,J39)","v":{"v":0.7526996801986833,"d":"0.75270"}},{"$f":"VLOOKUP(J39*0.00001,'Datenbak Werte'!$A$1:$B$500,2,TRUE)*0.000001","v":{"v":9.7109e-06,"d":"9.71E-06"}},{"v":1.2901427030547832E-5,"d":"1.29E-05"},{"v":0.08988,"d":"8.99E-02"},{"$f":"Tabelle7[[#This Row],['[kg/h']]]/Tabelle7[[#This Row],['[kg/m^3']4]]","v":{"v":1570.0934579439252,"d":"1570.09"}},{"v":183.68227606625516,"d":"183.68"},{"$f":"Tabelle7[[#This Row],['[m/s']]]/VLOOKUP(J39*0.00001,'Datenbak Werte'!$A$1:$C$500,3,TRUE)","v":{"v":0.13067891012112634,"d":"0.13"}},{"v":270509.8619707229,"d":"2.7051E+05"},{"v":2.1052631578947372E-3,"d":"2.1E-03"},{"$f":"Rohrreibungszahl(Tabelle7[[#This Row],['[-']]],Tabelle7[[#This Row],['[-']4]],Tabelle7[[#This Row],['[-']3]],Tabelle7[[#This Row],['[m']2]],Tabelle7[[#This Row],['[m']3]])","v":{"v":0.02435941087662986,"d":"2.44E-02"}},null,0.15,{"$f":"IF(Tabelle7[[#This Row],['[-']2]]>0,Tabelle7[[#This Row],['[-']2]]*(Tabelle7[[#This Row],['[kg/m^3']]]/2)*Tabelle7[[#This Row],['[m/s']]]^2,Druckverlust(Tabelle7[[#This Row],[Spalte1]],C39,U39,V39,P39,L39,O39,J39,K39,Q39,D39,E39))","v":{"v":1904.660167341497,"d":"1904.66"}},0.01904660167341497,{"v":10.553290065516705,"d":"10.55"},{"v":10.534243463843291,"d":"10.53"},{"v":1904.660167341497,"d":"1904.66"},{"$f":"SUM($AB$10:AB39)","v":{"v":946575.6536156706,"d":"946575.65"}}]
[null,"Sammelrohr","Rohr",0.2,0.019,{"v":4e-05,"d":"4.00E-05"},141.12,0.0392,{"v":0.05217283049018265,"d":"5.22E-02"},1053424.346384329,338,{"$f":"Dichte(K40,J40)","v":{"v":0.7513489230256782,"d":"0.75135"}},{"$f":"VLOOKUP(J40*0.00001,'Datenbak Werte'!$A$1:$B$500,2,TRUE)*0.000001","v":{"v":9.7109e-06,"d":"9.71E-06"}},{"v":1.2924620908344763E-5,"d":"1.29E-05"},{"v":0.08988,"d":"8.99E-02"},{"$f":"Tabelle7[[#This Row],['[kg/h']]]/Tabelle7[[#This Row],['[kg/m^3']4]]","v":{"v":1570.0934579439252,"d":"1570.09"}},{"v":184.0124956810664,"d":"184.01"},{"$f":"Tabelle7[[#This Row],['[m/s']]]/VLOOKUP(J40*0.00001,'Datenbak Werte'!$A$1:$C$500,3,TRUE)","v":{"v":0.13091384154885205,"d":"0.13"}},{"v":270509.8619707229,"d":"2.7051E+05"},{"v":2.1052631578947372E-3,"d":"2.1E-03"},{"$f":"Rohrreibungszahl(Tabelle7[[#This Row],['[-']]],Tabelle7[[#This Row],['[-']4]],Tabelle7[[#This Row],['[-']3]],Tabelle7[[#This Row],['[m']2]],Tabelle7[[#This Row],['[m']3]])","v":{"v":0.02435941087662986,"d":"2.44E-02"}},null,null,{"$f":"IF(Tabelle7[[#This Row],['[-']2]]>0,Tabelle7[[#This Row],['[-']2]]*(Tabelle7[[#This Row],['[kg/m^3']]]/2)*Tabelle7[[#This Row],['[m/s']]]^2,Druckverlust(Tabelle7[[#This Row],[Spalte1]],C40,U40,V40,P40,L40,O40,J40,K40,Q40,D40,E40))","v":{"v":3261.741048224035,"d":"3261.74"}},0.03261741048224035,{"v":10.534243463843291,"d":"10.53"},{"v":10.50162605336105,"d":"10.50"},{"v":3261.741048224035,"d":"3261.74"},{"$f":"SUM($AB$10:AB40)","v":{"v":949837.3946638947,"d":"949837.39"}}]
[null,"T-Stück (zum TC)","Rohr",null,0.019,{"v":4e-05,"d":"4.00E-05"},141.12,0.0392,{"v":0.05233395561221309,"d":"5.23E-02"},1050162.605336105,338,{"$f":"Dichte(K41,J41)","v":{"v":0.7490356794442643,"d":"0.74904"}},{"$f":"VLOOKUP(J41*0.00001,'Datenbak Werte'!$A$1:$B$500,2,TRUE)*0.000001","v":{"v":9.7109e-06,"d":"9.71E-06"}},{"v":1.2964535958026534E-5,"d":"1.30E-05"},{"v":0.08988,"d":"8.99E-02"},{"$f":"Tabelle7[[#This Row],['[kg/h']]]/Tabelle7[[#This Row],['[kg/m^3']4]]","v":{"v":1570.0934579439252,"d":"1570.09"}},{"v":184.5807806589596,"d":"184.58"},{"$f":"Tabelle7[[#This Row],['[m/s']]]/VLOOKUP(J41*0.00001,'Datenbak Werte'!$A$1:$C$500,3,TRUE)","v":{"v":0.13131814218764915,"d":"0.13"}},{"v":270509.86197072297,"d":"2.7051E+05"},{"v":2.1052631578947372E-3,"d":"2.1E-03"},{"$f":"Rohrreibungszahl(Tabelle7[[#This Row],['[-']]],Tabelle7[[#This Row],['[-']4]],Tabelle7[[#This Row],['[-']3]],Tabelle7[[#This Row],['[m']2]],Tabelle7[[#This Row],['[m']3]])","v":{"v":0.02435941087662986,"d":"2.44E-02"}},null,0.05,{"$f":"IF(Tabelle7[[#This Row],['[-']2]]>0,Tabelle7[[#This Row],['[-']2]]*(Tabelle7[[#This Row],['[kg/m^3']]]/2)*Tabelle7[[#This Row],['[m/s']]]^2,Druckverlust(Tabelle7[[#This Row],[Spalte1]],C41,U41,V41,P41,L41,O41,J41,K41,Q41,D41,E41))","v":{"v":637.992349447128,"d":"637.99"}},0.006379923494471281,{"v":10.50162605336105,"d":"10.50"},{"v":10.49524612986658,"d":"10.50"},{"v":637.992349447128,"d":"637.99"},{"$f":"SUM($AB$10:AB41)","v":{"v":950475.3870133418,"d":"950475.39"}}]
[null,"Sammelrohr","Rohr",0.2,0.019,{"v":4e-05,"d":"4.00E-05"},141.12,0.0392,{"v":0.05236558858280666,"d":"5.24E-02"},1049524.612986658,338,{"$f":"Dichte(K42,J42)","v":{"v":0.7485832024596137,"d":"0.74858"}},{"$f":"VLOOKUP(J42*0.00001,'Datenbak Werte'!$A$1:$B$500,2,TRUE)*0.000001","v":{"v":9.7109e-06,"d":"9.71E-06"}},{"v":1.2972372300223909E-5,"d":"1.30E-05"},{"v":0.08988,"d":"8.99E-02"},{"$f":"Tabelle7[[#This Row],['[kg/h']]]/Tabelle7[[#This Row],['[kg/m^3']4]]","v":{"v":1570.0934579439252,"d":"1570.09"}},{"v":184.69234949296842,"d":"184.69"},{"$f":"Tabelle7[[#This Row],['[m/s']]]/VLOOKUP(J42*0.00001,'Datenbak Werte'!$A$1:$C$500,3,TRUE)","v":{"v":0.1313975167138364,"d":"0.13"}},{"v":270509.8619707229,"d":"2.7051E+05"},{"v":2.1052631578947372E-3,"d":"2.1E-03"},{"$f":"Rohrreibungszahl(Tabelle7[[#This Row],['[-']]],Tabelle7[[#This Row],['[-']4]],Tabelle7[[#This Row],['[-']3]],Tabelle7[[#This Row],['[m']2]],Tabelle7[[#This Row],['[m']3]])","v":{"v":0.02435941087662986,"d":"2.44E-02"}},null,null,{"$f":"IF(Tabelle7[[#This Row],['[-']2]]>0,Tabelle7[[#This Row],['[-']2]]*(Tabelle7[[#This Row],['[kg/m^3']]]/2)*Tabelle7[[#This Row],['[m/s']]]^2,Druckverlust(Tabelle7[[#This Row],[Spalte1]],C42,U42,V42,P42,L42,O42,J42,K42,Q42,D42,E42))","v":{"v":3273.7918987755957,"d":"3273.79"}},0.03273791898775596,{"v":10.49524612986658,"d":"10.50"},{"v":10.462508210878823,"d":"10.46"},{"v":3273.7918987755957,"d":"3273.79"},{"$f":"SUM($AB$10:AB42)","v":{"v":953749.1789121174,"d":"953749.18"}}]
[null,"T-Stück (zum TC)","Rohr",null,0.019,{"v":4e-05,"d":"4.00E-05"},141.12,0.0392,{"v":0.05252851680451016,"d":"5.25E-02"},1046250.8210878824,338,{"$f":"Dichte(K43,J43)","v":{"v":0.7462613145139145,"d":"0.74626"}},{"$f":"VLOOKUP(J43*0.00001,'Datenbak Werte'!$A$1:$B$500,2,TRUE)*0.000001","v":{"v":9.7109e-06,"d":"9.71E-06"}},{"v":1.3012734026451983E-5,"d":"1.30E-05"},{"v":0.08988,"d":"8.99E-02"},{"$f":"Tabelle7[[#This Row],['[kg/h']]]/Tabelle7[[#This Row],['[kg/m^3']4]]","v":{"v":1570.0934579439252,"d":"1570.09"}},{"v":185.26699396617138,"d":"185.27"},{"$f":"Tabelle7[[#This Row],['[m/s']]]/VLOOKUP(J43*0.00001,'Datenbak Werte'!$A$1:$C$500,3,TRUE)","v":{"v":0.1318063417516871,"d":"0.13"}},{"v":270509.86197072297,"d":"2.7051E+05"},{"v":2.1052631578947372E-3,"d":"2.1E-03"},{"$f":"Rohrreibungszahl(Tabelle7[[#This Row],['[-']]],Tabelle7[[#This Row],['[-']4]],Tabelle7[[#This Row],['[-']3]],Tabelle7[[#This Row],['[m']2]],Tabelle7[[#This Row],['[m']3]])","v":{"v":0.02435941087662986,"d":"2.44E-02"}},null,0.05,{"$f":"IF(Tabelle7[[#This Row],['[-']2]]>0,Tabelle7[[#This Row],['[-']2]]*(Tabelle7[[#This Row],['[kg/m^3']]]/2)*Tabelle7[[#This Row],['[m/s']]]^2,Druckverlust(Tabelle7[[#This Row],[Spalte1]],C43,U43,V43,P43,L43,O43,J43,K43,Q43,D43,E43))","v":{"v":640.364204406929,"d":"640.36"}},0.00640364204406929,{"v":10.462508210878823,"d":"10.46"},{"v":10.456104568834753,"d":"10.46"},{"v":640.364204406929,"d":"640.36"},{"$f":"SUM($AB$10:AB43)","v":{"v":954389.5431165243,"d":"954389.54"}}]
[null,"Sammelrohr","Rohr",0.1,0.019,{"v":4e-05,"d":"4.00E-05"},141.12,0.0392,{"v":0.05256050538793006,"d":"5.26E-02"},1045610.4568834753,338,{"$f":"Dichte(K44,J44)","v":{"v":0.7458071361886457,"d":"0.74581"}},{"$f":"VLOOKUP(J44*0.00001,'Datenbak Werte'!$A$1:$B$500,2,TRUE)*0.000001","v":{"v":9.7109e-06,"d":"9.71E-06"}},{"v":1.3020658463562501E-5,"d":"1.30E-05"},{"v":0.08988,"d":"8.99E-02"},{"$f":"Tabelle7[[#This Row],['[kg/h']]]/Tabelle7[[#This Row],['[kg/m^3']4]]","v":{"v":1570.0934579439252,"d":"1570.09"}},{"v":185.3798170392746,"d":"185.38"},{"$f":"Tabelle7[[#This Row],['[m/s']]]/VLOOKUP(J44*0.00001,'Datenbak Werte'!$A$1:$C$500,3,TRUE)","v":{"v":0.13188660859367857,"d":"0.13"}},{"v":270509.8619707229,"d":"2.7051E+05"},{"v":2.1052631578947372E-3,"d":"2.1E-03"},{"$f":"Rohrreibungszahl(Tabelle7[[#This Row],['[-']]],Tabelle7[[#This Row],['[-']4]],Tabelle7[[#This Row],['[-']3]],Tabelle7[[#This Row],['[m']2]],Tabelle7[[#This Row],['[m']3]])","v":{"v":0.02435941087662986,"d":"2.44E-02"}},null,null,{"$f":"IF(Tabelle7[[#This Row],['[-']2]]>0,Tabelle7[[#This Row],['[-']2]]*(Tabelle7[[#This Row],['[kg/m^3']]]/2)*Tabelle7[[#This Row],['[m/s']]]^2,Druckverlust(Tabelle7[[#This Row],[Spalte1]],C44,U44,V44,P44,L44,O44,J44,K44,Q44,D44,E44))","v":{"v":1642.9888538582504,"d":"1642.99"}},0.016429888538582505,{"v":10.456104568834753,"d":"10.46"},{"v":10.439674680296172,"d":"10.44"},{"v":1642.9888538582504,"d":"1642.99"},{"$f":"SUM($AB$10:AB44)","v":{"v":956032.5319703826,"d":"956032.53"}}]
[null,"T-Stück (Ausgang Sammelrohr)","Rohr",null,0.019,{"v":4e-05,"d":"4.00E-05"},141.12,0.0392,{"v":0.05264275832719735,"d":"5.26E-02"},1043967.4680296171,338,{"$f":"Dichte(K45,J45)","v":{"v":0.7446418319563569,"d":"0.74464"}},{"$f":"VLOOKUP(J45*0.00001,'Datenbak Werte'!$A$1:$B$500,2,TRUE)*0.000001","v":{"v":9.7109e-06,"d":"9.71E-06"}},{"v":1.3041034740805633E-5,"d":"1.30E-05"},{"v":0.08988,"d":"8.99E-02"},{"$f":"Tabelle7[[#This Row],['[kg/h']]]/Tabelle7[[#This Row],['[kg/m^3']4]]","v":{"v":1570.0934579439252,"d":"1570.09"}},{"v":185.66992145740707,"d":"185.67"},{"$f":"Tabelle7[[#This Row],['[m/s']]]/VLOOKUP(J45*0.00001,'Datenbak Werte'!$A$1:$C$500,3,TRUE)","v":{"v":0.13209300046770567,"d":"0.13"}},{"v":270509.8619707229,"d":"2.7051E+05"},{"v":2.1052631578947372E-3,"d":"2.1E-03"},{"$f":"Rohrreibungszahl(Tabelle7[[#This Row],['[-']]],Tabelle7[[#This Row],['[-']4]],Tabelle7[[#This Row],['[-']3]],Tabelle7[[#This Row],['[m']2]],Tabelle7[[#This Row],['[m']3]])","v":{"v":0.02435941087662986,"d":"2.44E-02"}},null,1.3,{"$f":"IF(Tabelle7[[#This Row],['[-']2]]>0,Tabelle7[[#This Row],['[-']2]]*(Tabelle7[[#This Row],['[kg/m^3']]]/2)*Tabelle7[[#This Row],['[m/s']]]^2,Druckverlust(Tabelle7[[#This Row],[Spalte1]],C45,U45,V45,P45,L45,O45,J45,K45,Q45,D45,E45))","v":{"v":16685.679374222807,"d":"16685.68"}},0.16685679374222806,{"v":10.439674680296172,"d":"10.44"},{"v":10.272817886553943,"d":"10.27"},{"v":16685.679374222807,"d":"16685.68"},{"$f":"SUM($AB$10:AB45)","v":{"v":972718.2113446053,"d":"972718.21"}}]
[null,null,"Rohr",0.2,0.019,{"v":4e-05,"d":"4.00E-05"},141.12,0.0392,{"v":0.05349299737395444,"d":"5.35E-02"},1027281.7886553943,338,{"$f":"Dichte(K46,J46)","v":{"v":0.7328061975283208,"d":"0.73281"}},{"$f":"VLOOKUP(J46*0.00001,'Datenbak Werte'!$A$1:$B$500,2,TRUE)*0.000001","v":{"v":9.7109e-06,"d":"9.71E-06"}},{"v":1.3251661943845259E-5,"d":"1.33E-05"},{"v":0.08988,"d":"8.99E-02"},{"$f":"Tabelle7[[#This Row],['[kg/h']]]/Tabelle7[[#This Row],['[kg/m^3']4]]","v":{"v":1570.0934579439252,"d":"1570.09"}},{"v":188.66869701643492,"d":"188.67"},{"$f":"Tabelle7[[#This Row],['[m/s']]]/VLOOKUP(J46*0.00001,'Datenbak Werte'!$A$1:$C$500,3,TRUE)","v":{"v":0.13422644921487972,"d":"0.13"}},{"v":270509.8619707229,"d":"2.7051E+05"},{"v":2.1052631578947372E-3,"d":"2.1E-03"},{"$f":"Rohrreibungszahl(Tabelle7[[#This Row],['[-']]],Tabelle7[[#This Row],['[-']4]],Tabelle7[[#This Row],['[-']3]],Tabelle7[[#This Row],['[m']2]],Tabelle7[[#This Row],['[m']3]])","v":{"v":0.02435941087662986,"d":"2.44E-02"}},null,null,{"$f":"IF(Tabelle7[[#This Row],['[-']2]]>0,Tabelle7[[#This Row],['[-']2]]*(Tabelle7[[#This Row],['[kg/m^3']]]/2)*Tabelle7[[#This Row],['[m/s']]]^2,Druckverlust(Tabelle7[[#This Row],[Spalte1]],C46,U46,V46,P46,L46,O46,J46,K46,Q46,D46,E46))","v":{"v":3344.2752422642584,"d":"3344.28"}},0.03344275242264259,{"v":10.272817886553943,"d":"10.27"},{"v":10.2393751341313,"d":"10.24"},{"v":3344.2752422642584,"d":"3344.28"},{"$f":"SUM($AB$10:AB46)","v":{"v":976062.4865868696,"d":"976062.49"}}]
[null,"T-Stück (Überdruckventil)","Rohr",null,0.019,{"v":4e-05,"d":"4.00E-05"},141.12,0.0392,{"v":0.053666742524322034,"d":"5.37E-02"},1023937.5134131301,338,{"$f":"Dichte(K47,J47)","v":{"v":0.730433750143012,"d":"0.73043"}},{"$f":"VLOOKUP(J47*0.00001,'Datenbak Werte'!$A$1:$B$500,2,TRUE)*0.000001","v":{"v":9.7109e-06,"d":"9.71E-06"}},{"v":1.3294703315802013E-5,"d":"1.33E-05"},{"v":0.08988,"d":"8.99E-02"},{"$f":"Tabelle7[[#This Row],['[kg/h']]]/Tabelle7[[#This Row],['[kg/m^3']4]]","v":{"v":1570.0934579439252,"d":"1570.09"}},{"v":189.28149257364817,"d":"189.28"},{"$f":"Tabelle7[[#This Row],['[m/s']]]/VLOOKUP(J47*0.00001,'Datenbak Werte'!$A$1:$C$500,3,TRUE)","v":{"v":0.1346624164582016,"d":"0.13"}},{"v":270509.8619707229,"d":"2.7051E+05"},{"v":2.1052631578947372E-3,"d":"2.1E-03"},{"$f":"Rohrreibungszahl(Tabelle7[[#This Row],['[-']]],Tabelle7[[#This Row],['[-']4]],Tabelle7[[#This Row],['[-']3]],Tabelle7[[#This Row],['[m']2]],Tabelle7[[#This Row],['[m']3]])","v":{"v":0.02435941087662986,"d":"2.44E-02"}},null,0.05,{"$f":"IF(Tabelle7[[#This Row],['[-']2]]>0,Tabelle7[[#This Row],['[-']2]]*(Tabelle7[[#This Row],['[kg/m^3']]]/2)*Tabelle7[[#This Row],['[m/s']]]^2,Druckverlust(Tabelle7[[#This Row],[Spalte1]],C47,U47,V47,P47,L47,O47,J47,K47,Q47,D47,E47))","v":{"v":654.2400770156195,"d":"654.24"}},0.006542400770156195,{"v":10.2393751341313,"d":"10.24"},{"v":10.232832733361144,"d":"10.23"},{"v":654.2400770156195,"d":"654.24"},{"$f":"SUM($AB$10:AB47)","v":{"v":976716.7266638852,"d":"976716.73"}}]
[null,null,"Rohr",0.2,0.019,{"v":4e-05,"d":"4.00E-05"},141.12,0.0392,{"v":0.05370086507902041,"d":"5.37E-02"},1023283.2733361145,338,{"$f":"Dichte(K48,J48)","v":{"v":0.7299696185958551,"d":"0.72997"}},{"$f":"VLOOKUP(J48*0.00001,'Datenbak Werte'!$A$1:$B$500,2,TRUE)*0.000001","v":{"v":9.7109e-06,"d":"9.71E-06"}},{"v":1.3303156395302532E-5,"d":"1.33E-05"},{"v":0.08988,"d":"8.99E-02"},{"$f":"Tabelle7[[#This Row],['[kg/h']]]/Tabelle7[[#This Row],['[kg/m^3']4]]","v":{"v":1570.0934579439252,"d":"1570.09"}},{"v":189.40184211938043,"d":"189.40"},{"$f":"Tabelle7[[#This Row],['[m/s']]]/VLOOKUP(J48*0.00001,'Datenbak Werte'!$A$1:$C$500,3,TRUE)","v":{"v":0.1347480379335376,"d":"0.13"}},{"v":270509.8619707229,"d":"2.7051E+05"},{"v":2.1052631578947372E-3,"d":"2.1E-03"},{"$f":"Rohrreibungszahl(Tabelle7[[#This Row],['[-']]],Tabelle7[[#This Row],['[-']4]],Tabelle7[[#This Row],['[-']3]],Tabelle7[[#This Row],['[m']2]],Tabelle7[[#This Row],['[m']3]])","v":{"v":0.02435941087662986,"d":"2.44E-02"}},null,null,{"$f":"IF(Tabelle7[[#This Row],['[-']2]]>0,Tabelle7[[#This Row],['[-']2]]*(Tabelle7[[#This Row],['[kg/m^3']]]/2)*Tabelle7[[#This Row],['[m/s']]]^2,Druckverlust(Tabelle7[[#This Row],[Spalte1]],C48,U48,V48,P48,L48,O48,J48,K48,Q48,D48,E48))","v":{"v":3357.270715575628,"d":"3357.27"}},0.033572707155756276,{"v":10.232832733361144,"d":"10.23"},{"v":10.199260026205389,"d":"10.20"},{"v":3357.270715575628,"d":"3357.27"},{"$f":"SUM($AB$10:AB48)","v":{"v":980073.9973794608,"d":"980074.00"}}]
[null,"T-Stück (Sensoren)","Rohr",null,0.019,{"v":4e-05,"d":"4.00E-05"},141.12,0.0392,{"v":0.0538766556389769,"d":"5.39E-02"},1019926.0026205389,338,{"$f":"Dichte(K49,J49)","v":{"v":0.7275878492287275,"d":"0.72759"}},{"$f":"VLOOKUP(J49*0.00001,'Datenbak Werte'!$A$1:$B$500,2,TRUE)*0.000001","v":{"v":9.7109e-06,"d":"9.71E-06"}},{"v":1.3346704470524E-5,"d":"1.33E-05"},{"v":0.08988,"d":"8.99E-02"},{"$f":"Tabelle7[[#This Row],['[kg/h']]]/Tabelle7[[#This Row],['[kg/m^3']4]]","v":{"v":1570.0934579439252,"d":"1570.09"}},{"v":190.02185179397256,"d":"190.02"},{"$f":"Tabelle7[[#This Row],['[m/s']]]/VLOOKUP(J49*0.00001,'Datenbak Werte'!$A$1:$C$500,3,TRUE)","v":{"v":0.13518913758819903,"d":"0.14"}},{"v":270509.8619707229,"d":"2.7051E+05"},{"v":2.1052631578947372E-3,"d":"2.1E-03"},{"$f":"Rohrreibungszahl(Tabelle7[[#This Row],['[-']]],Tabelle7[[#This Row],['[-']4]],Tabelle7[[#This Row],['[-']3]],Tabelle7[[#This Row],['[m']2]],Tabelle7[[#This Row],['[m']3]])","v":{"v":0.02435941087662986,"d":"2.44E-02"}},null,0.05,{"$f":"IF(Tabelle7[[#This Row],['[-']2]]>0,Tabelle7[[#This Row],['[-']2]]*(Tabelle7[[#This Row],['[kg/m^3']]]/2)*Tabelle7[[#This Row],['[m/s']]]^2,Druckverlust(Tabelle7[[#This Row],[Spalte1]],C49,U49,V49,P49,L49,O49,J49,K49,Q49,D49,E49))","v":{"v":656.7990840624166,"d":"656.80"}},0.006567990840624166,{"v":10.199260026205389,"d":"10.20"},{"v":10.192692035364765,"d":"10.19"},{"v":656.7990840624166,"d":"656.80"},{"$f":"SUM($AB$10:AB49)","v":{"v":980730.7964635233,"d":"980730.80"}}]
[null,null,"Rohr",0.2,0.019,{"v":4e-05,"d":"4.00E-05"},141.12,0.0392,{"v":0.0539111818325541,"d":"5.39E-02"},1019269.2035364765,338,{"$f":"Dichte(K50,J50)","v":{"v":0.7271218820940261,"d":"0.72712"}},{"$f":"VLOOKUP(J50*0.00001,'Datenbak Werte'!$A$1:$B$500,2,TRUE)*0.000001","v":{"v":9.7109e-06,"d":"9.71E-06"}},{"v":1.335525754228953E-5,"d":"1.34E-05"},{"v":0.08988,"d":"8.99E-02"},{"$f":"Tabelle7[[#This Row],['[kg/h']]]/Tabelle7[[#This Row],['[kg/m^3']4]]","v":{"v":1570.0934579439252,"d":"1570.09"}},{"v":190.1436249656946,"d":"190.14"},{"$f":"Tabelle7[[#This Row],['[m/s']]]/VLOOKUP(J50*0.00001,'Datenbak Werte'!$A$1:$C$500,3,TRUE)","v":{"v":0.13527577188794437,"d":"0.14"}},{"v":270509.8619707229,"d":"2.7051E+05"},{"v":2.1052631578947372E-3,"d":"2.1E-03"},{"$f":"Rohrreibungszahl(Tabelle7[[#This Row],['[-']]],Tabelle7[[#This Row],['[-']4]],Tabelle7[[#This Row],['[-']3]],Tabelle7[[#This Row],['[m']2]],Tabelle7[[#This Row],['[m']3]])","v":{"v":0.02435941087662986,"d":"2.44E-02"}},null,null,{"$f":"IF(Tabelle7[[#This Row],['[-']2]]>0,Tabelle7[[#This Row],['[-']2]]*(Tabelle7[[#This Row],['[kg/m^3']]]/2)*Tabelle7[[#This Row],['[m/s']]]^2,Druckverlust(Tabelle7[[#This Row],[Spalte1]],C50,U50,V50,P50,L50,O50,J50,K50,Q50,D50,E50))","v":{"v":3370.419298500589,"d":"3370.42"}},0.03370419298500589,{"v":10.192692035364765,"d":"10.19"},{"v":10.158987842379759,"d":"10.16"},{"v":3370.419298500589,"d":"3370.42"},{"$f":"SUM($AB$10:AB50)","v":{"v":984101.2157620239,"d":"984101.22"}}]
[null,"T-Stück (Entlüftungsventil)","Rohr",null,0.019,{"v":4e-05,"d":"4.00E-05"},141.12,0.0392,{"v":0.054089058228659496,"d":"5.41E-02"},1015898.7842379758,338,{"$f":"Dichte(K51,J51)","v":{"v":0.7247306809130128,"d":"0.72473"}},{"$f":"VLOOKUP(J51*0.00001,'Datenbak Werte'!$A$1:$B$500,2,TRUE)*0.000001","v":{"v":9.7109e-06,"d":"9.71E-06"}},{"v":1.3399322335527795E-5,"d":"1.34E-05"},{"v":0.08988,"d":"8.99E-02"},{"$f":"Tabelle7[[#This Row],['[kg/h']]]/Tabelle7[[#This Row],['[kg/m^3']4]]","v":{"v":1570.0934579439252,"d":"1570.09"}},{"v":190.77099134130782,"d":"190.77"},{"$f":"Tabelle7[[#This Row],['[m/s']]]/VLOOKUP(J51*0.00001,'Datenbak Werte'!$A$1:$C$500,3,TRUE)","v":{"v":0.1357221053936453,"d":"0.14"}},{"v":270509.8619707229,"d":"2.7051E+05"},{"v":2.1052631578947372E-3,"d":"2.1E-03"},{"$f":"Rohrreibungszahl(Tabelle7[[#This Row],['[-']]],Tabelle7[[#This Row],['[-']4]],Tabelle7[[#This Row],['[-']3]],Tabelle7[[#This Row],['[m']2]],Tabelle7[[#This Row],['[m']3]])","v":{"v":0.02435941087662986,"d":"2.44E-02"}},null,0.05,{"$f":"IF(Tabelle7[[#This Row],['[-']2]]>0,Tabelle7[[#This Row],['[-']2]]*(Tabelle7[[#This Row],['[kg/m^3']]]/2)*Tabelle7[[#This Row],['[m/s']]]^2,Druckverlust(Tabelle7[[#This Row],[Spalte1]],C51,U51,V51,P51,L51,O51,J51,K51,Q51,D51,E51))","v":{"v":659.3884397806116,"d":"659.39"}},6.5938843978061165E-3,{"v":10.158987842379759,"d":"10.16"},{"v":10.152393957981953,"d":"10.15"},{"v":659.3884397806116,"d":"659.39"},{"$f":"SUM($AB$10:AB51)","v":{"v":984760.6042018045,"d":"984760.60"}}]
[null,"Hauptventil","Ventil",null,0.019,{"v":4e-05,"d":"4.00E-05"},141.12,0.0392,{"v":0.05412399607747163,"d":"5.41E-02"},1015239.3957981954,338,{"$f":"Dichte(K52,J52)","v":{"v":0.7242628564212106,"d":"0.72426"}},{"$f":"VLOOKUP(J52*0.00001,'Datenbak Werte'!$A$1:$B$500,2,TRUE)*0.000001","v":{"v":9.7109e-06,"d":"9.71E-06"}},{"v":1.3407977385426513E-5,"d":"1.34E-05"},{"v":0.08988,"d":"8.99E-02"},{"$f":"Tabelle7[[#This Row],['[kg/h']]]/Tabelle7[[#This Row],['[kg/m^3']4]]","v":{"v":1570.0934579439252,"d":"1570.09"}},{"v":190.8942164125421,"d":"190.89"},{"$f":"Tabelle7[[#This Row],['[m/s']]]/VLOOKUP(J52*0.00001,'Datenbak Werte'!$A$1:$C$500,3,TRUE)","v":{"v":0.13580977263271352,"d":"0.14"}},{"v":270509.8619707229,"d":"2.7051E+05"},{"v":2.1052631578947372E-3,"d":"2.1E-03"},{"$f":"Rohrreibungszahl(Tabelle7[[#This Row],['[-']]],Tabelle7[[#This Row],['[-']4]],Tabelle7[[#This Row],['[-']3]],Tabelle7[[#This Row],['[m']2]],Tabelle7[[#This Row],['[m']3]])","v":"Nur bei 'Rohr' benötigt"},4,null,{"$f":"IF(Tabelle7[[#This Row],['[-']2]]>0,Tabelle7[[#This Row],['[-']2]]*(Tabelle7[[#This Row],['[kg/m^3']]]/2)*Tabelle7[[#This Row],['[m/s']]]^2,Druckverlust(Tabelle7[[#This Row],[Spalte1]],C52,U52,V52,P52,L52,O52,J52,K52,Q52,D52,E52))","v":{"v":223876.75798902675,"d":"223876.76"}},2.2387675798902675,{"v":10.152393957981953,"d":"10.15"},{"v":7.913626378091686,"d":"7.91"},{"v":223876.75798902675,"d":"223876.76"},{"$f":"SUM($AB$10:AB52)","v":{"v":1208637.3621908312,"d":"1208637.36"}}]
[null,null,"Rohr",0.2,0.019,{"v":4e-05,"d":"4.00E-05"},141.12,0.0392,{"v":0.06935185465262042,"d":"6.94E-02"},791362.6378091685,338,{"$f":"Dichte(K53,J53)","v":{"v":0.5652336220329018,"d":"0.56523"}},{"$f":"VLOOKUP(J53*0.00001,'Datenbak Werte'!$A$1:$B$500,2,TRUE)*0.000001","v":{"v":9.7096e-06,"d":"9.71E-06"}},{"v":1.7178029794262327E-5,"d":"1.72E-05"},{"v":0.08988,"d":"8.99E-02"},{"$f":"Tabelle7[[#This Row],['[kg/h']]]/Tabelle7[[#This Row],['[kg/m^3']4]]","v":{"v":1570.0934579439252,"d":"1570.09"}},{"v":244.60255912587704,"d":"244.60"},{"$f":"Tabelle7[[#This Row],['[m/s']]]/VLOOKUP(J53*0.00001,'Datenbak Werte'!$A$1:$C$500,3,TRUE)","v":{"v":0.17431767326530576,"d":"0.17"}},{"v":270546.0800250776,"d":"2.7055E+05"},{"v":2.1052631578947372E-3,"d":"2.1E-03"},{"$f":"Rohrreibungszahl(Tabelle7[[#This Row],['[-']]],Tabelle7[[#This Row],['[-']4]],Tabelle7[[#This Row],['[-']3]],Tabelle7[[#This Row],['[m']2]],Tabelle7[[#This Row],['[m']3]])","v":{"v":0.024359327945445406,"d":"2.44E-02"}},null,null,{"$f":"IF(Tabelle7[[#This Row],['[-']2]]>0,Tabelle7[[#This Row],['[-']2]]*(Tabelle7[[#This Row],['[kg/m^3']]]/2)*Tabelle7[[#This Row],['[m/s']]]^2,Druckverlust(Tabelle7[[#This Row],[Spalte1]],C53,U53,V53,P53,L53,O53,J53,K53,Q53,D53,E53))","v":{"v":4335.724530281168,"d":"4335.72"}},0.04335724530281168,{"v":7.913626378091686,"d":"7.91"},{"v":7.8702691327888745,"d":"7.87"},{"v":4335.724530281168,"d":"4335.72"},{"$f":"SUM($AB$10:AB53)","v":{"v":1212973.0867211125,"d":"1212973.09"}}]
[null,"T-Stück (Druckminderer) ","Rohr",null,0.019,{"v":4e-05,"d":"4.00E-05"},{"$f":"17.64*4","v":70.56},0.0196,{"v":0.03486614042331173,"d":"3.49E-02"},787026.9132788874,338,{"$f":"Dichte(K54,J54)","v":{"v":0.562149975937552,"d":"0.56215"}},{"$f":"VLOOKUP(J54*0.00001,'Datenbak Werte'!$A$1:$B$500,2,TRUE)*0.000001","v":{"v":9.7096e-06,"d":"9.71E-06"}},{"v":1.7272259033376918E-5,"d":"1.73E-05"},{"v":0.08988,"d":"8.99E-02"},{"$f":"Tabelle7[[#This Row],['[kg/h']]]/Tabelle7[[#This Row],['[kg/m^3']4]]","v":{"v":785.0467289719626,"d":"785.05"}},{"v":122.97215722783847,"d":"122.97"},{"$f":"Tabelle7[[#This Row],['[m/s']]]/VLOOKUP(J54*0.00001,'Datenbak Werte'!$A$1:$C$500,3,TRUE)","v":{"v":0.08763694215210836,"d":"0.09"}},{"v":135273.0400125388,"d":"1.3527E+05"},{"v":2.1052631578947372E-3,"d":"2.1E-03"},{"$f":"Rohrreibungszahl(Tabelle7[[#This Row],['[-']]],Tabelle7[[#This Row],['[-']4]],Tabelle7[[#This Row],['[-']3]],Tabelle7[[#This Row],['[m']2]],Tabelle7[[#This Row],['[m']3]])","v":{"v":0.024955619213582438,"d":"2.50E-02"}},null,1.3,{"$f":"IF(Tabelle7[[#This Row],['[-']2]]>0,Tabelle7[[#This Row],['[-']2]]*(Tabelle7[[#This Row],['[kg/m^3']]]/2)*Tabelle7[[#This Row],['[m/s']]]^2,Druckverlust(Tabelle7[[#This Row],[Spalte1]],C54,U54,V54,P54,L54,O54,J54,K54,Q54,D54,E54))","v":{"v":5525.596099126188,"d":"5525.60"}},0.055255960991261885,{"v":7.870269132788874,"d":"7.87"},{"v":7.815013171797612,"d":"7.82"},{"v":5525.596099126188,"d":"5525.60"},{"$f":"SUM($AB$10:AB54)","v":{"v":1218498.6828202386,"d":"1218498.68"}}]
[null,null,"Rohr",0.3,0.019,{"v":4e-05,"d":"4.00E-05"},{"$f":"17.64*4","v":70.56},0.0196,{"v":0.035111613405275396,"d":"3.51E-02"},781501.3171797612,338,{"$f":"Dichte(K55,J55)","v":{"v":0.5582198622936299,"d":"0.55822"}},{"$f":"VLOOKUP(J55*0.00001,'Datenbak Werte'!$A$1:$B$500,2,TRUE)*0.000001","v":{"v":9.7096e-06,"d":"9.71E-06"}},{"v":1.73938633428501e-05,"d":"1.74E-05"},{"v":0.08988,"d":"8.99E-02"},{"$f":"Tabelle7[[#This Row],['[kg/h']]]/Tabelle7[[#This Row],['[kg/m^3']4]]","v":{"v":785.0467289719626,"d":"785.05"}},{"v":123.83793536578915,"d":"123.84"},{"$f":"Tabelle7[[#This Row],['[m/s']]]/VLOOKUP(J55*0.00001,'Datenbak Werte'!$A$1:$C$500,3,TRUE)","v":{"v":0.08825394481598428,"d":"0.09"}},{"v":135273.0400125388,"d":"1.3527E+05"},{"v":2.1052631578947372E-3,"d":"2.1E-03"},{"$f":"Rohrreibungszahl(Tabelle7[[#This Row],['[-']]],Tabelle7[[#This Row],['[-']4]],Tabelle7[[#This Row],['[-']3]],Tabelle7[[#This Row],['[m']2]],Tabelle7[[#This Row],['[m']3]])","v":{"v":0.024955619213582438,"d":"2.50E-02"}},null,null,{"$f":"IF(Tabelle7[[#This Row],['[-']2]]>0,Tabelle7[[#This Row],['[-']2]]*(Tabelle7[[#This Row],['[kg/m^3']]]/2)*Tabelle7[[#This Row],['[m/s']]]^2,Druckverlust(Tabelle7[[#This Row],[Spalte1]],C55,U55,V55,P55,L55,O55,J55,K55,Q55,D55,E55))","v":{"v":1686.6256444398161,"d":"1686.63"}},0.01686625644439816,{"v":7.815013171797612,"d":"7.82"},{"v":7.798146915353214,"d":"7.80"},{"v":1686.6256444398161,"d":"1686.63"},{"$f":"SUM($AB$10:AB55)","v":{"v":1220185.3084646785,"d":"1220185.31"}}]
[null,"90°Winkel","Rohr",null,0.019,{"v":4e-05,"d":"4.00E-05"},70.56,0.0196,{"v":0.035187234233786974,"d":"3.52E-02"},779814.6915353214,338,{"$f":"Dichte(K56,J56)","v":{"v":0.5570201928851791,"d":"0.55702"}},{"$f":"VLOOKUP(J56*0.00001,'Datenbak Werte'!$A$1:$B$500,2,TRUE)*0.000001","v":{"v":9.7096e-06,"d":"9.71E-06"}},{"v":1.7431324975325407E-5,"d":"1.74E-05"},{"v":0.08988,"d":"8.99E-02"},{"$f":"Tabelle7[[#This Row],['[kg/h']]]/Tabelle7[[#This Row],['[kg/m^3']4]]","v":{"v":785.0467289719626,"d":"785.05"}},{"v":124.1046484662506,"d":"124.10"},{"$f":"Tabelle7[[#This Row],['[m/s']]]/VLOOKUP(J56*0.00001,'Datenbak Werte'!$A$1:$C$500,3,TRUE)","v":{"v":0.08844401971654119,"d":"0.09"}},{"v":135273.0400125388,"d":"1.3527E+05"},{"v":2.1052631578947372E-3,"d":"2.1E-03"},{"$f":"Rohrreibungszahl(Tabelle7[[#This Row],['[-']]],Tabelle7[[#This Row],['[-']4]],Tabelle7[[#This Row],['[-']3]],Tabelle7[[#This Row],['[m']2]],Tabelle7[[#This Row],['[m']3]])","v":{"v":0.024955619213582438,"d":"2.50E-02"}},null,0.15,{"$f":"IF(Tabelle7[[#This Row],['[-']2]]>0,Tabelle7[[#This Row],['[-']2]]*(Tabelle7[[#This Row],['[kg/m^3']]]/2)*Tabelle7[[#This Row],['[m/s']]]^2,Druckverlust(Tabelle7[[#This Row],[Spalte1]],C56,U56,V56,P56,L56,O56,J56,K56,Q56,D56,E56))","v":{"v":643.440362287116,"d":"643.44"}},6.43440362287116E-3,{"v":7.798146915353214,"d":"7.80"},{"v":7.791712511730343,"d":"7.79"},{"v":643.440362287116,"d":"643.44"},{"$f":"SUM($AB$10:AB56)","v":{"v":1220828.7488269657,"d":"1220828.75"}}]
[null,null,"Rohr",0.2,0.019,{"v":4e-05,"d":"4.00E-05"},70.56,0.0196,{"v":0.03521616952289788,"d":"3.52E-02"},779171.2511730343,338,{"$f":"Dichte(K57,J57)","v":{"v":0.5565625184549358,"d":"0.55656"}},{"$f":"VLOOKUP(J57*0.00001,'Datenbak Werte'!$A$1:$B$500,2,TRUE)*0.000001","v":{"v":9.7096e-06,"d":"9.71E-06"}},{"v":1.744565916324129E-5,"d":"1.74E-05"},{"v":0.08988,"d":"8.99E-02"},{"$f":"Tabelle7[[#This Row],['[kg/h']]]/Tabelle7[[#This Row],['[kg/m^3']4]]","v":{"v":785.0467289719626,"d":"785.05"}},{"v":124.20670263338175,"d":"124.21"},{"$f":"Tabelle7[[#This Row],['[m/s']]]/VLOOKUP(J57*0.00001,'Datenbak Werte'!$A$1:$C$500,3,TRUE)","v":{"v":0.08851674931113294,"d":"0.09"}},{"v":135273.0400125388,"d":"1.3527E+05"},{"v":2.1052631578947372E-3,"d":"2.1E-03"},{"$f":"Rohrreibungszahl(Tabelle7[[#This Row],['[-']]],Tabelle7[[#This Row],['[-']4]],Tabelle7[[#This Row],['[-']3]],Tabelle7[[#This Row],['[m']2]],Tabelle7[[#This Row],['[m']3]])","v":{"v":0.024955619213582438,"d":"2.50E-02"}},null,null,{"$f":"IF(Tabelle7[[#This Row],['[-']2]]>0,Tabelle7[[#This Row],['[-']2]]*(Tabelle7[[#This Row],['[kg/m^3']]]/2)*Tabelle7[[#This Row],['[m/s']]]^2,Druckverlust(Tabelle7[[#This Row],[Spalte1]],C57,U57,V57,P57,L57,O57,J57,K57,Q57,D57,E57))","v":{"v":1127.7654097079142,"d":"1127.77"}},0.011277654097079141,{"v":7.791712511730343,"d":"7.79"},{"v":7.780434857633264,"d":"7.78"},{"v":1127.7654097079142,"d":"1127.77"},{"$f":"SUM($AB$10:AB57)","v":{"v":1221956.5142366737,"d":"1221956.51"}}]
[null,"Ergebnis",{"$nulls":25},"Druckverlust gesamt in bar",{"$f":"SUBTOTAL(104,Tabelle7['[Pa']4])*0.00001","v":12.219565142366738}]

{"sheet":"Datenbak Werte","index":1,"n_rows":503,"n_cols":3,"rows_kept":503}
["Pressure (bar)","Viscosity (uPa*s)","Sound Spd, (m/s)"]
[0,9.707,1397.6]
[1,9.7074,1398.4]
[2,9.7077,1399.2]
[3,9.7081,1400]
[4,9.7084,1400.8]
[5,9.7088,1401.6]
[6,9.7092,1402.4]
[7,9.7096,1403.2]
[8,9.71,1404]
[9,9.7104,1404.8]
[10,9.7109,1405.6]
[11,9.7113,1406.5]
[12,9.7118,1407.3]
[13,9.7123,1408.1]
[14,9.7128,1408.9]
[15,9.7133,1409.7]
[16,9.7138,1410.5]
[17,9.7143,1411.3]
[18,9.7149,1412.1]
[19,9.7154,1412.9]
[20,9.716,1413.7]
[21,9.7166,1414.5]
[22,9.7171,1415.4]
[23,9.7177,1416.2]
[24,9.7184,1417]
[25,9.719,1417.8]
[26,9.7196,1418.6]
[27,9.7203,1419.4]
[28,9.7209,1420.2]
[29,9.7216,1421]
[30,9.7223,1421.8]
[31,9.723,1422.6]
[32,9.7237,1423.5]
[33,9.7244,1424.3]
[34,9.7251,1425.1]
[35,9.7258,1425.9]
[36,9.7266,1426.7]
[37,9.7273,1427.5]
[38,9.7281,1428.3]
[39,9.7289,1429.1]
[40,9.7297,1430]
[41,9.7305,1430.8]
[42,9.7313,1431.6]
[43,9.7321,1432.4]
[44,9.733,1433.2]
[45,9.7338,1434]
[46,9.7347,1434.8]
[47,9.7356,1435.6]
[48,9.7364,1436.5]
[49,9.7373,1437.3]
[50,9.7382,1438.1]
[51,9.7391,1438.9]
[52,9.7401,1439.7]
[53,9.741,1440.5]
[54,9.742,1441.3]
[55,9.7429,1442.2]
[56,9.7439,1443]
[57,9.7449,1443.8]
[58,9.7458,1444.6]
[59,9.7468,1445.4]
[60,9.7479,1446.2]
[61,9.7489,1447.1]
[62,9.7499,1447.9]
[63,9.7509,1448.7]
[64,9.752,1449.5]
[65,9.7531,1450.3]
[66,9.7541,1451.1]
[67,9.7552,1451.9]
[68,9.7563,1452.8]
[69,9.7574,1453.6]
[70,9.7585,1454.4]
[71,9.7596,1455.2]
[72,9.7608,1456]
[73,9.7619,1456.9]
[74,9.7631,1457.7]
[75,9.7642,1458.5]
[76,9.7654,1459.3]
[77,9.7666,1460.1]
[78,9.7678,1460.9]
[79,9.769,1461.8]
[80,9.7702,1462.6]
[81,9.7714,1463.4]
[82,9.7726,1464.2]
[83,9.7739,1465]
[84,9.7751,1465.9]
[85,9.7764,1466.7]
[86,9.7776,1467.5]
[87,9.7789,1468.3]
[88,9.7802,1469.1]
[89,9.7815,1469.9]
[90,9.7828,1470.8]
[91,9.7841,1471.6]
[92,9.7854,1472.4]
[93,9.7868,1473.2]
[94,9.7881,1474]
[95,9.7895,1474.9]
[96,9.7908,1475.7]
[97,9.7922,1476.5]
[98,9.7936,1477.3]
[99,9.795,1478.2]
[100,9.7964,1479]
[101,9.7978,1479.8]
[102,9.7992,1480.6]
[103,9.8006,1481.4]
[104,9.8021,1482.3]
[105,9.8035,1483.1]
[106,9.805,1483.9]
[107,9.8064,1484.7]
[108,9.8079,1485.5]
[109,9.8094,1486.4]
[110,9.8108,1487.2]
[111,9.8123,1488]
[112,9.8138,1488.8]
[113,9.8154,1489.7]
[114,9.8169,1490.5]
[115,9.8184,1491.3]
[116,9.82,1492.1]
[117,9.8215,1492.9]
[118,9.8231,1493.8]
[119,9.8246,1494.6]
[120,9.8262,1495.4]
[121,9.8278,1496.2]
[122,9.8294,1497.1]
[123,9.831,1497.9]
[124,9.8326,1498.7]
[125,9.8342,1499.5]
[126,9.8358,1500.4]
[127,9.8374,1501.2]
[128,9.8391,1502]
[129,9.8407,1502.8]
[130,9.8424,1503.7]
[131,9.8441,1504.5]
[132,9.8457,1505.3]
[133,9.8474,1506.1]
[134,9.8491,1506.9]
[135,9.8508,1507.8]
[136,9.8525,1508.6]
[137,9.8542,1509.4]
[138,9.8559,1510.2]
[139,9.8577,1511.1]
[140,9.8594,1511.9]
[141,9.8611,1512.7]
[142,9.8629,1513.5]
[143,9.8647,1514.4]
[144,9.8664,1515.2]
[145,9.8682,1516]
[146,9.87,1516.8]
[147,9.8718,1517.7]
[148,9.8736,1518.5]
[149,9.8754,1519.3]
[150,9.8772,1520.1]
[151,9.879,1521]
[152,9.8808,1521.8]
[153,9.8827,1522.6]
[154,9.8845,1523.4]
[155,9.8864,1524.3]
[156,9.8882,1525.1]
[157,9.8901,1525.9]
[158,9.892,1526.7]
[159,9.8939,1527.6]
[160,9.8958,1528.4]
[161,9.8976,1529.2]
[162,9.8996,1530]
[163,9.9015,1530.9]
[164,9.9034,1531.7]
[165,9.9053,1532.5]
[166,9.9072,1533.3]
[167,9.9092,1534.2]
[168,9.9111,1535]
[169,9.9131,1535.8]
[170,9.915,1536.6]
[171,9.917,1537.5]
[172,9.919,1538.3]
[173,9.921,1539.1]
[174,9.923,1539.9]
[175,9.925,1540.8]
[176,9.927,1541.6]
[177,9.929,1542.4]
[178,9.931,1543.2]
[179,9.933,1544.1]
[180,9.935,1544.9]
[181,9.9371,1545.7]
[182,9.9391,1546.5]
[183,9.9412,1547.4]
[184,9.9432,1548.2]
[185,9.9453,1549]
[186,9.9474,1549.9]
[187,9.9494,1550.7]
[188,9.9515,1551.5]
[189,9.9536,1552.3]
[190,9.9557,1553.2]
[191,9.9578,1554]
[192,9.9599,1554.8]
[193,9.962,1555.6]
[194,9.9642,1556.5]
[195,9.9663,1557.3]
[196,9.9684,1558.1]
[197,9.9706,1558.9]
[198,9.9727,1559.8]
[199,9.9749,1560.6]
[200,9.977,1561.4]
[201,9.9792,1562.2]
[202,9.9814,1563.1]
[203,9.9836,1563.9]
[204,9.9858,1564.7]
[205,9.9879,1565.5]
[206,9.9901,1566.4]
[207,9.9924,1567.2]
[208,9.9946,1568]
[209,9.9968,1568.8]
[210,9.999,1569.7]
[211,10.001,1570.5]
[212,10.003,1571.3]
[213,10.006,1572.1]
[214,10.008,1572.9]
[215,10.01,1573.8]
[216,10.012,1574.6]
[217,10.015,1575.4]
[218,10.017,1576.2]
[219,10.019,1577.1]
[220,10.022,1577.9]
[221,10.024,1578.7]
[222,10.026,1579.5]
[223,10.028,1580.4]
[224,10.031,1581.2]
[225,10.033,1582]
[226,10.035,1582.8]
[227,10.038,1583.7]
[228,10.04,1584.5]
[229,10.042,1585.3]
[230,10.045,1586.1]
[231,10.047,1587]
[232,10.049,1587.8]
[233,10.052,1588.6]
[234,10.054,1589.4]
[235,10.057,1590.2]
[236,10.059,1591.1]
[237,10.061,1591.9]
[238,10.064,1592.7]
[239,10.066,1593.5]
[240,10.068,1594.4]
[241,10.071,1595.2]
[242,10.073,1596]
[243,10.076,1596.8]
[244,10.078,1597.7]
[245,10.081,1598.5]
[246,10.083,1599.3]
[247,10.085,1600.1]
[248,10.088,1600.9]
[249,10.09,1601.8]
[250,10.093,1602.6]
[251,10.095,1603.4]
[252,10.098,1604.2]
[253,10.1,1605]
[254,10.103,1605.9]
[255,10.105,1606.7]
[256,10.108,1607.5]
[257,10.11,1608.3]
[258,10.113,1609.2]
[259,10.115,1610]
[260,10.118,1610.8]
[261,10.12,1611.6]
[262,10.123,1612.4]
[263,10.125,1613.3]
[264,10.128,1614.1]
[265,10.13,1614.9]
[266,10.133,1615.7]
[267,10.135,1616.5]
[268,10.138,1617.4]
[269,10.14,1618.2]
[270,10.143,1619]
[271,10.145,1619.8]
[272,10.148,1620.6]
[273,10.151,1621.5]
[274,10.153,1622.3]
[275,10.156,1623.1]
[276,10.158,1623.9]
[277,10.161,1624.7]
[278,10.164,1625.6]
[279,10.166,1626.4]
[280,10.169,1627.2]
[281,10.171,1628]
[282,10.174,1628.8]
[283,10.177,1629.6]
[284,10.179,1630.5]
[285,10.182,1631.3]
[286,10.184,1632.1]
[287,10.187,1632.9]
[288,10.19,1633.7]
[289,10.192,1634.6]
[290,10.195,1635.4]
[291,10.198,1636.2]
[292,10.2,1637]
[293,10.203,1637.8]
[294,10.206,1638.6]
[295,10.208,1639.5]
[296,10.211,1640.3]
[297,10.214,1641.1]
[298,10.216,1641.9]
[299,10.219,1642.7]
[300,10.222,1643.5]
[301,10.224,1644.4]
[302,10.227,1645.2]
[303,10.23,1646]
[304,10.233,1646.8]
[305,10.235,1647.6]
[306,10.238,1648.4]
[307,10.241,1649.2]
[308,10.243,1650.1]
[309,10.246,1650.9]
[310,10.249,1651.7]
[311,10.252,1652.5]
[312,10.254,1653.3]
[313,10.257,1654.1]
[314,10.26,1654.9]
[315,10.263,1655.8]
[316,10.265,1656.6]
[317,10.268,1657.4]
[318,10.271,1658.2]
[319,10.274,1659]
[320,10.277,1659.8]
[321,10.279,1660.6]
[322,10.282,1661.5]
[323,10.285,1662.3]
[324,10.288,1663.1]
[325,10.29,1663.9]
[326,10.293,1664.7]
[327,10.296,1665.5]
[328,10.299,1666.3]
[329,10.302,1667.1]
[330,10.305,1668]
[331,10.307,1668.8]
[332,10.31,1669.6]
[333,10.313,1670.4]
[334,10.316,1671.2]
[335,10.319,1672]
[336,10.322,1672.8]
[337,10.324,1673.6]
[338,10.327,1674.4]
[339,10.33,1675.3]
[340,10.333,1676.1]
[341,10.336,1676.9]
[342,10.339,1677.7]
[343,10.342,1678.5]
[344,10.344,1679.3]
[345,10.347,1680.1]
[346,10.35,1680.9]
[347,10.353,1681.7]
[348,10.356,1682.5]
[349,10.359,1683.4]
[350,10.362,1684.2]
[351,10.365,1685]
[352,10.368,1685.8]
[353,10.37,1686.6]
[354,10.373,1687.4]
[355,10.376,1688.2]
[356,10.379,1689]
[357,10.382,1689.8]
[358,10.385,1690.6]
[359,10.388,1691.4]
[360,10.391,1692.2]
[361,10.394,1693]
[362,10.397,1693.9]
[363,10.4,1694.7]
[364,10.403,1695.5]
[365,10.406,1696.3]
[366,10.409,1697.1]
[367,10.411,1697.9]
[368,10.414,1698.7]
[369,10.417,1699.5]
[370,10.42,1700.3]
[371,10.423,1701.1]
[372,10.426,1701.9]
[373,10.429,1702.7]
[374,10.432,1703.5]
[375,10.435,1704.3]
[376,10.438,1705.1]
[377,10.441,1705.9]
[378,10.444,1706.7]
[379,10.447,1707.5]
[380,10.45,1708.3]
[381,10.453,1709.2]
[382,10.456,1710]
[383,10.459,1710.8]
[384,10.462,1711.6]
[385,10.465,1712.4]
[386,10.468,1713.2]
[387,10.471,1714]
[388,10.474,1714.8]
[389,10.477,1715.6]
[390,10.48,1716.4]
[391,10.483,1717.2]
[392,10.486,1718]
[393,10.489,1718.8]
[394,10.493,1719.6]
[395,10.496,1720.4]
[396,10.499,1721.2]
[397,10.502,1722]
[398,10.505,1722.8]
[399,10.508,1723.6]
[400,10.511,1724.4]
[401,10.514,1725.2]
[402,10.517,1726]
[403,10.52,1726.8]
[404,10.523,1727.6]
[405,10.526,1728.4]
[406,10.529,1729.2]
[407,10.532,1730]
[408,10.535,1730.8]
[409,10.539,1731.6]
[410,10.542,1732.4]
[411,10.545,1733.2]
[412,10.548,1734]
[413,10.551,1734.8]
[414,10.554,1735.6]
[415,10.557,1736.4]
[416,10.56,1737.2]
[417,10.563,1738]
[418,10.566,1738.8]
[419,10.57,1739.6]
[420,10.573,1740.4]
[421,10.576,1741.2]
[422,10.579,1741.9]
[423,10.582,1742.7]
[424,10.585,1743.5]
[425,10.588,1744.3]
[426,10.591,1745.1]
[427,10.595,1745.9]
[428,10.598,1746.7]
[429,10.601,1747.5]
[430,10.604,1748.3]
[431,10.607,1749.1]
[432,10.61,1749.9]
[433,10.613,1750.7]
[434,10.617,1751.5]
[435,10.62,1752.3]
[436,10.623,1753.1]
[437,10.626,1753.9]
[438,10.629,1754.7]
[439,10.632,1755.5]
[440,10.636,1756.2]
[441,10.639,1757]
[442,10.642,1757.8]
[443,10.645,1758.6]
[444,10.648,1759.4]
[445,10.652,1760.2]
[446,10.655,1761]
[447,10.658,1761.8]
[448,10.661,1762.6]
[449,10.664,1763.4]
[450,10.668,1764.2]
[451,10.671,1765]
[452,10.674,1765.7]
[453,10.677,1766.5]
[454,10.68,1767.3]
[455,10.684,1768.1]
[456,10.687,1768.9]
[457,10.69,1769.7]
[458,10.693,1770.5]
[459,10.696,1771.3]
[460,10.7,1772.1]
[461,10.703,1772.9]
[462,10.706,1773.6]
[463,10.709,1774.4]
[464,10.713,1775.2]
[465,10.716,1776]
[466,10.719,1776.8]
[467,10.722,1777.6]
[468,10.726,1778.4]
[469,10.729,1779.2]
[470,10.732,1779.9]
[471,10.735,1780.7]
[472,10.739,1781.5]
[473,10.742,1782.3]
[474,10.745,1783.1]
[475,10.748,1783.9]
[476,10.752,1784.7]
[477,10.755,1785.5]
[478,10.758,1786.2]
[479,10.761,1787]
[480,10.765,1787.8]
[481,10.768,1788.6]
[482,10.771,1789.4]
[483,10.774,1790.2]
[484,10.778,1790.9]
[485,10.781,1791.7]
[486,10.784,1792.5]
[487,10.788,1793.3]
[488,10.791,1794.1]
[489,10.794,1794.9]
[490,10.797,1795.6]
[491,10.801,1796.4]
[492,10.804,1797.2]
[493,10.807,1798]
[494,10.811,1798.8]
[495,10.814,1799.6]
[496,10.817,1800.3]
[497,10.821,1801.1]
[498,10.824,1801.9]
[499,10.827,1802.7]
[500,10.831,1803.5]
[500]